BEGIN:VCALENDAR
VERSION:2.0
PRODID:-//Huntington Harbour Yacht Club - Huntington Beach, CA - ECPv6.15.20//NONSGML v1.0//EN
CALSCALE:GREGORIAN
METHOD:PUBLISH
X-WR-CALNAME:Huntington Harbour Yacht Club - Huntington Beach, CA
X-ORIGINAL-URL:https://hhyc.org
X-WR-CALDESC:Events for Huntington Harbour Yacht Club - Huntington Beach, CA
REFRESH-INTERVAL;VALUE=DURATION:PT1H
X-Robots-Tag:noindex
X-PUBLISHED-TTL:PT1H
BEGIN:VTIMEZONE
TZID:America/Los_Angeles
BEGIN:DAYLIGHT
TZOFFSETFROM:-0800
TZOFFSETTO:-0700
TZNAME:PDT
DTSTART:20250309T100000
END:DAYLIGHT
BEGIN:STANDARD
TZOFFSETFROM:-0700
TZOFFSETTO:-0800
TZNAME:PST
DTSTART:20251102T090000
END:STANDARD
BEGIN:DAYLIGHT
TZOFFSETFROM:-0800
TZOFFSETTO:-0700
TZNAME:PDT
DTSTART:20260308T100000
END:DAYLIGHT
BEGIN:STANDARD
TZOFFSETFROM:-0700
TZOFFSETTO:-0800
TZNAME:PST
DTSTART:20261101T090000
END:STANDARD
BEGIN:DAYLIGHT
TZOFFSETFROM:-0800
TZOFFSETTO:-0700
TZNAME:PDT
DTSTART:20270314T100000
END:DAYLIGHT
BEGIN:STANDARD
TZOFFSETFROM:-0700
TZOFFSETTO:-0800
TZNAME:PST
DTSTART:20271107T090000
END:STANDARD
END:VTIMEZONE
BEGIN:VEVENT
DTSTART;TZID=America/Los_Angeles:20260428T170000
DTEND;TZID=America/Los_Angeles:20260428T210000
DTSTAMP:20260422T120522
CREATED:20240712T172034Z
LAST-MODIFIED:20240712T172036Z
UID:10002451-1777395600-1777410000@hhyc.org
SUMMARY:Taco Tuesday 5pm
DESCRIPTION:Bar Hours: 4:30 PM to 9:00 PMFood Service: 5:00 PM – 8:00 PM(Last call for food orders – 7:45 PM)
URL:https://hhyc.org/event/taco-tuesday-5pm-3/2026-04-28/
END:VEVENT
BEGIN:VEVENT
DTSTART;TZID=America/Los_Angeles:20260505T170000
DTEND;TZID=America/Los_Angeles:20260505T210000
DTSTAMP:20260422T120522
CREATED:20240712T172034Z
LAST-MODIFIED:20240712T172036Z
UID:10002452-1778000400-1778014800@hhyc.org
SUMMARY:Taco Tuesday 5pm
DESCRIPTION:Bar Hours: 4:30 PM to 9:00 PMFood Service: 5:00 PM – 8:00 PM(Last call for food orders – 7:45 PM)
URL:https://hhyc.org/event/taco-tuesday-5pm-3/2026-05-05/
END:VEVENT
BEGIN:VEVENT
DTSTART;TZID=America/Los_Angeles:20260512T170000
DTEND;TZID=America/Los_Angeles:20260512T210000
DTSTAMP:20260422T120522
CREATED:20240712T172034Z
LAST-MODIFIED:20240712T172036Z
UID:10002453-1778605200-1778619600@hhyc.org
SUMMARY:Taco Tuesday 5pm
DESCRIPTION:Bar Hours: 4:30 PM to 9:00 PMFood Service: 5:00 PM – 8:00 PM(Last call for food orders – 7:45 PM)
URL:https://hhyc.org/event/taco-tuesday-5pm-3/2026-05-12/
END:VEVENT
BEGIN:VEVENT
DTSTART;TZID=America/Los_Angeles:20260519T170000
DTEND;TZID=America/Los_Angeles:20260519T210000
DTSTAMP:20260422T120522
CREATED:20240712T172034Z
LAST-MODIFIED:20240712T172036Z
UID:10002454-1779210000-1779224400@hhyc.org
SUMMARY:Taco Tuesday 5pm
DESCRIPTION:Bar Hours: 4:30 PM to 9:00 PMFood Service: 5:00 PM – 8:00 PM(Last call for food orders – 7:45 PM)
URL:https://hhyc.org/event/taco-tuesday-5pm-3/2026-05-19/
END:VEVENT
BEGIN:VEVENT
DTSTART;TZID=America/Los_Angeles:20260526T170000
DTEND;TZID=America/Los_Angeles:20260526T210000
DTSTAMP:20260422T120522
CREATED:20240712T172034Z
LAST-MODIFIED:20240712T172036Z
UID:10002455-1779814800-1779829200@hhyc.org
SUMMARY:Taco Tuesday 5pm
DESCRIPTION:Bar Hours: 4:30 PM to 9:00 PMFood Service: 5:00 PM – 8:00 PM(Last call for food orders – 7:45 PM)
URL:https://hhyc.org/event/taco-tuesday-5pm-3/2026-05-26/
END:VEVENT
BEGIN:VEVENT
DTSTART;TZID=America/Los_Angeles:20260602T170000
DTEND;TZID=America/Los_Angeles:20260602T210000
DTSTAMP:20260422T120522
CREATED:20240712T172034Z
LAST-MODIFIED:20240712T172036Z
UID:10002456-1780419600-1780434000@hhyc.org
SUMMARY:Taco Tuesday 5pm
DESCRIPTION:Bar Hours: 4:30 PM to 9:00 PMFood Service: 5:00 PM – 8:00 PM(Last call for food orders – 7:45 PM)
URL:https://hhyc.org/event/taco-tuesday-5pm-3/2026-06-02/
END:VEVENT
BEGIN:VEVENT
DTSTART;TZID=America/Los_Angeles:20260609T170000
DTEND;TZID=America/Los_Angeles:20260609T210000
DTSTAMP:20260422T120522
CREATED:20240712T172034Z
LAST-MODIFIED:20240712T172036Z
UID:10002457-1781024400-1781038800@hhyc.org
SUMMARY:Taco Tuesday 5pm
DESCRIPTION:Bar Hours: 4:30 PM to 9:00 PMFood Service: 5:00 PM – 8:00 PM(Last call for food orders – 7:45 PM)
URL:https://hhyc.org/event/taco-tuesday-5pm-3/2026-06-09/
END:VEVENT
BEGIN:VEVENT
DTSTART;TZID=America/Los_Angeles:20260616T170000
DTEND;TZID=America/Los_Angeles:20260616T210000
DTSTAMP:20260422T120522
CREATED:20240712T172034Z
LAST-MODIFIED:20240712T172036Z
UID:10002458-1781629200-1781643600@hhyc.org
SUMMARY:Taco Tuesday 5pm
DESCRIPTION:Bar Hours: 4:30 PM to 9:00 PMFood Service: 5:00 PM – 8:00 PM(Last call for food orders – 7:45 PM)
URL:https://hhyc.org/event/taco-tuesday-5pm-3/2026-06-16/
END:VEVENT
BEGIN:VEVENT
DTSTART;TZID=America/Los_Angeles:20260623T170000
DTEND;TZID=America/Los_Angeles:20260623T210000
DTSTAMP:20260422T120522
CREATED:20240712T172034Z
LAST-MODIFIED:20240712T172036Z
UID:10002459-1782234000-1782248400@hhyc.org
SUMMARY:Taco Tuesday 5pm
DESCRIPTION:Bar Hours: 4:30 PM to 9:00 PMFood Service: 5:00 PM – 8:00 PM(Last call for food orders – 7:45 PM)
URL:https://hhyc.org/event/taco-tuesday-5pm-3/2026-06-23/
END:VEVENT
BEGIN:VEVENT
DTSTART;TZID=America/Los_Angeles:20260630T170000
DTEND;TZID=America/Los_Angeles:20260630T210000
DTSTAMP:20260422T120522
CREATED:20240712T172034Z
LAST-MODIFIED:20240712T172036Z
UID:10002460-1782838800-1782853200@hhyc.org
SUMMARY:Taco Tuesday 5pm
DESCRIPTION:Bar Hours: 4:30 PM to 9:00 PMFood Service: 5:00 PM – 8:00 PM(Last call for food orders – 7:45 PM)
URL:https://hhyc.org/event/taco-tuesday-5pm-3/2026-06-30/
END:VEVENT
BEGIN:VEVENT
DTSTART;TZID=America/Los_Angeles:20260707T170000
DTEND;TZID=America/Los_Angeles:20260707T210000
DTSTAMP:20260422T120522
CREATED:20240712T172034Z
LAST-MODIFIED:20240712T172036Z
UID:10002461-1783443600-1783458000@hhyc.org
SUMMARY:Taco Tuesday 5pm
DESCRIPTION:Bar Hours: 4:30 PM to 9:00 PMFood Service: 5:00 PM – 8:00 PM(Last call for food orders – 7:45 PM)
URL:https://hhyc.org/event/taco-tuesday-5pm-3/2026-07-07/
END:VEVENT
BEGIN:VEVENT
DTSTART;TZID=America/Los_Angeles:20260714T170000
DTEND;TZID=America/Los_Angeles:20260714T210000
DTSTAMP:20260422T120522
CREATED:20240712T172034Z
LAST-MODIFIED:20240712T172036Z
UID:10002462-1784048400-1784062800@hhyc.org
SUMMARY:Taco Tuesday 5pm
DESCRIPTION:Bar Hours: 4:30 PM to 9:00 PMFood Service: 5:00 PM – 8:00 PM(Last call for food orders – 7:45 PM)
URL:https://hhyc.org/event/taco-tuesday-5pm-3/2026-07-14/
END:VEVENT
BEGIN:VEVENT
DTSTART;TZID=America/Los_Angeles:20260721T170000
DTEND;TZID=America/Los_Angeles:20260721T210000
DTSTAMP:20260422T120522
CREATED:20240712T172034Z
LAST-MODIFIED:20240712T172036Z
UID:10002463-1784653200-1784667600@hhyc.org
SUMMARY:Taco Tuesday 5pm
DESCRIPTION:Bar Hours: 4:30 PM to 9:00 PMFood Service: 5:00 PM – 8:00 PM(Last call for food orders – 7:45 PM)
URL:https://hhyc.org/event/taco-tuesday-5pm-3/2026-07-21/
END:VEVENT
BEGIN:VEVENT
DTSTART;TZID=America/Los_Angeles:20260728T170000
DTEND;TZID=America/Los_Angeles:20260728T210000
DTSTAMP:20260422T120522
CREATED:20240712T172034Z
LAST-MODIFIED:20240712T172036Z
UID:10002464-1785258000-1785272400@hhyc.org
SUMMARY:Taco Tuesday 5pm
DESCRIPTION:Bar Hours: 4:30 PM to 9:00 PMFood Service: 5:00 PM – 8:00 PM(Last call for food orders – 7:45 PM)
URL:https://hhyc.org/event/taco-tuesday-5pm-3/2026-07-28/
END:VEVENT
BEGIN:VEVENT
DTSTART;TZID=America/Los_Angeles:20260804T170000
DTEND;TZID=America/Los_Angeles:20260804T210000
DTSTAMP:20260422T120522
CREATED:20240712T172034Z
LAST-MODIFIED:20240712T172036Z
UID:10002465-1785862800-1785877200@hhyc.org
SUMMARY:Taco Tuesday 5pm
DESCRIPTION:Bar Hours: 4:30 PM to 9:00 PMFood Service: 5:00 PM – 8:00 PM(Last call for food orders – 7:45 PM)
URL:https://hhyc.org/event/taco-tuesday-5pm-3/2026-08-04/
END:VEVENT
BEGIN:VEVENT
DTSTART;TZID=America/Los_Angeles:20260811T170000
DTEND;TZID=America/Los_Angeles:20260811T210000
DTSTAMP:20260422T120522
CREATED:20240712T172034Z
LAST-MODIFIED:20240712T172036Z
UID:10002466-1786467600-1786482000@hhyc.org
SUMMARY:Taco Tuesday 5pm
DESCRIPTION:Bar Hours: 4:30 PM to 9:00 PMFood Service: 5:00 PM – 8:00 PM(Last call for food orders – 7:45 PM)
URL:https://hhyc.org/event/taco-tuesday-5pm-3/2026-08-11/
END:VEVENT
BEGIN:VEVENT
DTSTART;TZID=America/Los_Angeles:20260818T170000
DTEND;TZID=America/Los_Angeles:20260818T210000
DTSTAMP:20260422T120522
CREATED:20240712T172034Z
LAST-MODIFIED:20240712T172036Z
UID:10002467-1787072400-1787086800@hhyc.org
SUMMARY:Taco Tuesday 5pm
DESCRIPTION:Bar Hours: 4:30 PM to 9:00 PMFood Service: 5:00 PM – 8:00 PM(Last call for food orders – 7:45 PM)
URL:https://hhyc.org/event/taco-tuesday-5pm-3/2026-08-18/
END:VEVENT
BEGIN:VEVENT
DTSTART;TZID=America/Los_Angeles:20260825T170000
DTEND;TZID=America/Los_Angeles:20260825T210000
DTSTAMP:20260422T120522
CREATED:20240712T172034Z
LAST-MODIFIED:20240712T172036Z
UID:10002468-1787677200-1787691600@hhyc.org
SUMMARY:Taco Tuesday 5pm
DESCRIPTION:Bar Hours: 4:30 PM to 9:00 PMFood Service: 5:00 PM – 8:00 PM(Last call for food orders – 7:45 PM)
URL:https://hhyc.org/event/taco-tuesday-5pm-3/2026-08-25/
END:VEVENT
BEGIN:VEVENT
DTSTART;TZID=America/Los_Angeles:20260901T170000
DTEND;TZID=America/Los_Angeles:20260901T210000
DTSTAMP:20260422T120522
CREATED:20240712T172034Z
LAST-MODIFIED:20240712T172036Z
UID:10002469-1788282000-1788296400@hhyc.org
SUMMARY:Taco Tuesday 5pm
DESCRIPTION:Bar Hours: 4:30 PM to 9:00 PMFood Service: 5:00 PM – 8:00 PM(Last call for food orders – 7:45 PM)
URL:https://hhyc.org/event/taco-tuesday-5pm-3/2026-09-01/
END:VEVENT
BEGIN:VEVENT
DTSTART;TZID=America/Los_Angeles:20260908T170000
DTEND;TZID=America/Los_Angeles:20260908T210000
DTSTAMP:20260422T120522
CREATED:20240712T172034Z
LAST-MODIFIED:20240712T172036Z
UID:10002470-1788886800-1788901200@hhyc.org
SUMMARY:Taco Tuesday 5pm
DESCRIPTION:Bar Hours: 4:30 PM to 9:00 PMFood Service: 5:00 PM – 8:00 PM(Last call for food orders – 7:45 PM)
URL:https://hhyc.org/event/taco-tuesday-5pm-3/2026-09-08/
END:VEVENT
BEGIN:VEVENT
DTSTART;TZID=America/Los_Angeles:20260915T170000
DTEND;TZID=America/Los_Angeles:20260915T210000
DTSTAMP:20260422T120522
CREATED:20240712T172034Z
LAST-MODIFIED:20240712T172036Z
UID:10002471-1789491600-1789506000@hhyc.org
SUMMARY:Taco Tuesday 5pm
DESCRIPTION:Bar Hours: 4:30 PM to 9:00 PMFood Service: 5:00 PM – 8:00 PM(Last call for food orders – 7:45 PM)
URL:https://hhyc.org/event/taco-tuesday-5pm-3/2026-09-15/
END:VEVENT
BEGIN:VEVENT
DTSTART;TZID=America/Los_Angeles:20260922T170000
DTEND;TZID=America/Los_Angeles:20260922T210000
DTSTAMP:20260422T120522
CREATED:20240712T172034Z
LAST-MODIFIED:20240712T172036Z
UID:10002472-1790096400-1790110800@hhyc.org
SUMMARY:Taco Tuesday 5pm
DESCRIPTION:Bar Hours: 4:30 PM to 9:00 PMFood Service: 5:00 PM – 8:00 PM(Last call for food orders – 7:45 PM)
URL:https://hhyc.org/event/taco-tuesday-5pm-3/2026-09-22/
END:VEVENT
BEGIN:VEVENT
DTSTART;TZID=America/Los_Angeles:20260929T170000
DTEND;TZID=America/Los_Angeles:20260929T210000
DTSTAMP:20260422T120522
CREATED:20240712T172034Z
LAST-MODIFIED:20240712T172036Z
UID:10002473-1790701200-1790715600@hhyc.org
SUMMARY:Taco Tuesday 5pm
DESCRIPTION:Bar Hours: 4:30 PM to 9:00 PMFood Service: 5:00 PM – 8:00 PM(Last call for food orders – 7:45 PM)
URL:https://hhyc.org/event/taco-tuesday-5pm-3/2026-09-29/
END:VEVENT
BEGIN:VEVENT
DTSTART;TZID=America/Los_Angeles:20261006T170000
DTEND;TZID=America/Los_Angeles:20261006T210000
DTSTAMP:20260422T120522
CREATED:20240712T172034Z
LAST-MODIFIED:20240712T172036Z
UID:10002474-1791306000-1791320400@hhyc.org
SUMMARY:Taco Tuesday 5pm
DESCRIPTION:Bar Hours: 4:30 PM to 9:00 PMFood Service: 5:00 PM – 8:00 PM(Last call for food orders – 7:45 PM)
URL:https://hhyc.org/event/taco-tuesday-5pm-3/2026-10-06/
END:VEVENT
BEGIN:VEVENT
DTSTART;TZID=America/Los_Angeles:20261013T170000
DTEND;TZID=America/Los_Angeles:20261013T210000
DTSTAMP:20260422T120522
CREATED:20240712T172034Z
LAST-MODIFIED:20240712T172036Z
UID:10002475-1791910800-1791925200@hhyc.org
SUMMARY:Taco Tuesday 5pm
DESCRIPTION:Bar Hours: 4:30 PM to 9:00 PMFood Service: 5:00 PM – 8:00 PM(Last call for food orders – 7:45 PM)
URL:https://hhyc.org/event/taco-tuesday-5pm-3/2026-10-13/
END:VEVENT
BEGIN:VEVENT
DTSTART;TZID=America/Los_Angeles:20261020T170000
DTEND;TZID=America/Los_Angeles:20261020T210000
DTSTAMP:20260422T120522
CREATED:20240712T172034Z
LAST-MODIFIED:20240712T172036Z
UID:10002476-1792515600-1792530000@hhyc.org
SUMMARY:Taco Tuesday 5pm
DESCRIPTION:Bar Hours: 4:30 PM to 9:00 PMFood Service: 5:00 PM – 8:00 PM(Last call for food orders – 7:45 PM)
URL:https://hhyc.org/event/taco-tuesday-5pm-3/2026-10-20/
END:VEVENT
BEGIN:VEVENT
DTSTART;TZID=America/Los_Angeles:20261027T170000
DTEND;TZID=America/Los_Angeles:20261027T210000
DTSTAMP:20260422T120522
CREATED:20240712T172034Z
LAST-MODIFIED:20240712T172036Z
UID:10002477-1793120400-1793134800@hhyc.org
SUMMARY:Taco Tuesday 5pm
DESCRIPTION:Bar Hours: 4:30 PM to 9:00 PMFood Service: 5:00 PM – 8:00 PM(Last call for food orders – 7:45 PM)
URL:https://hhyc.org/event/taco-tuesday-5pm-3/2026-10-27/
END:VEVENT
BEGIN:VEVENT
DTSTART;TZID=America/Los_Angeles:20261103T170000
DTEND;TZID=America/Los_Angeles:20261103T210000
DTSTAMP:20260422T120522
CREATED:20240712T172034Z
LAST-MODIFIED:20240712T172036Z
UID:10002478-1793725200-1793739600@hhyc.org
SUMMARY:Taco Tuesday 5pm
DESCRIPTION:Bar Hours: 4:30 PM to 9:00 PMFood Service: 5:00 PM – 8:00 PM(Last call for food orders – 7:45 PM)
URL:https://hhyc.org/event/taco-tuesday-5pm-3/2026-11-03/
END:VEVENT
BEGIN:VEVENT
DTSTART;TZID=America/Los_Angeles:20261110T170000
DTEND;TZID=America/Los_Angeles:20261110T210000
DTSTAMP:20260422T120522
CREATED:20240712T172034Z
LAST-MODIFIED:20240712T172036Z
UID:10002479-1794330000-1794344400@hhyc.org
SUMMARY:Taco Tuesday 5pm
DESCRIPTION:Bar Hours: 4:30 PM to 9:00 PMFood Service: 5:00 PM – 8:00 PM(Last call for food orders – 7:45 PM)
URL:https://hhyc.org/event/taco-tuesday-5pm-3/2026-11-10/
END:VEVENT
BEGIN:VEVENT
DTSTART;TZID=America/Los_Angeles:20261117T170000
DTEND;TZID=America/Los_Angeles:20261117T210000
DTSTAMP:20260422T120522
CREATED:20240712T172034Z
LAST-MODIFIED:20240712T172036Z
UID:10002480-1794934800-1794949200@hhyc.org
SUMMARY:Taco Tuesday 5pm
DESCRIPTION:Bar Hours: 4:30 PM to 9:00 PMFood Service: 5:00 PM – 8:00 PM(Last call for food orders – 7:45 PM)
URL:https://hhyc.org/event/taco-tuesday-5pm-3/2026-11-17/
END:VEVENT
END:VCALENDAR