BEGIN:VCALENDAR
VERSION:2.0
PRODID:-//Huntington Harbour Yacht Club - Huntington Beach, CA - ECPv6.15.20//NONSGML v1.0//EN
CALSCALE:GREGORIAN
METHOD:PUBLISH
X-ORIGINAL-URL:https://hhyc.org
X-WR-CALDESC:Events for Huntington Harbour Yacht Club - Huntington Beach, CA
REFRESH-INTERVAL;VALUE=DURATION:PT1H
X-Robots-Tag:noindex
X-PUBLISHED-TTL:PT1H
BEGIN:VTIMEZONE
TZID:America/Los_Angeles
BEGIN:DAYLIGHT
TZOFFSETFROM:-0800
TZOFFSETTO:-0700
TZNAME:PDT
DTSTART:20240310T100000
END:DAYLIGHT
BEGIN:STANDARD
TZOFFSETFROM:-0700
TZOFFSETTO:-0800
TZNAME:PST
DTSTART:20241103T090000
END:STANDARD
BEGIN:DAYLIGHT
TZOFFSETFROM:-0800
TZOFFSETTO:-0700
TZNAME:PDT
DTSTART:20250309T100000
END:DAYLIGHT
BEGIN:STANDARD
TZOFFSETFROM:-0700
TZOFFSETTO:-0800
TZNAME:PST
DTSTART:20251102T090000
END:STANDARD
BEGIN:DAYLIGHT
TZOFFSETFROM:-0800
TZOFFSETTO:-0700
TZNAME:PDT
DTSTART:20260308T100000
END:DAYLIGHT
BEGIN:STANDARD
TZOFFSETFROM:-0700
TZOFFSETTO:-0800
TZNAME:PST
DTSTART:20261101T090000
END:STANDARD
END:VTIMEZONE
BEGIN:VEVENT
DTSTART;TZID=America/Los_Angeles:20250401T170000
DTEND;TZID=America/Los_Angeles:20250401T210000
DTSTAMP:20260420T200542
CREATED:20240712T172034Z
LAST-MODIFIED:20240712T172036Z
UID:10002395-1743526800-1743541200@hhyc.org
SUMMARY:Taco Tuesday 5pm
DESCRIPTION:Bar Hours: 4:30 PM to 9:00 PMFood Service: 5:00 PM – 8:00 PM(Last call for food orders – 7:45 PM)
URL:https://hhyc.org/event/taco-tuesday-5pm-3/2025-04-01/
END:VEVENT
BEGIN:VEVENT
DTSTART;TZID=America/Los_Angeles:20250402T100000
DTEND;TZID=America/Los_Angeles:20250402T140000
DTSTAMP:20260420T200542
CREATED:20241204T204438Z
LAST-MODIFIED:20241204T204446Z
UID:10003989-1743588000-1743602400@hhyc.org
SUMMARY:Sea Belles Luncheon
DESCRIPTION:
URL:https://hhyc.org/event/sea-belles-luncheon-3/2025-04-02/
END:VEVENT
BEGIN:VEVENT
DTSTART;TZID=America/Los_Angeles:20250404T163000
DTEND;TZID=America/Los_Angeles:20250404T210000
DTSTAMP:20260420T200542
CREATED:20240530T063534Z
LAST-MODIFIED:20240715T144602Z
UID:10002863-1743784200-1743800400@hhyc.org
SUMMARY:Friday Night Dinner 4:30pm - 9pm
DESCRIPTION:
URL:https://hhyc.org/event/friday-night-dinner-430pm-9pm/2025-04-04/
END:VEVENT
BEGIN:VEVENT
DTSTART;TZID=America/Los_Angeles:20250406T103000
DTEND;TZID=America/Los_Angeles:20250406T130000
DTSTAMP:20260420T200542
CREATED:20240623T005036Z
LAST-MODIFIED:20241204T194827Z
UID:10003878-1743935400-1743944400@hhyc.org
SUMMARY:Sunday Breakfast by the bay 10:30am - 1pm
DESCRIPTION:Open to the Public!  \n\n\n\n \n\n\n\nEnjoy our breathtaking harborside views while sipping on a mimosa and indulging in our delicious breakfast offerings!
URL:https://hhyc.org/event/sunday-brunch-1030am-1pm-2/2025-04-06/
END:VEVENT
BEGIN:VEVENT
DTSTART;TZID=America/Los_Angeles:20250406T130000
DTEND;TZID=America/Los_Angeles:20250406T180000
DTSTAMP:20260420T200542
CREATED:20240530T065316Z
LAST-MODIFIED:20240715T165503Z
UID:10003718-1743944400-1743962400@hhyc.org
SUMMARY:Commodore's Lounge 1pm-6pm
DESCRIPTION:Bar only with popcorn and our famous Parson’s Pretzels!
URL:https://hhyc.org/event/commodores-lounge-1pm-6pm/2025-04-06/
END:VEVENT
BEGIN:VEVENT
DTSTART;TZID=America/Los_Angeles:20250407T113000
DTEND;TZID=America/Los_Angeles:20250407T150000
DTSTAMP:20260420T200542
CREATED:20240530T065656Z
LAST-MODIFIED:20241204T200224Z
UID:10003922-1744025400-1744038000@hhyc.org
SUMMARY:Bridge Night
DESCRIPTION:Please contact the office for more information – 562.592.2186 (10a-3p)
URL:https://hhyc.org/event/bridge-night/2025-04-07/
END:VEVENT
BEGIN:VEVENT
DTSTART;TZID=America/Los_Angeles:20250408T170000
DTEND;TZID=America/Los_Angeles:20250408T210000
DTSTAMP:20260420T200542
CREATED:20240712T172034Z
LAST-MODIFIED:20240712T172036Z
UID:10002396-1744131600-1744146000@hhyc.org
SUMMARY:Taco Tuesday 5pm
DESCRIPTION:Bar Hours: 4:30 PM to 9:00 PMFood Service: 5:00 PM – 8:00 PM(Last call for food orders – 7:45 PM)
URL:https://hhyc.org/event/taco-tuesday-5pm-3/2025-04-08/
END:VEVENT
BEGIN:VEVENT
DTSTART;TZID=America/Los_Angeles:20250409T180000
DTEND;TZID=America/Los_Angeles:20250409T210000
DTSTAMP:20260420T200542
CREATED:20240530T232016Z
LAST-MODIFIED:20240715T165211Z
UID:10003457-1744221600-1744232400@hhyc.org
SUMMARY:Board Meeting 6pm
DESCRIPTION:
URL:https://hhyc.org/event/board-meeting-6pm/2025-04-09/
END:VEVENT
BEGIN:VEVENT
DTSTART;TZID=America/Los_Angeles:20250411T180000
DTEND;TZID=America/Los_Angeles:20250411T220000
DTSTAMP:20260420T200542
CREATED:20241204T200651Z
LAST-MODIFIED:20250320T180754Z
UID:10003964-1744394400-1744408800@hhyc.org
SUMMARY:Birthday Dinner March/April
DESCRIPTION:Join us for our March & April Birthday Dinner on April 11th!  \n\n\n\nWe have a delicious menu for our seated plated 3-course dinner. Featuring the musical stylings of Dave Alcantar.  \n\n\n\n(Nonmembers not permitted unless accompanied by an active HHYC member sponsor) \n\n\n\nRSVP required\, please fill out the form below the flyer.  \n\n\n\n\n\n\n\n\nPlease enable JavaScript in your browser to complete this form.Please enable JavaScript in your browser to complete this form.Name *FirstLastEmail *Total # of Guests (please list their names) in Your PartyName(s) of Birthday Celebrant (if applicable)		\n			Birthday in Celebrant\n			\n		\n		Lamb\, Steak\, or Cod (or list your dietary restriction if applicable) *Example: Steve Parsons- Lamb\nJennifer- Cod\nSubmit
URL:https://hhyc.org/event/birthday-dinner-march-april/
END:VEVENT
BEGIN:VEVENT
DTSTART;TZID=America/Los_Angeles:20250413T103000
DTEND;TZID=America/Los_Angeles:20250413T130000
DTSTAMP:20260420T200542
CREATED:20240623T005036Z
LAST-MODIFIED:20241204T194827Z
UID:10003879-1744540200-1744549200@hhyc.org
SUMMARY:Sunday Breakfast by the bay 10:30am - 1pm
DESCRIPTION:Open to the Public!  \n\n\n\n \n\n\n\nEnjoy our breathtaking harborside views while sipping on a mimosa and indulging in our delicious breakfast offerings!
URL:https://hhyc.org/event/sunday-brunch-1030am-1pm-2/2025-04-13/
END:VEVENT
BEGIN:VEVENT
DTSTART;TZID=America/Los_Angeles:20250413T130000
DTEND;TZID=America/Los_Angeles:20250413T180000
DTSTAMP:20260420T200542
CREATED:20240530T065316Z
LAST-MODIFIED:20240715T165503Z
UID:10003719-1744549200-1744567200@hhyc.org
SUMMARY:Commodore's Lounge 1pm-6pm
DESCRIPTION:Bar only with popcorn and our famous Parson’s Pretzels!
URL:https://hhyc.org/event/commodores-lounge-1pm-6pm/2025-04-13/
END:VEVENT
BEGIN:VEVENT
DTSTART;TZID=America/Los_Angeles:20250413T140000
DTEND;TZID=America/Los_Angeles:20250413T160000
DTSTAMP:20260420T200542
CREATED:20241204T200608Z
LAST-MODIFIED:20250325T220843Z
UID:10003963-1744552800-1744560000@hhyc.org
SUMMARY:Sea Belles Bingo
DESCRIPTION:
URL:https://hhyc.org/event/sea-belles-bingo-4/
END:VEVENT
BEGIN:VEVENT
DTSTART;TZID=America/Los_Angeles:20250414T113000
DTEND;TZID=America/Los_Angeles:20250414T150000
DTSTAMP:20260420T200542
CREATED:20240530T065656Z
LAST-MODIFIED:20241204T200224Z
UID:10003923-1744630200-1744642800@hhyc.org
SUMMARY:Bridge Night
DESCRIPTION:Please contact the office for more information – 562.592.2186 (10a-3p)
URL:https://hhyc.org/event/bridge-night/2025-04-14/
END:VEVENT
BEGIN:VEVENT
DTSTART;TZID=America/Los_Angeles:20250415T170000
DTEND;TZID=America/Los_Angeles:20250415T210000
DTSTAMP:20260420T200542
CREATED:20240712T172034Z
LAST-MODIFIED:20240712T172036Z
UID:10002397-1744736400-1744750800@hhyc.org
SUMMARY:Taco Tuesday 5pm
DESCRIPTION:Bar Hours: 4:30 PM to 9:00 PMFood Service: 5:00 PM – 8:00 PM(Last call for food orders – 7:45 PM)
URL:https://hhyc.org/event/taco-tuesday-5pm-3/2025-04-15/
END:VEVENT
BEGIN:VEVENT
DTSTART;TZID=America/Los_Angeles:20250417T183000
DTEND;TZID=America/Los_Angeles:20250417T203000
DTSTAMP:20260420T200542
CREATED:20240531T031059Z
LAST-MODIFIED:20240715T164946Z
UID:10003334-1744914600-1744921800@hhyc.org
SUMMARY:HRRC Seminar 6:30p
DESCRIPTION:
URL:https://hhyc.org/event/hrrc-seminar-630p/2025-04-17/
END:VEVENT
BEGIN:VEVENT
DTSTART;TZID=America/Los_Angeles:20250418T163000
DTEND;TZID=America/Los_Angeles:20250418T210000
DTSTAMP:20260420T200542
CREATED:20240530T063534Z
LAST-MODIFIED:20240715T144602Z
UID:10002865-1744993800-1745010000@hhyc.org
SUMMARY:Friday Night Dinner 4:30pm - 9pm
DESCRIPTION:
URL:https://hhyc.org/event/friday-night-dinner-430pm-9pm/2025-04-18/
END:VEVENT
BEGIN:VEVENT
DTSTART;TZID=America/Los_Angeles:20250420T110000
DTEND;TZID=America/Los_Angeles:20250420T140000
DTSTAMP:20260420T200542
CREATED:20250325T172619Z
LAST-MODIFIED:20250325T172624Z
UID:10004049-1745146800-1745157600@hhyc.org
SUMMARY:Easter Brunch
DESCRIPTION:Join us at the Huntington Harbour Yacht Club for our Easter Brunch on Sunday April 20th 11am-2pm. 1 Seating Only (Space Limited\, RSVP ASAP) \n\n\n\n We will have a delicious brunch buffet open at 11am (menu on the flyer)\, an egg hunt for the kiddos at 12pm\, followed by a Photo-Op with the Easter Bunny! We hope you and your family can join us this year.
URL:https://hhyc.org/event/easter-brunch/
END:VEVENT
BEGIN:VEVENT
DTSTART;TZID=America/Los_Angeles:20250421T113000
DTEND;TZID=America/Los_Angeles:20250421T150000
DTSTAMP:20260420T200542
CREATED:20240530T065656Z
LAST-MODIFIED:20241204T200224Z
UID:10003924-1745235000-1745247600@hhyc.org
SUMMARY:Bridge Night
DESCRIPTION:Please contact the office for more information – 562.592.2186 (10a-3p)
URL:https://hhyc.org/event/bridge-night/2025-04-21/
END:VEVENT
BEGIN:VEVENT
DTSTART;TZID=America/Los_Angeles:20250422T170000
DTEND;TZID=America/Los_Angeles:20250422T210000
DTSTAMP:20260420T200542
CREATED:20240712T172034Z
LAST-MODIFIED:20240712T172036Z
UID:10002398-1745341200-1745355600@hhyc.org
SUMMARY:Taco Tuesday 5pm
DESCRIPTION:Bar Hours: 4:30 PM to 9:00 PMFood Service: 5:00 PM – 8:00 PM(Last call for food orders – 7:45 PM)
URL:https://hhyc.org/event/taco-tuesday-5pm-3/2025-04-22/
END:VEVENT
BEGIN:VEVENT
DTSTART;TZID=America/Los_Angeles:20250423T190000
DTEND;TZID=America/Los_Angeles:20250423T210000
DTSTAMP:20260420T200542
CREATED:20240531T031414Z
LAST-MODIFIED:20240715T164751Z
UID:10003212-1745434800-1745442000@hhyc.org
SUMMARY:Coast Guard Auxiliary 7p
DESCRIPTION:
URL:https://hhyc.org/event/coast-guard-auxiliary-7p/2025-04-23/
END:VEVENT
BEGIN:VEVENT
DTSTART;TZID=America/Los_Angeles:20250424T170000
DTEND;TZID=America/Los_Angeles:20250424T210000
DTSTAMP:20260420T200542
CREATED:20240531T033717Z
LAST-MODIFIED:20240715T164548Z
UID:10003090-1745514000-1745528400@hhyc.org
SUMMARY:Club Cigar Night 5p
DESCRIPTION:Cigar Night is Back \n\n\n\nThe Huntington Harbour Yacht Club will be hosting our monthly Cigar Nights this Thursday evening\, January 26th. \n\n\n\n\nThe event will take place in our downstairs outdoor bayside patio area.\n\n\n\nHeaters will be provided\n\n\n\nCome enjoy a Cigar Night with\n\n\n\nStaff Commodore Rudy Lopez\, Jr.\n\n\n\nBring your favorite wraps along with your\n\n\n\ncutters and lighters\, and spend an evening amongst friends.\n\n\n\nYou are welcome to bring a bottle of wine of your choice for a corkage fee of $15.\n\n\n\n\nALSO: 2 for 1 Thursday Night Special  —  See Menu Below \n\n\n\nTWOFER menu items (2 for 1\, can be mixed\, lesser valve item discounted) with a purchase of a drink per each person \n\n\n\n If you have any questions\, please contact Rudy Lopez\, Jr. at 626-482-4246.
URL:https://hhyc.org/event/club-cigar-night-5p/2025-04-24/
END:VEVENT
BEGIN:VEVENT
DTSTART;TZID=America/Los_Angeles:20250425T163000
DTEND;TZID=America/Los_Angeles:20250425T210000
DTSTAMP:20260420T200542
CREATED:20240530T063534Z
LAST-MODIFIED:20240715T144602Z
UID:10002866-1745598600-1745614800@hhyc.org
SUMMARY:Friday Night Dinner 4:30pm - 9pm
DESCRIPTION:
URL:https://hhyc.org/event/friday-night-dinner-430pm-9pm/2025-04-25/
END:VEVENT
BEGIN:VEVENT
DTSTART;TZID=America/Los_Angeles:20250426T090000
DTEND;TZID=America/Los_Angeles:20250426T120000
DTSTAMP:20260420T200542
CREATED:20250325T212024Z
LAST-MODIFIED:20250325T212028Z
UID:10004050-1745658000-1745668800@hhyc.org
SUMMARY:California Boater Card Class
DESCRIPTION:Huntington Harbour Yacht Club…. Schoolis in session!  \n\n\n\nCome have fun\, learn a thing or two and guarantee to pass exam! Session One was great fun forall!  \n\n\n\nEveryone is required to hold this cardwhile boating in California starting 2025 \n\n\n\n \n\n\n\n\n\n\n\n\nPlease enable JavaScript in your browser to complete this form.Please enable JavaScript in your browser to complete this form.		\n			to Account of\n			\n		\n		Name *FirstLastPhoneEmail *Authorization of the $40 Charge to AccountYesSubmit
URL:https://hhyc.org/event/california-boater-card-class/
ATTACH;FMTTYPE=image/png:https://hhyc.org/wp-content/uploads/2025/03/Boater-Card.png
END:VEVENT
BEGIN:VEVENT
DTSTART;TZID=America/Los_Angeles:20250427T103000
DTEND;TZID=America/Los_Angeles:20250427T130000
DTSTAMP:20260420T200542
CREATED:20240623T005036Z
LAST-MODIFIED:20241204T194827Z
UID:10003880-1745749800-1745758800@hhyc.org
SUMMARY:Sunday Breakfast by the bay 10:30am - 1pm
DESCRIPTION:Open to the Public!  \n\n\n\n \n\n\n\nEnjoy our breathtaking harborside views while sipping on a mimosa and indulging in our delicious breakfast offerings!
URL:https://hhyc.org/event/sunday-brunch-1030am-1pm-2/2025-04-27/
END:VEVENT
BEGIN:VEVENT
DTSTART;TZID=America/Los_Angeles:20250427T130000
DTEND;TZID=America/Los_Angeles:20250427T180000
DTSTAMP:20260420T200542
CREATED:20240530T065316Z
LAST-MODIFIED:20240715T165503Z
UID:10003721-1745758800-1745776800@hhyc.org
SUMMARY:Commodore's Lounge 1pm-6pm
DESCRIPTION:Bar only with popcorn and our famous Parson’s Pretzels!
URL:https://hhyc.org/event/commodores-lounge-1pm-6pm/2025-04-27/
END:VEVENT
BEGIN:VEVENT
DTSTART;TZID=America/Los_Angeles:20250427T140000
DTEND;TZID=America/Los_Angeles:20250427T190000
DTSTAMP:20260420T200542
CREATED:20250325T220556Z
LAST-MODIFIED:20250325T220558Z
UID:10004051-1745762400-1745780400@hhyc.org
SUMMARY:Earth Day Party BBQ
DESCRIPTION:Earth Day Party BBQ- Details Forthcoming…
URL:https://hhyc.org/event/earth-day-party-bbq/
END:VEVENT
BEGIN:VEVENT
DTSTART;TZID=America/Los_Angeles:20250428T113000
DTEND;TZID=America/Los_Angeles:20250428T150000
DTSTAMP:20260420T200542
CREATED:20240530T065656Z
LAST-MODIFIED:20241204T200224Z
UID:10003925-1745839800-1745852400@hhyc.org
SUMMARY:Bridge Night
DESCRIPTION:Please contact the office for more information – 562.592.2186 (10a-3p)
URL:https://hhyc.org/event/bridge-night/2025-04-28/
END:VEVENT
BEGIN:VEVENT
DTSTART;TZID=America/Los_Angeles:20250429T170000
DTEND;TZID=America/Los_Angeles:20250429T210000
DTSTAMP:20260420T200542
CREATED:20240712T172034Z
LAST-MODIFIED:20240712T172036Z
UID:10002399-1745946000-1745960400@hhyc.org
SUMMARY:Taco Tuesday 5pm
DESCRIPTION:Bar Hours: 4:30 PM to 9:00 PMFood Service: 5:00 PM – 8:00 PM(Last call for food orders – 7:45 PM)
URL:https://hhyc.org/event/taco-tuesday-5pm-3/2025-04-29/
END:VEVENT
END:VCALENDAR