BEGIN:VCALENDAR
VERSION:2.0
PRODID:-//Huntington Harbour Yacht Club - Huntington Beach, CA - ECPv6.15.20//NONSGML v1.0//EN
CALSCALE:GREGORIAN
METHOD:PUBLISH
X-WR-CALNAME:Huntington Harbour Yacht Club - Huntington Beach, CA
X-ORIGINAL-URL:https://hhyc.org
X-WR-CALDESC:Events for Huntington Harbour Yacht Club - Huntington Beach, CA
REFRESH-INTERVAL;VALUE=DURATION:PT1H
X-Robots-Tag:noindex
X-PUBLISHED-TTL:PT1H
BEGIN:VTIMEZONE
TZID:America/Los_Angeles
BEGIN:DAYLIGHT
TZOFFSETFROM:-0800
TZOFFSETTO:-0700
TZNAME:PDT
DTSTART:20230312T100000
END:DAYLIGHT
BEGIN:STANDARD
TZOFFSETFROM:-0700
TZOFFSETTO:-0800
TZNAME:PST
DTSTART:20231105T090000
END:STANDARD
BEGIN:DAYLIGHT
TZOFFSETFROM:-0800
TZOFFSETTO:-0700
TZNAME:PDT
DTSTART:20240310T100000
END:DAYLIGHT
BEGIN:STANDARD
TZOFFSETFROM:-0700
TZOFFSETTO:-0800
TZNAME:PST
DTSTART:20241103T090000
END:STANDARD
BEGIN:DAYLIGHT
TZOFFSETFROM:-0800
TZOFFSETTO:-0700
TZNAME:PDT
DTSTART:20250309T100000
END:DAYLIGHT
BEGIN:STANDARD
TZOFFSETFROM:-0700
TZOFFSETTO:-0800
TZNAME:PST
DTSTART:20251102T090000
END:STANDARD
END:VTIMEZONE
BEGIN:VEVENT
DTSTART;TZID=America/Los_Angeles:20241201T103000
DTEND;TZID=America/Los_Angeles:20241201T130000
DTSTAMP:20260422T143458
CREATED:20240623T005036Z
LAST-MODIFIED:20241204T194827Z
UID:10003833-1733049000-1733058000@hhyc.org
SUMMARY:Sunday Breakfast by the bay 10:30am - 1pm
DESCRIPTION:Open to the Public!  \n\n\n\n \n\n\n\nEnjoy our breathtaking harborside views while sipping on a mimosa and indulging in our delicious breakfast offerings!
URL:https://hhyc.org/event/sunday-brunch-1030am-1pm-2/2024-12-01/
END:VEVENT
BEGIN:VEVENT
DTSTART;TZID=America/Los_Angeles:20241201T130000
DTEND;TZID=America/Los_Angeles:20241201T180000
DTSTAMP:20260422T143459
CREATED:20240530T065316Z
LAST-MODIFIED:20240715T165503Z
UID:10003700-1733058000-1733076000@hhyc.org
SUMMARY:Commodore's Lounge 1pm-6pm
DESCRIPTION:Bar only with popcorn and our famous Parson’s Pretzels!
URL:https://hhyc.org/event/commodores-lounge-1pm-6pm/2024-12-01/
END:VEVENT
BEGIN:VEVENT
DTSTART;TZID=America/Los_Angeles:20241202T000000
DTEND;TZID=America/Los_Angeles:20241202T090000
DTSTAMP:20260422T143459
CREATED:20240530T061239Z
LAST-MODIFIED:20240530T061241Z
UID:10000068-1733097600-1733130000@hhyc.org
SUMMARY:Club Closed
DESCRIPTION:
URL:https://hhyc.org/event/club-closed-2/2024-12-02/
END:VEVENT
BEGIN:VEVENT
DTSTART;TZID=America/Los_Angeles:20241202T103000
DTEND;TZID=America/Los_Angeles:20241202T140000
DTSTAMP:20260422T143459
CREATED:20240530T065656Z
LAST-MODIFIED:20241204T200224Z
UID:10000503-1733135400-1733148000@hhyc.org
SUMMARY:Bridge Night
DESCRIPTION:Please contact the office for more information – 562.592.2186 (10a-3p)
URL:https://hhyc.org/event/bridge-night/2024-12-02/
END:VEVENT
BEGIN:VEVENT
DTSTART;TZID=America/Los_Angeles:20241203T170000
DTEND;TZID=America/Los_Angeles:20241203T210000
DTSTAMP:20260422T143459
CREATED:20240712T172034Z
LAST-MODIFIED:20240712T172036Z
UID:10002378-1733245200-1733259600@hhyc.org
SUMMARY:Taco Tuesday 5pm
DESCRIPTION:Bar Hours: 4:30 PM to 9:00 PMFood Service: 5:00 PM – 8:00 PM(Last call for food orders – 7:45 PM)
URL:https://hhyc.org/event/taco-tuesday-5pm-3/2024-12-03/
END:VEVENT
BEGIN:VEVENT
DTSTART;TZID=America/Los_Angeles:20241204T000000
DTEND;TZID=America/Los_Angeles:20241204T090000
DTSTAMP:20260422T143459
CREATED:20240530T033300Z
LAST-MODIFIED:20240711T223344Z
UID:10001549-1733270400-1733302800@hhyc.org
SUMMARY:Club Closed
DESCRIPTION:
URL:https://hhyc.org/event/club-closed/2024-12-04/
END:VEVENT
BEGIN:VEVENT
DTSTART;TZID=America/Los_Angeles:20241204T100000
DTEND;TZID=America/Los_Angeles:20241204T140000
DTSTAMP:20260422T143459
CREATED:20241204T151316Z
LAST-MODIFIED:20241204T152227Z
UID:10003857-1733306400-1733320800@hhyc.org
SUMMARY:Sea Belles Luncheon
DESCRIPTION:
URL:https://hhyc.org/event/sea-belles-luncheon/
END:VEVENT
BEGIN:VEVENT
DTSTART;TZID=America/Los_Angeles:20241205T180000
DTEND;TZID=America/Los_Angeles:20241205T210000
DTSTAMP:20260422T143459
CREATED:20240808T212831Z
LAST-MODIFIED:20240808T213501Z
UID:10003568-1733421600-1733432400@hhyc.org
SUMMARY:Lounge Open 4:30pm-9pm
DESCRIPTION:
URL:https://hhyc.org/event/trivia-night-6pm-3/2024-12-05/
END:VEVENT
BEGIN:VEVENT
DTSTART;TZID=America/Los_Angeles:20241206T163000
DTEND;TZID=America/Los_Angeles:20241206T210000
DTSTAMP:20260422T143459
CREATED:20240530T063534Z
LAST-MODIFIED:20240715T144602Z
UID:10002846-1733502600-1733518800@hhyc.org
SUMMARY:Friday Night Dinner 4:30pm - 9pm
DESCRIPTION:
URL:https://hhyc.org/event/friday-night-dinner-430pm-9pm/2024-12-06/
END:VEVENT
BEGIN:VEVENT
DTSTART;TZID=America/Los_Angeles:20241206T170000
DTEND;TZID=America/Los_Angeles:20241206T210000
DTSTAMP:20260422T143459
CREATED:20241126T015919Z
LAST-MODIFIED:20241128T001130Z
UID:10003856-1733504400-1733518800@hhyc.org
SUMMARY:Ugly Sweater Party
DESCRIPTION:Enjoy a Delicious Dinner in the Commodore’s Lounge at 5pm before our cookie exchange at 6pm!
URL:https://hhyc.org/event/ugly-sweater-party/
END:VEVENT
BEGIN:VEVENT
DTSTART;TZID=America/Los_Angeles:20241208T103000
DTEND;TZID=America/Los_Angeles:20241208T130000
DTSTAMP:20260422T143459
CREATED:20240623T005036Z
LAST-MODIFIED:20241204T194827Z
UID:10003834-1733653800-1733662800@hhyc.org
SUMMARY:Sunday Breakfast by the bay 10:30am - 1pm
DESCRIPTION:Open to the Public!  \n\n\n\n \n\n\n\nEnjoy our breathtaking harborside views while sipping on a mimosa and indulging in our delicious breakfast offerings!
URL:https://hhyc.org/event/sunday-brunch-1030am-1pm-2/2024-12-08/
END:VEVENT
BEGIN:VEVENT
DTSTART;TZID=America/Los_Angeles:20241208T110000
DTEND;TZID=America/Los_Angeles:20241208T130000
DTSTAMP:20260422T143459
CREATED:20241126T015103Z
LAST-MODIFIED:20241128T000943Z
UID:10003855-1733655600-1733662800@hhyc.org
SUMMARY:Santa Brunch
DESCRIPTION:
URL:https://hhyc.org/event/santa-brunch/
END:VEVENT
BEGIN:VEVENT
DTSTART;TZID=America/Los_Angeles:20241208T130000
DTEND;TZID=America/Los_Angeles:20241208T180000
DTSTAMP:20260422T143459
CREATED:20240530T065316Z
LAST-MODIFIED:20240715T165503Z
UID:10003701-1733662800-1733680800@hhyc.org
SUMMARY:Commodore's Lounge 1pm-6pm
DESCRIPTION:Bar only with popcorn and our famous Parson’s Pretzels!
URL:https://hhyc.org/event/commodores-lounge-1pm-6pm/2024-12-08/
END:VEVENT
BEGIN:VEVENT
DTSTART;TZID=America/Los_Angeles:20241209T000000
DTEND;TZID=America/Los_Angeles:20241209T090000
DTSTAMP:20260422T143459
CREATED:20240530T061239Z
LAST-MODIFIED:20240530T061241Z
UID:10000069-1733702400-1733734800@hhyc.org
SUMMARY:Club Closed
DESCRIPTION:
URL:https://hhyc.org/event/club-closed-2/2024-12-09/
END:VEVENT
BEGIN:VEVENT
DTSTART;TZID=America/Los_Angeles:20241209T103000
DTEND;TZID=America/Los_Angeles:20241209T140000
DTSTAMP:20260422T143459
CREATED:20240530T065656Z
LAST-MODIFIED:20241204T200224Z
UID:10000504-1733740200-1733752800@hhyc.org
SUMMARY:Bridge Night
DESCRIPTION:Please contact the office for more information – 562.592.2186 (10a-3p)
URL:https://hhyc.org/event/bridge-night/2024-12-09/
END:VEVENT
BEGIN:VEVENT
DTSTART;TZID=America/Los_Angeles:20241210T170000
DTEND;TZID=America/Los_Angeles:20241210T210000
DTSTAMP:20260422T143459
CREATED:20240712T172034Z
LAST-MODIFIED:20240712T172036Z
UID:10002379-1733850000-1733864400@hhyc.org
SUMMARY:Taco Tuesday 5pm
DESCRIPTION:Bar Hours: 4:30 PM to 9:00 PMFood Service: 5:00 PM – 8:00 PM(Last call for food orders – 7:45 PM)
URL:https://hhyc.org/event/taco-tuesday-5pm-3/2024-12-10/
END:VEVENT
BEGIN:VEVENT
DTSTART;TZID=America/Los_Angeles:20241211T000000
DTEND;TZID=America/Los_Angeles:20241211T090000
DTSTAMP:20260422T143459
CREATED:20240530T033300Z
LAST-MODIFIED:20240711T223344Z
UID:10001550-1733875200-1733907600@hhyc.org
SUMMARY:Club Closed
DESCRIPTION:
URL:https://hhyc.org/event/club-closed/2024-12-11/
END:VEVENT
BEGIN:VEVENT
DTSTART;TZID=America/Los_Angeles:20241211T180000
DTEND;TZID=America/Los_Angeles:20241211T210000
DTSTAMP:20260422T143459
CREATED:20240530T232016Z
LAST-MODIFIED:20240715T165211Z
UID:10003453-1733940000-1733950800@hhyc.org
SUMMARY:Board Meeting 6pm
DESCRIPTION:
URL:https://hhyc.org/event/board-meeting-6pm/2024-12-11/
END:VEVENT
BEGIN:VEVENT
DTSTART;TZID=America/Los_Angeles:20241212T180000
DTEND;TZID=America/Los_Angeles:20241212T210000
DTSTAMP:20260422T143459
CREATED:20240808T212831Z
LAST-MODIFIED:20240808T213501Z
UID:10003569-1734026400-1734037200@hhyc.org
SUMMARY:Lounge Open 4:30pm-9pm
DESCRIPTION:
URL:https://hhyc.org/event/trivia-night-6pm-3/2024-12-12/
END:VEVENT
BEGIN:VEVENT
DTSTART;TZID=America/Los_Angeles:20241213T163000
DTEND;TZID=America/Los_Angeles:20241213T210000
DTSTAMP:20260422T143459
CREATED:20240530T063534Z
LAST-MODIFIED:20240715T144602Z
UID:10002847-1734107400-1734123600@hhyc.org
SUMMARY:Friday Night Dinner 4:30pm - 9pm
DESCRIPTION:
URL:https://hhyc.org/event/friday-night-dinner-430pm-9pm/2024-12-13/
END:VEVENT
BEGIN:VEVENT
DTSTART;TZID=America/Los_Angeles:20241215T103000
DTEND;TZID=America/Los_Angeles:20241215T130000
DTSTAMP:20260422T143459
CREATED:20240623T005036Z
LAST-MODIFIED:20241204T194827Z
UID:10003835-1734258600-1734267600@hhyc.org
SUMMARY:Sunday Breakfast by the bay 10:30am - 1pm
DESCRIPTION:Open to the Public!  \n\n\n\n \n\n\n\nEnjoy our breathtaking harborside views while sipping on a mimosa and indulging in our delicious breakfast offerings!
URL:https://hhyc.org/event/sunday-brunch-1030am-1pm-2/2024-12-15/
END:VEVENT
BEGIN:VEVENT
DTSTART;TZID=America/Los_Angeles:20241215T130000
DTEND;TZID=America/Los_Angeles:20241215T180000
DTSTAMP:20260422T143459
CREATED:20240530T065316Z
LAST-MODIFIED:20240715T165503Z
UID:10003702-1734267600-1734285600@hhyc.org
SUMMARY:Commodore's Lounge 1pm-6pm
DESCRIPTION:Bar only with popcorn and our famous Parson’s Pretzels!
URL:https://hhyc.org/event/commodores-lounge-1pm-6pm/2024-12-15/
END:VEVENT
BEGIN:VEVENT
DTSTART;TZID=America/Los_Angeles:20241216T000000
DTEND;TZID=America/Los_Angeles:20241216T090000
DTSTAMP:20260422T143459
CREATED:20240530T061239Z
LAST-MODIFIED:20240530T061241Z
UID:10000070-1734307200-1734339600@hhyc.org
SUMMARY:Club Closed
DESCRIPTION:
URL:https://hhyc.org/event/club-closed-2/2024-12-16/
END:VEVENT
BEGIN:VEVENT
DTSTART;TZID=America/Los_Angeles:20241216T103000
DTEND;TZID=America/Los_Angeles:20241216T140000
DTSTAMP:20260422T143459
CREATED:20240530T065656Z
LAST-MODIFIED:20241204T200224Z
UID:10000505-1734345000-1734357600@hhyc.org
SUMMARY:Bridge Night
DESCRIPTION:Please contact the office for more information – 562.592.2186 (10a-3p)
URL:https://hhyc.org/event/bridge-night/2024-12-16/
END:VEVENT
BEGIN:VEVENT
DTSTART;TZID=America/Los_Angeles:20241217T170000
DTEND;TZID=America/Los_Angeles:20241217T210000
DTSTAMP:20260422T143459
CREATED:20240712T172034Z
LAST-MODIFIED:20240712T172036Z
UID:10002380-1734454800-1734469200@hhyc.org
SUMMARY:Taco Tuesday 5pm
DESCRIPTION:Bar Hours: 4:30 PM to 9:00 PMFood Service: 5:00 PM – 8:00 PM(Last call for food orders – 7:45 PM)
URL:https://hhyc.org/event/taco-tuesday-5pm-3/2024-12-17/
END:VEVENT
BEGIN:VEVENT
DTSTART;TZID=America/Los_Angeles:20241218T000000
DTEND;TZID=America/Los_Angeles:20241218T090000
DTSTAMP:20260422T143459
CREATED:20240530T033300Z
LAST-MODIFIED:20240711T223344Z
UID:10001551-1734480000-1734512400@hhyc.org
SUMMARY:Club Closed
DESCRIPTION:
URL:https://hhyc.org/event/club-closed/2024-12-18/
END:VEVENT
BEGIN:VEVENT
DTSTART;TZID=America/Los_Angeles:20241219T180000
DTEND;TZID=America/Los_Angeles:20241219T210000
DTSTAMP:20260422T143459
CREATED:20240808T212831Z
LAST-MODIFIED:20240808T213501Z
UID:10003570-1734631200-1734642000@hhyc.org
SUMMARY:Lounge Open 4:30pm-9pm
DESCRIPTION:
URL:https://hhyc.org/event/trivia-night-6pm-3/2024-12-19/
END:VEVENT
BEGIN:VEVENT
DTSTART;TZID=America/Los_Angeles:20241219T183000
DTEND;TZID=America/Los_Angeles:20241219T203000
DTSTAMP:20260422T143459
CREATED:20240531T031059Z
LAST-MODIFIED:20240715T164946Z
UID:10003330-1734633000-1734640200@hhyc.org
SUMMARY:HRRC Seminar 6:30p
DESCRIPTION:
URL:https://hhyc.org/event/hrrc-seminar-630p/2024-12-19/
END:VEVENT
BEGIN:VEVENT
DTSTART;TZID=America/Los_Angeles:20241220T163000
DTEND;TZID=America/Los_Angeles:20241220T210000
DTSTAMP:20260422T143459
CREATED:20240530T063534Z
LAST-MODIFIED:20240715T144602Z
UID:10002848-1734712200-1734728400@hhyc.org
SUMMARY:Friday Night Dinner 4:30pm - 9pm
DESCRIPTION:
URL:https://hhyc.org/event/friday-night-dinner-430pm-9pm/2024-12-20/
END:VEVENT
BEGIN:VEVENT
DTSTART;TZID=America/Los_Angeles:20241222T103000
DTEND;TZID=America/Los_Angeles:20241222T130000
DTSTAMP:20260422T143459
CREATED:20240623T005036Z
LAST-MODIFIED:20241204T194827Z
UID:10003836-1734863400-1734872400@hhyc.org
SUMMARY:Sunday Breakfast by the bay 10:30am - 1pm
DESCRIPTION:Open to the Public!  \n\n\n\n \n\n\n\nEnjoy our breathtaking harborside views while sipping on a mimosa and indulging in our delicious breakfast offerings!
URL:https://hhyc.org/event/sunday-brunch-1030am-1pm-2/2024-12-22/
END:VEVENT
END:VCALENDAR