BEGIN:VCALENDAR
VERSION:2.0
PRODID:-//Huntington Harbour Yacht Club - Huntington Beach, CA - ECPv6.15.20//NONSGML v1.0//EN
CALSCALE:GREGORIAN
METHOD:PUBLISH
X-ORIGINAL-URL:https://hhyc.org
X-WR-CALDESC:Events for Huntington Harbour Yacht Club - Huntington Beach, CA
REFRESH-INTERVAL;VALUE=DURATION:PT1H
X-Robots-Tag:noindex
X-PUBLISHED-TTL:PT1H
BEGIN:VTIMEZONE
TZID:America/Los_Angeles
BEGIN:DAYLIGHT
TZOFFSETFROM:-0800
TZOFFSETTO:-0700
TZNAME:PDT
DTSTART:20230312T100000
END:DAYLIGHT
BEGIN:STANDARD
TZOFFSETFROM:-0700
TZOFFSETTO:-0800
TZNAME:PST
DTSTART:20231105T090000
END:STANDARD
BEGIN:DAYLIGHT
TZOFFSETFROM:-0800
TZOFFSETTO:-0700
TZNAME:PDT
DTSTART:20240310T100000
END:DAYLIGHT
BEGIN:STANDARD
TZOFFSETFROM:-0700
TZOFFSETTO:-0800
TZNAME:PST
DTSTART:20241103T090000
END:STANDARD
BEGIN:DAYLIGHT
TZOFFSETFROM:-0800
TZOFFSETTO:-0700
TZNAME:PDT
DTSTART:20250309T100000
END:DAYLIGHT
BEGIN:STANDARD
TZOFFSETFROM:-0700
TZOFFSETTO:-0800
TZNAME:PST
DTSTART:20251102T090000
END:STANDARD
END:VTIMEZONE
BEGIN:VEVENT
DTSTART;TZID=America/Los_Angeles:20241001T170000
DTEND;TZID=America/Los_Angeles:20241001T210000
DTSTAMP:20260420T040457
CREATED:20240712T172034Z
LAST-MODIFIED:20240712T172036Z
UID:10002369-1727802000-1727816400@hhyc.org
SUMMARY:Taco Tuesday 5pm
DESCRIPTION:Bar Hours: 4:30 PM to 9:00 PMFood Service: 5:00 PM – 8:00 PM(Last call for food orders – 7:45 PM)
URL:https://hhyc.org/event/taco-tuesday-5pm-3/2024-10-01/
END:VEVENT
BEGIN:VEVENT
DTSTART;TZID=America/Los_Angeles:20241002T010000
DTEND;TZID=America/Los_Angeles:20241002T100000
DTSTAMP:20260420T040457
CREATED:20240530T033300Z
LAST-MODIFIED:20240711T223344Z
UID:10001540-1727830800-1727863200@hhyc.org
SUMMARY:Club Closed
DESCRIPTION:
URL:https://hhyc.org/event/club-closed/2024-10-02/
END:VEVENT
BEGIN:VEVENT
DTSTART;TZID=America/Los_Angeles:20241003T180000
DTEND;TZID=America/Los_Angeles:20241003T210000
DTSTAMP:20260420T040457
CREATED:20240808T212831Z
LAST-MODIFIED:20240808T213501Z
UID:10003559-1727978400-1727989200@hhyc.org
SUMMARY:Lounge Open 4:30pm-9pm
DESCRIPTION:
URL:https://hhyc.org/event/trivia-night-6pm-3/2024-10-03/
END:VEVENT
BEGIN:VEVENT
DTSTART;TZID=America/Los_Angeles:20241004T100000
DTEND;TZID=America/Los_Angeles:20241004T140000
DTSTAMP:20260420T040457
CREATED:20240531T052557Z
LAST-MODIFIED:20241001T173233Z
UID:10001402-1728036000-1728050400@hhyc.org
SUMMARY:Oktoberfest
DESCRIPTION:Beers\, Brats\, & Pretzels
URL:https://hhyc.org/event/octoberfest/
END:VEVENT
BEGIN:VEVENT
DTSTART;TZID=America/Los_Angeles:20241004T163000
DTEND;TZID=America/Los_Angeles:20241004T210000
DTSTAMP:20260420T040457
CREATED:20240530T063534Z
LAST-MODIFIED:20240715T144602Z
UID:10002837-1728059400-1728075600@hhyc.org
SUMMARY:Friday Night Dinner 4:30pm - 9pm
DESCRIPTION:
URL:https://hhyc.org/event/friday-night-dinner-430pm-9pm/2024-10-04/
END:VEVENT
BEGIN:VEVENT
DTSTART;TZID=America/Los_Angeles:20241005T110000
DTEND;TZID=America/Los_Angeles:20241005T150000
DTSTAMP:20260420T040457
CREATED:20240614T024541Z
LAST-MODIFIED:20240614T024543Z
UID:10001412-1728126000-1728140400@hhyc.org
SUMMARY:Rental
DESCRIPTION:
URL:https://hhyc.org/event/rental/
END:VEVENT
BEGIN:VEVENT
DTSTART;TZID=America/Los_Angeles:20241006T103000
DTEND;TZID=America/Los_Angeles:20241006T130000
DTSTAMP:20260420T040458
CREATED:20240623T005036Z
LAST-MODIFIED:20241204T194827Z
UID:10003825-1728210600-1728219600@hhyc.org
SUMMARY:Sunday Breakfast by the bay 10:30am - 1pm
DESCRIPTION:Open to the Public!  \n\n\n\n \n\n\n\nEnjoy our breathtaking harborside views while sipping on a mimosa and indulging in our delicious breakfast offerings!
URL:https://hhyc.org/event/sunday-brunch-1030am-1pm-2/2024-10-06/
END:VEVENT
BEGIN:VEVENT
DTSTART;TZID=America/Los_Angeles:20241006T130000
DTEND;TZID=America/Los_Angeles:20241006T180000
DTSTAMP:20260420T040458
CREATED:20240530T065316Z
LAST-MODIFIED:20240715T165503Z
UID:10003692-1728219600-1728237600@hhyc.org
SUMMARY:Commodore's Lounge 1pm-6pm
DESCRIPTION:Bar only with popcorn and our famous Parson’s Pretzels!
URL:https://hhyc.org/event/commodores-lounge-1pm-6pm/2024-10-06/
END:VEVENT
BEGIN:VEVENT
DTSTART;TZID=America/Los_Angeles:20241007T010000
DTEND;TZID=America/Los_Angeles:20241007T100000
DTSTAMP:20260420T040458
CREATED:20240530T061239Z
LAST-MODIFIED:20240530T061241Z
UID:10000060-1728262800-1728295200@hhyc.org
SUMMARY:Club Closed
DESCRIPTION:
URL:https://hhyc.org/event/club-closed-2/2024-10-07/
END:VEVENT
BEGIN:VEVENT
DTSTART;TZID=America/Los_Angeles:20241007T113000
DTEND;TZID=America/Los_Angeles:20241007T150000
DTSTAMP:20260420T040458
CREATED:20240530T065656Z
LAST-MODIFIED:20241204T200224Z
UID:10000495-1728300600-1728313200@hhyc.org
SUMMARY:Bridge Night
DESCRIPTION:Please contact the office for more information – 562.592.2186 (10a-3p)
URL:https://hhyc.org/event/bridge-night/2024-10-07/
END:VEVENT
BEGIN:VEVENT
DTSTART;TZID=America/Los_Angeles:20241008T170000
DTEND;TZID=America/Los_Angeles:20241008T210000
DTSTAMP:20260420T040458
CREATED:20240712T172034Z
LAST-MODIFIED:20240712T172036Z
UID:10002370-1728406800-1728421200@hhyc.org
SUMMARY:Taco Tuesday 5pm
DESCRIPTION:Bar Hours: 4:30 PM to 9:00 PMFood Service: 5:00 PM – 8:00 PM(Last call for food orders – 7:45 PM)
URL:https://hhyc.org/event/taco-tuesday-5pm-3/2024-10-08/
END:VEVENT
BEGIN:VEVENT
DTSTART;TZID=America/Los_Angeles:20241009T010000
DTEND;TZID=America/Los_Angeles:20241009T100000
DTSTAMP:20260420T040458
CREATED:20240530T033300Z
LAST-MODIFIED:20240711T223344Z
UID:10001541-1728435600-1728468000@hhyc.org
SUMMARY:Club Closed
DESCRIPTION:
URL:https://hhyc.org/event/club-closed/2024-10-09/
END:VEVENT
BEGIN:VEVENT
DTSTART;TZID=America/Los_Angeles:20241009T180000
DTEND;TZID=America/Los_Angeles:20241009T210000
DTSTAMP:20260420T040458
CREATED:20240530T232016Z
LAST-MODIFIED:20240715T165211Z
UID:10003451-1728496800-1728507600@hhyc.org
SUMMARY:Board Meeting 6pm
DESCRIPTION:
URL:https://hhyc.org/event/board-meeting-6pm/2024-10-09/
END:VEVENT
BEGIN:VEVENT
DTSTART;TZID=America/Los_Angeles:20241010T180000
DTEND;TZID=America/Los_Angeles:20241010T210000
DTSTAMP:20260420T040458
CREATED:20240808T212831Z
LAST-MODIFIED:20240808T213501Z
UID:10003560-1728583200-1728594000@hhyc.org
SUMMARY:Lounge Open 4:30pm-9pm
DESCRIPTION:
URL:https://hhyc.org/event/trivia-night-6pm-3/2024-10-10/
END:VEVENT
BEGIN:VEVENT
DTSTART;TZID=America/Los_Angeles:20241011T163000
DTEND;TZID=America/Los_Angeles:20241011T210000
DTSTAMP:20260420T040458
CREATED:20240530T063534Z
LAST-MODIFIED:20240715T144602Z
UID:10002838-1728664200-1728680400@hhyc.org
SUMMARY:Friday Night Dinner 4:30pm - 9pm
DESCRIPTION:
URL:https://hhyc.org/event/friday-night-dinner-430pm-9pm/2024-10-11/
END:VEVENT
BEGIN:VEVENT
DTSTART;TZID=America/Los_Angeles:20241011T180000
DTEND;TZID=America/Los_Angeles:20241011T230000
DTSTAMP:20260420T040458
CREATED:20240920T224323Z
LAST-MODIFIED:20240920T224325Z
UID:10003849-1728669600-1728687600@hhyc.org
SUMMARY:Rental
DESCRIPTION:
URL:https://hhyc.org/event/rental-4/
END:VEVENT
BEGIN:VEVENT
DTSTART;TZID=America/Los_Angeles:20241013T030000
DTEND;TZID=America/Los_Angeles:20241013T090000
DTSTAMP:20260420T040458
CREATED:20240531T053252Z
LAST-MODIFIED:20241007T195047Z
UID:10001404-1728788400-1728810000@hhyc.org
SUMMARY:Open House
DESCRIPTION:
URL:https://hhyc.org/event/open-house-3/
END:VEVENT
BEGIN:VEVENT
DTSTART;TZID=America/Los_Angeles:20241013T103000
DTEND;TZID=America/Los_Angeles:20241013T130000
DTSTAMP:20260420T040458
CREATED:20240623T005036Z
LAST-MODIFIED:20241204T194827Z
UID:10003826-1728815400-1728824400@hhyc.org
SUMMARY:Sunday Breakfast by the bay 10:30am - 1pm
DESCRIPTION:Open to the Public!  \n\n\n\n \n\n\n\nEnjoy our breathtaking harborside views while sipping on a mimosa and indulging in our delicious breakfast offerings!
URL:https://hhyc.org/event/sunday-brunch-1030am-1pm-2/2024-10-13/
END:VEVENT
BEGIN:VEVENT
DTSTART;TZID=America/Los_Angeles:20241013T130000
DTEND;TZID=America/Los_Angeles:20241013T180000
DTSTAMP:20260420T040458
CREATED:20240530T065316Z
LAST-MODIFIED:20240715T165503Z
UID:10003693-1728824400-1728842400@hhyc.org
SUMMARY:Commodore's Lounge 1pm-6pm
DESCRIPTION:Bar only with popcorn and our famous Parson’s Pretzels!
URL:https://hhyc.org/event/commodores-lounge-1pm-6pm/2024-10-13/
END:VEVENT
BEGIN:VEVENT
DTSTART;TZID=America/Los_Angeles:20241014T010000
DTEND;TZID=America/Los_Angeles:20241014T100000
DTSTAMP:20260420T040458
CREATED:20240530T061239Z
LAST-MODIFIED:20240530T061241Z
UID:10000061-1728867600-1728900000@hhyc.org
SUMMARY:Club Closed
DESCRIPTION:
URL:https://hhyc.org/event/club-closed-2/2024-10-14/
END:VEVENT
BEGIN:VEVENT
DTSTART;TZID=America/Los_Angeles:20241014T113000
DTEND;TZID=America/Los_Angeles:20241014T150000
DTSTAMP:20260420T040458
CREATED:20240530T065656Z
LAST-MODIFIED:20241204T200224Z
UID:10000496-1728905400-1728918000@hhyc.org
SUMMARY:Bridge Night
DESCRIPTION:Please contact the office for more information – 562.592.2186 (10a-3p)
URL:https://hhyc.org/event/bridge-night/2024-10-14/
END:VEVENT
BEGIN:VEVENT
DTSTART;TZID=America/Los_Angeles:20241015T170000
DTEND;TZID=America/Los_Angeles:20241015T210000
DTSTAMP:20260420T040458
CREATED:20240712T172034Z
LAST-MODIFIED:20240712T172036Z
UID:10002371-1729011600-1729026000@hhyc.org
SUMMARY:Taco Tuesday 5pm
DESCRIPTION:Bar Hours: 4:30 PM to 9:00 PMFood Service: 5:00 PM – 8:00 PM(Last call for food orders – 7:45 PM)
URL:https://hhyc.org/event/taco-tuesday-5pm-3/2024-10-15/
END:VEVENT
BEGIN:VEVENT
DTSTART;TZID=America/Los_Angeles:20241016T010000
DTEND;TZID=America/Los_Angeles:20241016T100000
DTSTAMP:20260420T040458
CREATED:20240530T033300Z
LAST-MODIFIED:20240711T223344Z
UID:10001542-1729040400-1729072800@hhyc.org
SUMMARY:Club Closed
DESCRIPTION:
URL:https://hhyc.org/event/club-closed/2024-10-16/
END:VEVENT
BEGIN:VEVENT
DTSTART;TZID=America/Los_Angeles:20241017T170000
DTEND;TZID=America/Los_Angeles:20241020T165959
DTSTAMP:20260420T040458
CREATED:20240531T053426Z
LAST-MODIFIED:20240531T053428Z
UID:10001405-1729184400-1729443599@hhyc.org
SUMMARY:Newport Marina Park/American Legion Post 291
DESCRIPTION:
URL:https://hhyc.org/event/newport-marina-park-american-legion-post-291/
END:VEVENT
BEGIN:VEVENT
DTSTART;TZID=America/Los_Angeles:20241017T180000
DTEND;TZID=America/Los_Angeles:20241017T210000
DTSTAMP:20260420T040458
CREATED:20240808T212831Z
LAST-MODIFIED:20240808T213501Z
UID:10003561-1729188000-1729198800@hhyc.org
SUMMARY:Lounge Open 4:30pm-9pm
DESCRIPTION:
URL:https://hhyc.org/event/trivia-night-6pm-3/2024-10-17/
END:VEVENT
BEGIN:VEVENT
DTSTART;TZID=America/Los_Angeles:20241017T183000
DTEND;TZID=America/Los_Angeles:20241017T203000
DTSTAMP:20260420T040458
CREATED:20240531T031059Z
LAST-MODIFIED:20240715T164946Z
UID:10003328-1729189800-1729197000@hhyc.org
SUMMARY:HRRC Seminar 6:30p
DESCRIPTION:
URL:https://hhyc.org/event/hrrc-seminar-630p/2024-10-17/
END:VEVENT
BEGIN:VEVENT
DTSTART;TZID=America/Los_Angeles:20241018T163000
DTEND;TZID=America/Los_Angeles:20241018T210000
DTSTAMP:20260420T040458
CREATED:20240530T063534Z
LAST-MODIFIED:20240715T144602Z
UID:10002839-1729269000-1729285200@hhyc.org
SUMMARY:Friday Night Dinner 4:30pm - 9pm
DESCRIPTION:
URL:https://hhyc.org/event/friday-night-dinner-430pm-9pm/2024-10-18/
END:VEVENT
BEGIN:VEVENT
DTSTART;TZID=America/Los_Angeles:20241019T180000
DTEND;TZID=America/Los_Angeles:20241019T230000
DTSTAMP:20260420T040458
CREATED:20240920T224422Z
LAST-MODIFIED:20240920T224726Z
UID:10003850-1729360800-1729378800@hhyc.org
SUMMARY:Rental
DESCRIPTION:
URL:https://hhyc.org/event/5212/
END:VEVENT
BEGIN:VEVENT
DTSTART;TZID=America/Los_Angeles:20241020T103000
DTEND;TZID=America/Los_Angeles:20241020T130000
DTSTAMP:20260420T040458
CREATED:20240623T005036Z
LAST-MODIFIED:20241204T194827Z
UID:10003827-1729420200-1729429200@hhyc.org
SUMMARY:Sunday Breakfast by the bay 10:30am - 1pm
DESCRIPTION:Open to the Public!  \n\n\n\n \n\n\n\nEnjoy our breathtaking harborside views while sipping on a mimosa and indulging in our delicious breakfast offerings!
URL:https://hhyc.org/event/sunday-brunch-1030am-1pm-2/2024-10-20/
END:VEVENT
BEGIN:VEVENT
DTSTART;TZID=America/Los_Angeles:20241020T130000
DTEND;TZID=America/Los_Angeles:20241020T180000
DTSTAMP:20260420T040458
CREATED:20240530T065316Z
LAST-MODIFIED:20240715T165503Z
UID:10003694-1729429200-1729447200@hhyc.org
SUMMARY:Commodore's Lounge 1pm-6pm
DESCRIPTION:Bar only with popcorn and our famous Parson’s Pretzels!
URL:https://hhyc.org/event/commodores-lounge-1pm-6pm/2024-10-20/
END:VEVENT
END:VCALENDAR