BEGIN:VCALENDAR
VERSION:2.0
PRODID:-//Huntington Harbour Yacht Club - Huntington Beach, CA - ECPv6.15.20//NONSGML v1.0//EN
CALSCALE:GREGORIAN
METHOD:PUBLISH
X-ORIGINAL-URL:https://hhyc.org
X-WR-CALDESC:Events for Huntington Harbour Yacht Club - Huntington Beach, CA
REFRESH-INTERVAL;VALUE=DURATION:PT1H
X-Robots-Tag:noindex
X-PUBLISHED-TTL:PT1H
BEGIN:VTIMEZONE
TZID:America/Los_Angeles
BEGIN:DAYLIGHT
TZOFFSETFROM:-0800
TZOFFSETTO:-0700
TZNAME:PDT
DTSTART:20240310T100000
END:DAYLIGHT
BEGIN:STANDARD
TZOFFSETFROM:-0700
TZOFFSETTO:-0800
TZNAME:PST
DTSTART:20241103T090000
END:STANDARD
BEGIN:DAYLIGHT
TZOFFSETFROM:-0800
TZOFFSETTO:-0700
TZNAME:PDT
DTSTART:20250309T100000
END:DAYLIGHT
BEGIN:STANDARD
TZOFFSETFROM:-0700
TZOFFSETTO:-0800
TZNAME:PST
DTSTART:20251102T090000
END:STANDARD
BEGIN:DAYLIGHT
TZOFFSETFROM:-0800
TZOFFSETTO:-0700
TZNAME:PDT
DTSTART:20260308T100000
END:DAYLIGHT
BEGIN:STANDARD
TZOFFSETFROM:-0700
TZOFFSETTO:-0800
TZNAME:PST
DTSTART:20261101T090000
END:STANDARD
END:VTIMEZONE
BEGIN:VEVENT
DTSTART;TZID=America/Los_Angeles:20251102T103000
DTEND;TZID=America/Los_Angeles:20251102T130000
DTSTAMP:20260420T041024
CREATED:20240623T005036Z
LAST-MODIFIED:20241204T194827Z
UID:10003905-1762079400-1762088400@hhyc.org
SUMMARY:Sunday Breakfast by the bay 10:30am - 1pm
DESCRIPTION:Open to the Public!  \n\n\n\n \n\n\n\nEnjoy our breathtaking harborside views while sipping on a mimosa and indulging in our delicious breakfast offerings!
URL:https://hhyc.org/event/sunday-brunch-1030am-1pm-2/2025-11-02/
END:VEVENT
BEGIN:VEVENT
DTSTART;TZID=America/Los_Angeles:20251102T130000
DTEND;TZID=America/Los_Angeles:20251102T180000
DTSTAMP:20260420T041024
CREATED:20240530T065316Z
LAST-MODIFIED:20240715T165503Z
UID:10003748-1762088400-1762106400@hhyc.org
SUMMARY:Commodore's Lounge 1pm-6pm
DESCRIPTION:Bar only with popcorn and our famous Parson’s Pretzels!
URL:https://hhyc.org/event/commodores-lounge-1pm-6pm/2025-11-02/
END:VEVENT
BEGIN:VEVENT
DTSTART;TZID=America/Los_Angeles:20251103T103000
DTEND;TZID=America/Los_Angeles:20251103T140000
DTSTAMP:20260420T041024
CREATED:20240530T065656Z
LAST-MODIFIED:20241204T200224Z
UID:10003952-1762165800-1762178400@hhyc.org
SUMMARY:Bridge Night
DESCRIPTION:Please contact the office for more information – 562.592.2186 (10a-3p)
URL:https://hhyc.org/event/bridge-night/2025-11-03/
END:VEVENT
BEGIN:VEVENT
DTSTART;TZID=America/Los_Angeles:20251104T170000
DTEND;TZID=America/Los_Angeles:20251104T210000
DTSTAMP:20260420T041024
CREATED:20240712T172034Z
LAST-MODIFIED:20240712T172036Z
UID:10002426-1762275600-1762290000@hhyc.org
SUMMARY:Taco Tuesday 5pm
DESCRIPTION:Bar Hours: 4:30 PM to 9:00 PMFood Service: 5:00 PM – 8:00 PM(Last call for food orders – 7:45 PM)
URL:https://hhyc.org/event/taco-tuesday-5pm-3/2025-11-04/
END:VEVENT
BEGIN:VEVENT
DTSTART;TZID=America/Los_Angeles:20251107T163000
DTEND;TZID=America/Los_Angeles:20251107T210000
DTSTAMP:20260420T041024
CREATED:20240530T063534Z
LAST-MODIFIED:20240715T144602Z
UID:10002894-1762533000-1762549200@hhyc.org
SUMMARY:Friday Night Dinner 4:30pm - 9pm
DESCRIPTION:
URL:https://hhyc.org/event/friday-night-dinner-430pm-9pm/2025-11-07/
END:VEVENT
BEGIN:VEVENT
DTSTART;TZID=America/Los_Angeles:20251107T170000
DTEND;TZID=America/Los_Angeles:20251107T220000
DTSTAMP:20260420T041024
CREATED:20241204T202201Z
LAST-MODIFIED:20251029T174351Z
UID:10003979-1762534800-1762552800@hhyc.org
SUMMARY:Birthday Dinner September/October/November
DESCRIPTION:RSVP on the form belowCheck out the Flyer Below for more information \n\n\nPlease enable JavaScript in your browser to complete this form.Please enable JavaScript in your browser to complete this form.Name *FirstLastPhoneEmail *Name of Birthday Celebrant (if applicable)		\n			Name or &\n			\n		\n		Total # of Guests (Please list their names) & Entree Choices (Chicken or Sea Bass) *ex: 2 Steve Parsons- Chicken\nJennifer- Sea bassSubmit
URL:https://hhyc.org/event/birthday-dinner-september-october/
END:VEVENT
BEGIN:VEVENT
DTSTART;TZID=America/Los_Angeles:20251109T103000
DTEND;TZID=America/Los_Angeles:20251109T130000
DTSTAMP:20260420T041024
CREATED:20240623T005036Z
LAST-MODIFIED:20241204T194827Z
UID:10003906-1762684200-1762693200@hhyc.org
SUMMARY:Sunday Breakfast by the bay 10:30am - 1pm
DESCRIPTION:Open to the Public!  \n\n\n\n \n\n\n\nEnjoy our breathtaking harborside views while sipping on a mimosa and indulging in our delicious breakfast offerings!
URL:https://hhyc.org/event/sunday-brunch-1030am-1pm-2/2025-11-09/
END:VEVENT
BEGIN:VEVENT
DTSTART;TZID=America/Los_Angeles:20251109T130000
DTEND;TZID=America/Los_Angeles:20251109T180000
DTSTAMP:20260420T041024
CREATED:20240530T065316Z
LAST-MODIFIED:20240715T165503Z
UID:10003749-1762693200-1762711200@hhyc.org
SUMMARY:Commodore's Lounge 1pm-6pm
DESCRIPTION:Bar only with popcorn and our famous Parson’s Pretzels!
URL:https://hhyc.org/event/commodores-lounge-1pm-6pm/2025-11-09/
END:VEVENT
BEGIN:VEVENT
DTSTART;TZID=America/Los_Angeles:20251109T160000
DTEND;TZID=America/Los_Angeles:20251109T183000
DTSTAMP:20260420T041024
CREATED:20251024T173403Z
LAST-MODIFIED:20251024T173404Z
UID:10004075-1762704000-1762713000@hhyc.org
SUMMARY:"Grill Your Own" BBQ Event
DESCRIPTION:Grill Your Own BBQ NightFire up the fun at our Grill Your Own BBQ event! We’ll provide the sides—you bring the sizzle. \n\n\n\nEnjoy a fresh Salad Bar\, loaded Baked Potato Bar\, and delicious Dessert included with your meal. \n\n\n\nBring Your Own Protein – $10 per person \n\n\n\n Or add on a juicy burger for just $5 more \n\n\n\nThe No-Host Bar will be open until 7:00 PM\, with the last plate served at 6:30 PM. \n\n\n\nCome hungry\, gather with friends\, and make it a perfect night by the grill! \n\n\n\nRSVP on the From Below!More Details on the Flyer Below \n\n\nPlease enable JavaScript in your browser to complete this form.Please enable JavaScript in your browser to complete this form.Name *FirstLastPhone		\n			of their Total\n			\n		\n		Email *Total # of Guests (please list their names)Will you be bringing your own protein or purchasing a burger from HHYC? *Bringing my ProteinPurchasing from HHYCSubmit
URL:https://hhyc.org/event/grill-your-own-bbq-event/
END:VEVENT
BEGIN:VEVENT
DTSTART;TZID=America/Los_Angeles:20251110T103000
DTEND;TZID=America/Los_Angeles:20251110T140000
DTSTAMP:20260420T041024
CREATED:20240530T065656Z
LAST-MODIFIED:20241204T200224Z
UID:10003953-1762770600-1762783200@hhyc.org
SUMMARY:Bridge Night
DESCRIPTION:Please contact the office for more information – 562.592.2186 (10a-3p)
URL:https://hhyc.org/event/bridge-night/2025-11-10/
END:VEVENT
BEGIN:VEVENT
DTSTART;TZID=America/Los_Angeles:20251111T170000
DTEND;TZID=America/Los_Angeles:20251111T210000
DTSTAMP:20260420T041024
CREATED:20240712T172034Z
LAST-MODIFIED:20240712T172036Z
UID:10002427-1762880400-1762894800@hhyc.org
SUMMARY:Taco Tuesday 5pm
DESCRIPTION:Bar Hours: 4:30 PM to 9:00 PMFood Service: 5:00 PM – 8:00 PM(Last call for food orders – 7:45 PM)
URL:https://hhyc.org/event/taco-tuesday-5pm-3/2025-11-11/
END:VEVENT
BEGIN:VEVENT
DTSTART;TZID=America/Los_Angeles:20251112T180000
DTEND;TZID=America/Los_Angeles:20251112T210000
DTSTAMP:20260420T041024
CREATED:20240530T232016Z
LAST-MODIFIED:20240715T165211Z
UID:10003464-1762970400-1762981200@hhyc.org
SUMMARY:Board Meeting 6pm
DESCRIPTION:
URL:https://hhyc.org/event/board-meeting-6pm/2025-11-12/
END:VEVENT
BEGIN:VEVENT
DTSTART;TZID=America/Los_Angeles:20251114T163000
DTEND;TZID=America/Los_Angeles:20251114T210000
DTSTAMP:20260420T041024
CREATED:20240530T063534Z
LAST-MODIFIED:20240715T144602Z
UID:10002895-1763137800-1763154000@hhyc.org
SUMMARY:Friday Night Dinner 4:30pm - 9pm
DESCRIPTION:
URL:https://hhyc.org/event/friday-night-dinner-430pm-9pm/2025-11-14/
END:VEVENT
BEGIN:VEVENT
DTSTART;TZID=America/Los_Angeles:20251115T170000
DTEND;TZID=America/Los_Angeles:20251115T220000
DTSTAMP:20260420T041024
CREATED:20251016T173854Z
LAST-MODIFIED:20251028T172629Z
UID:10004072-1763226000-1763244000@hhyc.org
SUMMARY:Commodore's Ball 2025
DESCRIPTION:Join us in honoring our Commodore Dean Oliver at the 61st Annual Commodore’s Ball.  \n\n\n\nComplimentary Valet provided. Featuring entertainment by Dave Alcantar and his Band! \n\n\n\nRSVP on the Form BelowWith your entree selections of Beef Wellington or Salmon \n\n\nPlease enable JavaScript in your browser to complete this form.Please enable JavaScript in your browser to complete this form.Name *FirstLastPhone		\n			Guests or &\n			\n		\n		Email *Total # of Guests (Please list their names) & Entree Choices (Beef Wellington\, Salmon\, or Tofu)ex: 2 Steve Parsons- Beef\nJennifer- Salmon Submit
URL:https://hhyc.org/event/commodores-ball-2025/
END:VEVENT
BEGIN:VEVENT
DTSTART;TZID=America/Los_Angeles:20251116T103000
DTEND;TZID=America/Los_Angeles:20251116T130000
DTSTAMP:20260420T041024
CREATED:20240623T005036Z
LAST-MODIFIED:20241204T194827Z
UID:10003907-1763289000-1763298000@hhyc.org
SUMMARY:Sunday Breakfast by the bay 10:30am - 1pm
DESCRIPTION:Open to the Public!  \n\n\n\n \n\n\n\nEnjoy our breathtaking harborside views while sipping on a mimosa and indulging in our delicious breakfast offerings!
URL:https://hhyc.org/event/sunday-brunch-1030am-1pm-2/2025-11-16/
END:VEVENT
BEGIN:VEVENT
DTSTART;TZID=America/Los_Angeles:20251116T130000
DTEND;TZID=America/Los_Angeles:20251116T180000
DTSTAMP:20260420T041024
CREATED:20240530T065316Z
LAST-MODIFIED:20240715T165503Z
UID:10003750-1763298000-1763316000@hhyc.org
SUMMARY:Commodore's Lounge 1pm-6pm
DESCRIPTION:Bar only with popcorn and our famous Parson’s Pretzels!
URL:https://hhyc.org/event/commodores-lounge-1pm-6pm/2025-11-16/
END:VEVENT
BEGIN:VEVENT
DTSTART;TZID=America/Los_Angeles:20251116T140000
DTEND;TZID=America/Los_Angeles:20251116T160000
DTSTAMP:20260420T041024
CREATED:20241204T203101Z
LAST-MODIFIED:20250925T175658Z
UID:10003981-1763301600-1763308800@hhyc.org
SUMMARY:Sea Belles Bingo
DESCRIPTION:
URL:https://hhyc.org/event/sea-belles-bingo-10/
END:VEVENT
BEGIN:VEVENT
DTSTART;TZID=America/Los_Angeles:20251117T103000
DTEND;TZID=America/Los_Angeles:20251117T140000
DTSTAMP:20260420T041024
CREATED:20240530T065656Z
LAST-MODIFIED:20241204T200224Z
UID:10003954-1763375400-1763388000@hhyc.org
SUMMARY:Bridge Night
DESCRIPTION:Please contact the office for more information – 562.592.2186 (10a-3p)
URL:https://hhyc.org/event/bridge-night/2025-11-17/
END:VEVENT
BEGIN:VEVENT
DTSTART;TZID=America/Los_Angeles:20251118T170000
DTEND;TZID=America/Los_Angeles:20251118T210000
DTSTAMP:20260420T041024
CREATED:20240712T172034Z
LAST-MODIFIED:20240712T172036Z
UID:10002428-1763485200-1763499600@hhyc.org
SUMMARY:Taco Tuesday 5pm
DESCRIPTION:Bar Hours: 4:30 PM to 9:00 PMFood Service: 5:00 PM – 8:00 PM(Last call for food orders – 7:45 PM)
URL:https://hhyc.org/event/taco-tuesday-5pm-3/2025-11-18/
END:VEVENT
BEGIN:VEVENT
DTSTART;TZID=America/Los_Angeles:20251120T183000
DTEND;TZID=America/Los_Angeles:20251120T203000
DTSTAMP:20260420T041024
CREATED:20240531T031059Z
LAST-MODIFIED:20240715T164946Z
UID:10003341-1763663400-1763670600@hhyc.org
SUMMARY:HRRC Seminar 6:30p
DESCRIPTION:
URL:https://hhyc.org/event/hrrc-seminar-630p/2025-11-20/
END:VEVENT
BEGIN:VEVENT
DTSTART;TZID=America/Los_Angeles:20251121T163000
DTEND;TZID=America/Los_Angeles:20251121T210000
DTSTAMP:20260420T041024
CREATED:20240530T063534Z
LAST-MODIFIED:20240715T144602Z
UID:10002896-1763742600-1763758800@hhyc.org
SUMMARY:Friday Night Dinner 4:30pm - 9pm
DESCRIPTION:
URL:https://hhyc.org/event/friday-night-dinner-430pm-9pm/2025-11-21/
END:VEVENT
BEGIN:VEVENT
DTSTART;TZID=America/Los_Angeles:20251123T103000
DTEND;TZID=America/Los_Angeles:20251123T130000
DTSTAMP:20260420T041024
CREATED:20240623T005036Z
LAST-MODIFIED:20241204T194827Z
UID:10003908-1763893800-1763902800@hhyc.org
SUMMARY:Sunday Breakfast by the bay 10:30am - 1pm
DESCRIPTION:Open to the Public!  \n\n\n\n \n\n\n\nEnjoy our breathtaking harborside views while sipping on a mimosa and indulging in our delicious breakfast offerings!
URL:https://hhyc.org/event/sunday-brunch-1030am-1pm-2/2025-11-23/
END:VEVENT
BEGIN:VEVENT
DTSTART;TZID=America/Los_Angeles:20251123T130000
DTEND;TZID=America/Los_Angeles:20251123T180000
DTSTAMP:20260420T041024
CREATED:20240530T065316Z
LAST-MODIFIED:20240715T165503Z
UID:10003751-1763902800-1763920800@hhyc.org
SUMMARY:Commodore's Lounge 1pm-6pm
DESCRIPTION:Bar only with popcorn and our famous Parson’s Pretzels!
URL:https://hhyc.org/event/commodores-lounge-1pm-6pm/2025-11-23/
END:VEVENT
BEGIN:VEVENT
DTSTART;TZID=America/Los_Angeles:20251124T103000
DTEND;TZID=America/Los_Angeles:20251124T140000
DTSTAMP:20260420T041024
CREATED:20240530T065656Z
LAST-MODIFIED:20241204T200224Z
UID:10003955-1763980200-1763992800@hhyc.org
SUMMARY:Bridge Night
DESCRIPTION:Please contact the office for more information – 562.592.2186 (10a-3p)
URL:https://hhyc.org/event/bridge-night/2025-11-24/
END:VEVENT
BEGIN:VEVENT
DTSTART;TZID=America/Los_Angeles:20251125T170000
DTEND;TZID=America/Los_Angeles:20251125T210000
DTSTAMP:20260420T041024
CREATED:20240712T172034Z
LAST-MODIFIED:20240712T172036Z
UID:10002429-1764090000-1764104400@hhyc.org
SUMMARY:Taco Tuesday 5pm
DESCRIPTION:Bar Hours: 4:30 PM to 9:00 PMFood Service: 5:00 PM – 8:00 PM(Last call for food orders – 7:45 PM)
URL:https://hhyc.org/event/taco-tuesday-5pm-3/2025-11-25/
END:VEVENT
BEGIN:VEVENT
DTSTART;TZID=America/Los_Angeles:20251126T190000
DTEND;TZID=America/Los_Angeles:20251126T210000
DTSTAMP:20260420T041024
CREATED:20240531T031414Z
LAST-MODIFIED:20240715T164751Z
UID:10003219-1764183600-1764190800@hhyc.org
SUMMARY:Coast Guard Auxiliary 7p
DESCRIPTION:
URL:https://hhyc.org/event/coast-guard-auxiliary-7p/2025-11-26/
END:VEVENT
BEGIN:VEVENT
DTSTART;TZID=America/Los_Angeles:20251127T170000
DTEND;TZID=America/Los_Angeles:20251127T210000
DTSTAMP:20260420T041024
CREATED:20240531T033717Z
LAST-MODIFIED:20240715T164548Z
UID:10003097-1764262800-1764277200@hhyc.org
SUMMARY:Club Cigar Night 5p
DESCRIPTION:Cigar Night is Back \n\n\n\nThe Huntington Harbour Yacht Club will be hosting our monthly Cigar Nights this Thursday evening\, January 26th. \n\n\n\n\nThe event will take place in our downstairs outdoor bayside patio area.\n\n\n\nHeaters will be provided\n\n\n\nCome enjoy a Cigar Night with\n\n\n\nStaff Commodore Rudy Lopez\, Jr.\n\n\n\nBring your favorite wraps along with your\n\n\n\ncutters and lighters\, and spend an evening amongst friends.\n\n\n\nYou are welcome to bring a bottle of wine of your choice for a corkage fee of $15.\n\n\n\n\nALSO: 2 for 1 Thursday Night Special  —  See Menu Below \n\n\n\nTWOFER menu items (2 for 1\, can be mixed\, lesser valve item discounted) with a purchase of a drink per each person \n\n\n\n If you have any questions\, please contact Rudy Lopez\, Jr. at 626-482-4246.
URL:https://hhyc.org/event/club-cigar-night-5p/2025-11-27/
END:VEVENT
BEGIN:VEVENT
DTSTART;TZID=America/Los_Angeles:20251128T163000
DTEND;TZID=America/Los_Angeles:20251128T210000
DTSTAMP:20260420T041024
CREATED:20240530T063534Z
LAST-MODIFIED:20240715T144602Z
UID:10002897-1764347400-1764363600@hhyc.org
SUMMARY:Friday Night Dinner 4:30pm - 9pm
DESCRIPTION:
URL:https://hhyc.org/event/friday-night-dinner-430pm-9pm/2025-11-28/
END:VEVENT
BEGIN:VEVENT
DTSTART;TZID=America/Los_Angeles:20251130T103000
DTEND;TZID=America/Los_Angeles:20251130T130000
DTSTAMP:20260420T041024
CREATED:20240623T005036Z
LAST-MODIFIED:20241204T194827Z
UID:10003909-1764498600-1764507600@hhyc.org
SUMMARY:Sunday Breakfast by the bay 10:30am - 1pm
DESCRIPTION:Open to the Public!  \n\n\n\n \n\n\n\nEnjoy our breathtaking harborside views while sipping on a mimosa and indulging in our delicious breakfast offerings!
URL:https://hhyc.org/event/sunday-brunch-1030am-1pm-2/2025-11-30/
END:VEVENT
BEGIN:VEVENT
DTSTART;TZID=America/Los_Angeles:20251130T130000
DTEND;TZID=America/Los_Angeles:20251130T180000
DTSTAMP:20260420T041024
CREATED:20240530T065316Z
LAST-MODIFIED:20240715T165503Z
UID:10003752-1764507600-1764525600@hhyc.org
SUMMARY:Commodore's Lounge 1pm-6pm
DESCRIPTION:Bar only with popcorn and our famous Parson’s Pretzels!
URL:https://hhyc.org/event/commodores-lounge-1pm-6pm/2025-11-30/
END:VEVENT
END:VCALENDAR