BEGIN:VCALENDAR
VERSION:2.0
PRODID:-//Huntington Harbour Yacht Club - Huntington Beach, CA - ECPv6.15.20//NONSGML v1.0//EN
CALSCALE:GREGORIAN
METHOD:PUBLISH
X-ORIGINAL-URL:https://hhyc.org
X-WR-CALDESC:Events for Huntington Harbour Yacht Club - Huntington Beach, CA
REFRESH-INTERVAL;VALUE=DURATION:PT1H
X-Robots-Tag:noindex
X-PUBLISHED-TTL:PT1H
BEGIN:VTIMEZONE
TZID:America/Los_Angeles
BEGIN:DAYLIGHT
TZOFFSETFROM:-0800
TZOFFSETTO:-0700
TZNAME:PDT
DTSTART:20240310T100000
END:DAYLIGHT
BEGIN:STANDARD
TZOFFSETFROM:-0700
TZOFFSETTO:-0800
TZNAME:PST
DTSTART:20241103T090000
END:STANDARD
BEGIN:DAYLIGHT
TZOFFSETFROM:-0800
TZOFFSETTO:-0700
TZNAME:PDT
DTSTART:20250309T100000
END:DAYLIGHT
BEGIN:STANDARD
TZOFFSETFROM:-0700
TZOFFSETTO:-0800
TZNAME:PST
DTSTART:20251102T090000
END:STANDARD
BEGIN:DAYLIGHT
TZOFFSETFROM:-0800
TZOFFSETTO:-0700
TZNAME:PDT
DTSTART:20260308T100000
END:DAYLIGHT
BEGIN:STANDARD
TZOFFSETFROM:-0700
TZOFFSETTO:-0800
TZNAME:PST
DTSTART:20261101T090000
END:STANDARD
END:VTIMEZONE
BEGIN:VEVENT
DTSTART;TZID=America/Los_Angeles:20250116T183000
DTEND;TZID=America/Los_Angeles:20250116T203000
DTSTAMP:20260420T200632
CREATED:20240531T031059Z
LAST-MODIFIED:20240715T164946Z
UID:10003331-1737052200-1737059400@hhyc.org
SUMMARY:HRRC Seminar 6:30p
DESCRIPTION:
URL:https://hhyc.org/event/hrrc-seminar-630p/2025-01-16/
END:VEVENT
BEGIN:VEVENT
DTSTART;TZID=America/Los_Angeles:20250117T163000
DTEND;TZID=America/Los_Angeles:20250117T210000
DTSTAMP:20260420T200633
CREATED:20240530T063534Z
LAST-MODIFIED:20240715T144602Z
UID:10002852-1737131400-1737147600@hhyc.org
SUMMARY:Friday Night Dinner 4:30pm - 9pm
DESCRIPTION:
URL:https://hhyc.org/event/friday-night-dinner-430pm-9pm/2025-01-17/
END:VEVENT
BEGIN:VEVENT
DTSTART;TZID=America/Los_Angeles:20250119T103000
DTEND;TZID=America/Los_Angeles:20250119T130000
DTSTAMP:20260420T200633
CREATED:20240623T005036Z
LAST-MODIFIED:20241204T194827Z
UID:10003867-1737282600-1737291600@hhyc.org
SUMMARY:Sunday Breakfast by the bay 10:30am - 1pm
DESCRIPTION:Open to the Public!  \n\n\n\n \n\n\n\nEnjoy our breathtaking harborside views while sipping on a mimosa and indulging in our delicious breakfast offerings!
URL:https://hhyc.org/event/sunday-brunch-1030am-1pm-2/2025-01-19/
END:VEVENT
BEGIN:VEVENT
DTSTART;TZID=America/Los_Angeles:20250119T130000
DTEND;TZID=America/Los_Angeles:20250119T180000
DTSTAMP:20260420T200633
CREATED:20240530T065316Z
LAST-MODIFIED:20240715T165503Z
UID:10003707-1737291600-1737309600@hhyc.org
SUMMARY:Commodore's Lounge 1pm-6pm
DESCRIPTION:Bar only with popcorn and our famous Parson’s Pretzels!
URL:https://hhyc.org/event/commodores-lounge-1pm-6pm/2025-01-19/
END:VEVENT
BEGIN:VEVENT
DTSTART;TZID=America/Los_Angeles:20250120T000000
DTEND;TZID=America/Los_Angeles:20250120T090000
DTSTAMP:20260420T200633
CREATED:20250103T230744Z
LAST-MODIFIED:20250103T230744Z
UID:10000075-1737331200-1737363600@hhyc.org
SUMMARY:Club Closed
DESCRIPTION:
URL:https://hhyc.org/event/club-closed-4/
END:VEVENT
BEGIN:VEVENT
DTSTART;TZID=America/Los_Angeles:20250120T103000
DTEND;TZID=America/Los_Angeles:20250120T140000
DTSTAMP:20260420T200633
CREATED:20240530T065656Z
LAST-MODIFIED:20241204T200224Z
UID:10000510-1737369000-1737381600@hhyc.org
SUMMARY:Bridge Night
DESCRIPTION:Please contact the office for more information – 562.592.2186 (10a-3p)
URL:https://hhyc.org/event/bridge-night/2025-01-20/
END:VEVENT
BEGIN:VEVENT
DTSTART;TZID=America/Los_Angeles:20250120T170000
DTEND;TZID=America/Los_Angeles:20250120T210000
DTSTAMP:20260420T200633
CREATED:20250103T231808Z
LAST-MODIFIED:20250110T221406Z
UID:10003995-1737392400-1737406800@hhyc.org
SUMMARY:Inauguration Party
DESCRIPTION:Join us in celebrating the Inauguration of our 47th President of the United States Donald Trump in the Commodore’s Lounge on Martini Monday\, January 20th\, 2025! Delicious food Buffet and Martini Specials Included
URL:https://hhyc.org/event/inauguration-party/
END:VEVENT
BEGIN:VEVENT
DTSTART;TZID=America/Los_Angeles:20250121T170000
DTEND;TZID=America/Los_Angeles:20250121T210000
DTSTAMP:20260420T200633
CREATED:20240712T172034Z
LAST-MODIFIED:20240712T172036Z
UID:10002385-1737478800-1737493200@hhyc.org
SUMMARY:Taco Tuesday 5pm
DESCRIPTION:Bar Hours: 4:30 PM to 9:00 PMFood Service: 5:00 PM – 8:00 PM(Last call for food orders – 7:45 PM)
URL:https://hhyc.org/event/taco-tuesday-5pm-3/2025-01-21/
END:VEVENT
BEGIN:VEVENT
DTSTART;TZID=America/Los_Angeles:20250122T000000
DTEND;TZID=America/Los_Angeles:20250122T090000
DTSTAMP:20260420T200633
CREATED:20240530T033300Z
LAST-MODIFIED:20240711T223344Z
UID:10001556-1737504000-1737536400@hhyc.org
SUMMARY:Club Closed
DESCRIPTION:
URL:https://hhyc.org/event/club-closed/2025-01-22/
END:VEVENT
BEGIN:VEVENT
DTSTART;TZID=America/Los_Angeles:20250122T190000
DTEND;TZID=America/Los_Angeles:20250122T210000
DTSTAMP:20260420T200633
CREATED:20240531T031414Z
LAST-MODIFIED:20240715T164751Z
UID:10003209-1737572400-1737579600@hhyc.org
SUMMARY:Coast Guard Auxiliary 7p
DESCRIPTION:
URL:https://hhyc.org/event/coast-guard-auxiliary-7p/2025-01-22/
END:VEVENT
BEGIN:VEVENT
DTSTART;TZID=America/Los_Angeles:20250123T170000
DTEND;TZID=America/Los_Angeles:20250123T210000
DTSTAMP:20260420T200633
CREATED:20240531T033717Z
LAST-MODIFIED:20240715T164548Z
UID:10003087-1737651600-1737666000@hhyc.org
SUMMARY:Club Cigar Night 5p
DESCRIPTION:Cigar Night is Back \n\n\n\nThe Huntington Harbour Yacht Club will be hosting our monthly Cigar Nights this Thursday evening\, January 26th. \n\n\n\n\nThe event will take place in our downstairs outdoor bayside patio area.\n\n\n\nHeaters will be provided\n\n\n\nCome enjoy a Cigar Night with\n\n\n\nStaff Commodore Rudy Lopez\, Jr.\n\n\n\nBring your favorite wraps along with your\n\n\n\ncutters and lighters\, and spend an evening amongst friends.\n\n\n\nYou are welcome to bring a bottle of wine of your choice for a corkage fee of $15.\n\n\n\n\nALSO: 2 for 1 Thursday Night Special  —  See Menu Below \n\n\n\nTWOFER menu items (2 for 1\, can be mixed\, lesser valve item discounted) with a purchase of a drink per each person \n\n\n\n If you have any questions\, please contact Rudy Lopez\, Jr. at 626-482-4246.
URL:https://hhyc.org/event/club-cigar-night-5p/2025-01-23/
END:VEVENT
BEGIN:VEVENT
DTSTART;TZID=America/Los_Angeles:20250124T163000
DTEND;TZID=America/Los_Angeles:20250124T210000
DTSTAMP:20260420T200633
CREATED:20240530T063534Z
LAST-MODIFIED:20240715T144602Z
UID:10002853-1737736200-1737752400@hhyc.org
SUMMARY:Friday Night Dinner 4:30pm - 9pm
DESCRIPTION:
URL:https://hhyc.org/event/friday-night-dinner-430pm-9pm/2025-01-24/
END:VEVENT
BEGIN:VEVENT
DTSTART;TZID=America/Los_Angeles:20250126T103000
DTEND;TZID=America/Los_Angeles:20250126T130000
DTSTAMP:20260420T200633
CREATED:20240623T005036Z
LAST-MODIFIED:20241204T194827Z
UID:10003868-1737887400-1737896400@hhyc.org
SUMMARY:Sunday Breakfast by the bay 10:30am - 1pm
DESCRIPTION:Open to the Public!  \n\n\n\n \n\n\n\nEnjoy our breathtaking harborside views while sipping on a mimosa and indulging in our delicious breakfast offerings!
URL:https://hhyc.org/event/sunday-brunch-1030am-1pm-2/2025-01-26/
END:VEVENT
BEGIN:VEVENT
DTSTART;TZID=America/Los_Angeles:20250126T130000
DTEND;TZID=America/Los_Angeles:20250126T180000
DTSTAMP:20260420T200633
CREATED:20240530T065316Z
LAST-MODIFIED:20240715T165503Z
UID:10003708-1737896400-1737914400@hhyc.org
SUMMARY:Commodore's Lounge 1pm-6pm
DESCRIPTION:Bar only with popcorn and our famous Parson’s Pretzels!
URL:https://hhyc.org/event/commodores-lounge-1pm-6pm/2025-01-26/
END:VEVENT
BEGIN:VEVENT
DTSTART;TZID=America/Los_Angeles:20250127T103000
DTEND;TZID=America/Los_Angeles:20250127T140000
DTSTAMP:20260420T200633
CREATED:20240530T065656Z
LAST-MODIFIED:20241204T200224Z
UID:10000511-1737973800-1737986400@hhyc.org
SUMMARY:Bridge Night
DESCRIPTION:Please contact the office for more information – 562.592.2186 (10a-3p)
URL:https://hhyc.org/event/bridge-night/2025-01-27/
END:VEVENT
BEGIN:VEVENT
DTSTART;TZID=America/Los_Angeles:20250128T170000
DTEND;TZID=America/Los_Angeles:20250128T210000
DTSTAMP:20260420T200633
CREATED:20240712T172034Z
LAST-MODIFIED:20240712T172036Z
UID:10002386-1738083600-1738098000@hhyc.org
SUMMARY:Taco Tuesday 5pm
DESCRIPTION:Bar Hours: 4:30 PM to 9:00 PMFood Service: 5:00 PM – 8:00 PM(Last call for food orders – 7:45 PM)
URL:https://hhyc.org/event/taco-tuesday-5pm-3/2025-01-28/
END:VEVENT
BEGIN:VEVENT
DTSTART;TZID=America/Los_Angeles:20250131T163000
DTEND;TZID=America/Los_Angeles:20250131T210000
DTSTAMP:20260420T200633
CREATED:20240530T063534Z
LAST-MODIFIED:20240715T144602Z
UID:10002854-1738341000-1738357200@hhyc.org
SUMMARY:Friday Night Dinner 4:30pm - 9pm
DESCRIPTION:
URL:https://hhyc.org/event/friday-night-dinner-430pm-9pm/2025-01-31/
END:VEVENT
BEGIN:VEVENT
DTSTART;TZID=America/Los_Angeles:20250202T103000
DTEND;TZID=America/Los_Angeles:20250202T130000
DTSTAMP:20260420T200633
CREATED:20240623T005036Z
LAST-MODIFIED:20241204T194827Z
UID:10003869-1738492200-1738501200@hhyc.org
SUMMARY:Sunday Breakfast by the bay 10:30am - 1pm
DESCRIPTION:Open to the Public!  \n\n\n\n \n\n\n\nEnjoy our breathtaking harborside views while sipping on a mimosa and indulging in our delicious breakfast offerings!
URL:https://hhyc.org/event/sunday-brunch-1030am-1pm-2/2025-02-02/
END:VEVENT
BEGIN:VEVENT
DTSTART;TZID=America/Los_Angeles:20250202T130000
DTEND;TZID=America/Los_Angeles:20250202T180000
DTSTAMP:20260420T200633
CREATED:20240530T065316Z
LAST-MODIFIED:20240715T165503Z
UID:10003709-1738501200-1738519200@hhyc.org
SUMMARY:Commodore's Lounge 1pm-6pm
DESCRIPTION:Bar only with popcorn and our famous Parson’s Pretzels!
URL:https://hhyc.org/event/commodores-lounge-1pm-6pm/2025-02-02/
END:VEVENT
BEGIN:VEVENT
DTSTART;TZID=America/Los_Angeles:20250203T103000
DTEND;TZID=America/Los_Angeles:20250203T140000
DTSTAMP:20260420T200633
CREATED:20240530T065656Z
LAST-MODIFIED:20241204T200224Z
UID:10000512-1738578600-1738591200@hhyc.org
SUMMARY:Bridge Night
DESCRIPTION:Please contact the office for more information – 562.592.2186 (10a-3p)
URL:https://hhyc.org/event/bridge-night/2025-02-03/
END:VEVENT
BEGIN:VEVENT
DTSTART;TZID=America/Los_Angeles:20250204T170000
DTEND;TZID=America/Los_Angeles:20250204T210000
DTSTAMP:20260420T200633
CREATED:20240712T172034Z
LAST-MODIFIED:20240712T172036Z
UID:10002387-1738688400-1738702800@hhyc.org
SUMMARY:Taco Tuesday 5pm
DESCRIPTION:Bar Hours: 4:30 PM to 9:00 PMFood Service: 5:00 PM – 8:00 PM(Last call for food orders – 7:45 PM)
URL:https://hhyc.org/event/taco-tuesday-5pm-3/2025-02-04/
END:VEVENT
BEGIN:VEVENT
DTSTART;TZID=America/Los_Angeles:20250205T100000
DTEND;TZID=America/Los_Angeles:20250205T140000
DTSTAMP:20260420T200633
CREATED:20241204T204438Z
LAST-MODIFIED:20241204T204446Z
UID:10003987-1738749600-1738764000@hhyc.org
SUMMARY:Sea Belles Luncheon
DESCRIPTION:
URL:https://hhyc.org/event/sea-belles-luncheon-3/2025-02-05/
END:VEVENT
BEGIN:VEVENT
DTSTART;TZID=America/Los_Angeles:20250207T163000
DTEND;TZID=America/Los_Angeles:20250207T210000
DTSTAMP:20260420T200633
CREATED:20240530T063534Z
LAST-MODIFIED:20240715T144602Z
UID:10004046-1738945800-1738962000@hhyc.org
SUMMARY:Friday Night Dinner 4:30pm - 9pm
DESCRIPTION:
URL:https://hhyc.org/event/friday-night-dinner-430pm-9pm/2025-02-07/
END:VEVENT
BEGIN:VEVENT
DTSTART;TZID=America/Los_Angeles:20250207T180000
DTEND;TZID=America/Los_Angeles:20250207T220000
DTSTAMP:20260420T200633
CREATED:20241204T195928Z
LAST-MODIFIED:20250123T190653Z
UID:10003914-1738951200-1738965600@hhyc.org
SUMMARY:Birthday Dinner January/February
DESCRIPTION:Join us for our first birthday dinner of HHYC’s 60th Year! Celebrating our members with birthdays in January and February.
URL:https://hhyc.org/event/birthday-dinner-january-february/
END:VEVENT
BEGIN:VEVENT
DTSTART;TZID=America/Los_Angeles:20250209T103000
DTEND;TZID=America/Los_Angeles:20250209T130000
DTSTAMP:20260420T200633
CREATED:20240623T005036Z
LAST-MODIFIED:20241204T194827Z
UID:10003870-1739097000-1739106000@hhyc.org
SUMMARY:Sunday Breakfast by the bay 10:30am - 1pm
DESCRIPTION:Open to the Public!  \n\n\n\n \n\n\n\nEnjoy our breathtaking harborside views while sipping on a mimosa and indulging in our delicious breakfast offerings!
URL:https://hhyc.org/event/sunday-brunch-1030am-1pm-2/2025-02-09/
END:VEVENT
BEGIN:VEVENT
DTSTART;TZID=America/Los_Angeles:20250209T143000
DTEND;TZID=America/Los_Angeles:20250209T193000
DTSTAMP:20260420T200633
CREATED:20250128T194159Z
LAST-MODIFIED:20250205T001613Z
UID:10004003-1739111400-1739129400@hhyc.org
SUMMARY:HHYC Super Bowl Party
DESCRIPTION:This is an HHYC Members Only Event- All guests of active members must be added to the member’s reservation.
URL:https://hhyc.org/event/hhyc-super-bowl-party/
END:VEVENT
BEGIN:VEVENT
DTSTART;TZID=America/Los_Angeles:20250210T103000
DTEND;TZID=America/Los_Angeles:20250210T140000
DTSTAMP:20260420T200633
CREATED:20240530T065656Z
LAST-MODIFIED:20241204T200224Z
UID:10000513-1739183400-1739196000@hhyc.org
SUMMARY:Bridge Night
DESCRIPTION:Please contact the office for more information – 562.592.2186 (10a-3p)
URL:https://hhyc.org/event/bridge-night/2025-02-10/
END:VEVENT
BEGIN:VEVENT
DTSTART;TZID=America/Los_Angeles:20250211T170000
DTEND;TZID=America/Los_Angeles:20250211T210000
DTSTAMP:20260420T200633
CREATED:20240712T172034Z
LAST-MODIFIED:20240712T172036Z
UID:10002388-1739293200-1739307600@hhyc.org
SUMMARY:Taco Tuesday 5pm
DESCRIPTION:Bar Hours: 4:30 PM to 9:00 PMFood Service: 5:00 PM – 8:00 PM(Last call for food orders – 7:45 PM)
URL:https://hhyc.org/event/taco-tuesday-5pm-3/2025-02-11/
END:VEVENT
BEGIN:VEVENT
DTSTART;TZID=America/Los_Angeles:20250212T180000
DTEND;TZID=America/Los_Angeles:20250212T210000
DTSTAMP:20260420T200633
CREATED:20240530T232016Z
LAST-MODIFIED:20240715T165211Z
UID:10003455-1739383200-1739394000@hhyc.org
SUMMARY:Board Meeting 6pm
DESCRIPTION:
URL:https://hhyc.org/event/board-meeting-6pm/2025-02-12/
END:VEVENT
BEGIN:VEVENT
DTSTART;TZID=America/Los_Angeles:20250214T163000
DTEND;TZID=America/Los_Angeles:20250214T210000
DTSTAMP:20260420T200633
CREATED:20240530T063534Z
LAST-MODIFIED:20240715T144602Z
UID:10004047-1739550600-1739566800@hhyc.org
SUMMARY:Friday Night Dinner 4:30pm - 9pm
DESCRIPTION:
URL:https://hhyc.org/event/friday-night-dinner-430pm-9pm/2025-02-14/
END:VEVENT
END:VCALENDAR