BEGIN:VCALENDAR
VERSION:2.0
PRODID:-//Huntington Harbour Yacht Club - Huntington Beach, CA - ECPv6.15.20//NONSGML v1.0//EN
CALSCALE:GREGORIAN
METHOD:PUBLISH
X-WR-CALNAME:Huntington Harbour Yacht Club - Huntington Beach, CA
X-ORIGINAL-URL:https://hhyc.org
X-WR-CALDESC:Events for Huntington Harbour Yacht Club - Huntington Beach, CA
REFRESH-INTERVAL;VALUE=DURATION:PT1H
X-Robots-Tag:noindex
X-PUBLISHED-TTL:PT1H
BEGIN:VTIMEZONE
TZID:America/Los_Angeles
BEGIN:DAYLIGHT
TZOFFSETFROM:-0800
TZOFFSETTO:-0700
TZNAME:PDT
DTSTART:20240310T100000
END:DAYLIGHT
BEGIN:STANDARD
TZOFFSETFROM:-0700
TZOFFSETTO:-0800
TZNAME:PST
DTSTART:20241103T090000
END:STANDARD
BEGIN:DAYLIGHT
TZOFFSETFROM:-0800
TZOFFSETTO:-0700
TZNAME:PDT
DTSTART:20250309T100000
END:DAYLIGHT
BEGIN:STANDARD
TZOFFSETFROM:-0700
TZOFFSETTO:-0800
TZNAME:PST
DTSTART:20251102T090000
END:STANDARD
BEGIN:DAYLIGHT
TZOFFSETFROM:-0800
TZOFFSETTO:-0700
TZNAME:PDT
DTSTART:20260308T100000
END:DAYLIGHT
BEGIN:STANDARD
TZOFFSETFROM:-0700
TZOFFSETTO:-0800
TZNAME:PST
DTSTART:20261101T090000
END:STANDARD
END:VTIMEZONE
BEGIN:VEVENT
DTSTART;TZID=America/Los_Angeles:20250718T100000
DTEND;TZID=America/Los_Angeles:20250720T100000
DTSTAMP:20260420T184731
CREATED:20250105T231000Z
LAST-MODIFIED:20250617T205357Z
UID:10003999-1752832800-1753005600@hhyc.org
SUMMARY:Cruise to Marina Del Rey
DESCRIPTION:Details Forthcoming from Fleet Captain Nicole Peoples
URL:https://hhyc.org/event/cruise-to-san-pedro/
END:VEVENT
BEGIN:VEVENT
DTSTART;TZID=America/Los_Angeles:20250720T103000
DTEND;TZID=America/Los_Angeles:20250720T130000
DTSTAMP:20260420T184731
CREATED:20240623T005036Z
LAST-MODIFIED:20241204T194827Z
UID:10003890-1753007400-1753016400@hhyc.org
SUMMARY:Sunday Breakfast by the bay 10:30am - 1pm
DESCRIPTION:Open to the Public!  \n\n\n\n \n\n\n\nEnjoy our breathtaking harborside views while sipping on a mimosa and indulging in our delicious breakfast offerings!
URL:https://hhyc.org/event/sunday-brunch-1030am-1pm-2/2025-07-20/
END:VEVENT
BEGIN:VEVENT
DTSTART;TZID=America/Los_Angeles:20250720T130000
DTEND;TZID=America/Los_Angeles:20250720T180000
DTSTAMP:20260420T184731
CREATED:20240530T065316Z
LAST-MODIFIED:20240715T165503Z
UID:10003733-1753016400-1753034400@hhyc.org
SUMMARY:Commodore's Lounge 1pm-6pm
DESCRIPTION:Bar only with popcorn and our famous Parson’s Pretzels!
URL:https://hhyc.org/event/commodores-lounge-1pm-6pm/2025-07-20/
END:VEVENT
BEGIN:VEVENT
DTSTART;TZID=America/Los_Angeles:20250720T140000
DTEND;TZID=America/Los_Angeles:20250720T190000
DTSTAMP:20260420T184731
CREATED:20241204T201821Z
LAST-MODIFIED:20250708T163624Z
UID:10003975-1753020000-1753038000@hhyc.org
SUMMARY:Sea Belles Bingo & "Grill Your Own" BBQ
DESCRIPTION:Join us for Bingo and a “Grill Your Own” BBQ! Details listed on the flyers below\, RSVP required for the “Grill Your Own” event. Please RSVP by July 18th. \n\n\nPlease enable JavaScript in your browser to complete this form.Please enable JavaScript in your browser to complete this form.Name *FirstLastPhone		\n			Phone or purchasing\n			\n		\n		Email *Total # of Guests (please list their names)Will you be bringing your own protein or purchasing a burger patty from HHYC? *Bringing my ProteinPurchasing from HHYCSubmit
URL:https://hhyc.org/event/sea-belles-bingo-7/
END:VEVENT
BEGIN:VEVENT
DTSTART;TZID=America/Los_Angeles:20250721T113000
DTEND;TZID=America/Los_Angeles:20250721T150000
DTSTAMP:20260420T184731
CREATED:20240530T065656Z
LAST-MODIFIED:20241204T200224Z
UID:10003937-1753097400-1753110000@hhyc.org
SUMMARY:Bridge Night
DESCRIPTION:Please contact the office for more information – 562.592.2186 (10a-3p)
URL:https://hhyc.org/event/bridge-night/2025-07-21/
END:VEVENT
BEGIN:VEVENT
DTSTART;TZID=America/Los_Angeles:20250722T170000
DTEND;TZID=America/Los_Angeles:20250722T210000
DTSTAMP:20260420T184731
CREATED:20240712T172034Z
LAST-MODIFIED:20240712T172036Z
UID:10002411-1753203600-1753218000@hhyc.org
SUMMARY:Taco Tuesday 5pm
DESCRIPTION:Bar Hours: 4:30 PM to 9:00 PMFood Service: 5:00 PM – 8:00 PM(Last call for food orders – 7:45 PM)
URL:https://hhyc.org/event/taco-tuesday-5pm-3/2025-07-22/
END:VEVENT
BEGIN:VEVENT
DTSTART;TZID=America/Los_Angeles:20250723T190000
DTEND;TZID=America/Los_Angeles:20250723T210000
DTSTAMP:20260420T184731
CREATED:20240531T031414Z
LAST-MODIFIED:20240715T164751Z
UID:10003215-1753297200-1753304400@hhyc.org
SUMMARY:Coast Guard Auxiliary 7p
DESCRIPTION:
URL:https://hhyc.org/event/coast-guard-auxiliary-7p/2025-07-23/
END:VEVENT
BEGIN:VEVENT
DTSTART;TZID=America/Los_Angeles:20250724T170000
DTEND;TZID=America/Los_Angeles:20250724T210000
DTSTAMP:20260420T184731
CREATED:20240531T033717Z
LAST-MODIFIED:20240715T164548Z
UID:10003093-1753376400-1753390800@hhyc.org
SUMMARY:Club Cigar Night 5p
DESCRIPTION:Cigar Night is Back \n\n\n\nThe Huntington Harbour Yacht Club will be hosting our monthly Cigar Nights this Thursday evening\, January 26th. \n\n\n\n\nThe event will take place in our downstairs outdoor bayside patio area.\n\n\n\nHeaters will be provided\n\n\n\nCome enjoy a Cigar Night with\n\n\n\nStaff Commodore Rudy Lopez\, Jr.\n\n\n\nBring your favorite wraps along with your\n\n\n\ncutters and lighters\, and spend an evening amongst friends.\n\n\n\nYou are welcome to bring a bottle of wine of your choice for a corkage fee of $15.\n\n\n\n\nALSO: 2 for 1 Thursday Night Special  —  See Menu Below \n\n\n\nTWOFER menu items (2 for 1\, can be mixed\, lesser valve item discounted) with a purchase of a drink per each person \n\n\n\n If you have any questions\, please contact Rudy Lopez\, Jr. at 626-482-4246.
URL:https://hhyc.org/event/club-cigar-night-5p/2025-07-24/
END:VEVENT
BEGIN:VEVENT
DTSTART;TZID=America/Los_Angeles:20250725T163000
DTEND;TZID=America/Los_Angeles:20250725T210000
DTSTAMP:20260420T184731
CREATED:20240530T063534Z
LAST-MODIFIED:20240715T144602Z
UID:10002879-1753461000-1753477200@hhyc.org
SUMMARY:Friday Night Dinner 4:30pm - 9pm
DESCRIPTION:
URL:https://hhyc.org/event/friday-night-dinner-430pm-9pm/2025-07-25/
END:VEVENT
BEGIN:VEVENT
DTSTART;TZID=America/Los_Angeles:20250727T103000
DTEND;TZID=America/Los_Angeles:20250727T130000
DTSTAMP:20260420T184731
CREATED:20240623T005036Z
LAST-MODIFIED:20241204T194827Z
UID:10003891-1753612200-1753621200@hhyc.org
SUMMARY:Sunday Breakfast by the bay 10:30am - 1pm
DESCRIPTION:Open to the Public!  \n\n\n\n \n\n\n\nEnjoy our breathtaking harborside views while sipping on a mimosa and indulging in our delicious breakfast offerings!
URL:https://hhyc.org/event/sunday-brunch-1030am-1pm-2/2025-07-27/
END:VEVENT
BEGIN:VEVENT
DTSTART;TZID=America/Los_Angeles:20250727T130000
DTEND;TZID=America/Los_Angeles:20250727T180000
DTSTAMP:20260420T184731
CREATED:20240530T065316Z
LAST-MODIFIED:20240715T165503Z
UID:10003734-1753621200-1753639200@hhyc.org
SUMMARY:Commodore's Lounge 1pm-6pm
DESCRIPTION:Bar only with popcorn and our famous Parson’s Pretzels!
URL:https://hhyc.org/event/commodores-lounge-1pm-6pm/2025-07-27/
END:VEVENT
BEGIN:VEVENT
DTSTART;TZID=America/Los_Angeles:20250728T113000
DTEND;TZID=America/Los_Angeles:20250728T150000
DTSTAMP:20260420T184731
CREATED:20240530T065656Z
LAST-MODIFIED:20241204T200224Z
UID:10003938-1753702200-1753714800@hhyc.org
SUMMARY:Bridge Night
DESCRIPTION:Please contact the office for more information – 562.592.2186 (10a-3p)
URL:https://hhyc.org/event/bridge-night/2025-07-28/
END:VEVENT
BEGIN:VEVENT
DTSTART;TZID=America/Los_Angeles:20250729T170000
DTEND;TZID=America/Los_Angeles:20250729T210000
DTSTAMP:20260420T184731
CREATED:20240712T172034Z
LAST-MODIFIED:20240712T172036Z
UID:10002412-1753808400-1753822800@hhyc.org
SUMMARY:Taco Tuesday 5pm
DESCRIPTION:Bar Hours: 4:30 PM to 9:00 PMFood Service: 5:00 PM – 8:00 PM(Last call for food orders – 7:45 PM)
URL:https://hhyc.org/event/taco-tuesday-5pm-3/2025-07-29/
END:VEVENT
BEGIN:VEVENT
DTSTART;TZID=America/Los_Angeles:20250801T163000
DTEND;TZID=America/Los_Angeles:20250801T210000
DTSTAMP:20260420T184731
CREATED:20240530T063534Z
LAST-MODIFIED:20240715T144602Z
UID:10002880-1754065800-1754082000@hhyc.org
SUMMARY:Friday Night Dinner 4:30pm - 9pm
DESCRIPTION:
URL:https://hhyc.org/event/friday-night-dinner-430pm-9pm/2025-08-01/
END:VEVENT
BEGIN:VEVENT
DTSTART;TZID=America/Los_Angeles:20250803T103000
DTEND;TZID=America/Los_Angeles:20250803T130000
DTSTAMP:20260420T184731
CREATED:20240623T005036Z
LAST-MODIFIED:20241204T194827Z
UID:10003892-1754217000-1754226000@hhyc.org
SUMMARY:Sunday Breakfast by the bay 10:30am - 1pm
DESCRIPTION:Open to the Public!  \n\n\n\n \n\n\n\nEnjoy our breathtaking harborside views while sipping on a mimosa and indulging in our delicious breakfast offerings!
URL:https://hhyc.org/event/sunday-brunch-1030am-1pm-2/2025-08-03/
END:VEVENT
BEGIN:VEVENT
DTSTART;TZID=America/Los_Angeles:20250803T130000
DTEND;TZID=America/Los_Angeles:20250803T180000
DTSTAMP:20260420T184731
CREATED:20240530T065316Z
LAST-MODIFIED:20240715T165503Z
UID:10003735-1754226000-1754244000@hhyc.org
SUMMARY:Commodore's Lounge 1pm-6pm
DESCRIPTION:Bar only with popcorn and our famous Parson’s Pretzels!
URL:https://hhyc.org/event/commodores-lounge-1pm-6pm/2025-08-03/
END:VEVENT
BEGIN:VEVENT
DTSTART;TZID=America/Los_Angeles:20250804T113000
DTEND;TZID=America/Los_Angeles:20250804T150000
DTSTAMP:20260420T184731
CREATED:20240530T065656Z
LAST-MODIFIED:20241204T200224Z
UID:10003939-1754307000-1754319600@hhyc.org
SUMMARY:Bridge Night
DESCRIPTION:Please contact the office for more information – 562.592.2186 (10a-3p)
URL:https://hhyc.org/event/bridge-night/2025-08-04/
END:VEVENT
BEGIN:VEVENT
DTSTART;TZID=America/Los_Angeles:20250805T170000
DTEND;TZID=America/Los_Angeles:20250805T210000
DTSTAMP:20260420T184731
CREATED:20240712T172034Z
LAST-MODIFIED:20240712T172036Z
UID:10002413-1754413200-1754427600@hhyc.org
SUMMARY:Taco Tuesday 5pm
DESCRIPTION:Bar Hours: 4:30 PM to 9:00 PMFood Service: 5:00 PM – 8:00 PM(Last call for food orders – 7:45 PM)
URL:https://hhyc.org/event/taco-tuesday-5pm-3/2025-08-05/
END:VEVENT
BEGIN:VEVENT
DTSTART;TZID=America/Los_Angeles:20250808T163000
DTEND;TZID=America/Los_Angeles:20250808T210000
DTSTAMP:20260420T184731
CREATED:20240530T063534Z
LAST-MODIFIED:20240715T144602Z
UID:10002881-1754670600-1754686800@hhyc.org
SUMMARY:Friday Night Dinner 4:30pm - 9pm
DESCRIPTION:
URL:https://hhyc.org/event/friday-night-dinner-430pm-9pm/2025-08-08/
END:VEVENT
BEGIN:VEVENT
DTSTART;TZID=America/Los_Angeles:20250808T170000
DTEND;TZID=America/Los_Angeles:20250808T220000
DTSTAMP:20260420T184731
CREATED:20241204T201911Z
LAST-MODIFIED:20250722T191157Z
UID:10003976-1754672400-1754690400@hhyc.org
SUMMARY:Birthday Dinner July/August
DESCRIPTION:RSVP on the form below for our July/August Birthday Dinner by August 5th. We will have an amazing 3-Course Surf n Turf Dinner and entertainment by Dave Alcantar! You don’t want to miss this! \n\n\n\n \n\n\nPlease enable JavaScript in your browser to complete this form.Please enable JavaScript in your browser to complete this form.Name *FirstLastEmail *Total # of Guests (please list their names) in Your PartyName(s) of Birthday Celebrant (if applicable)		\n			if Dietary (if\n			\n		\n		Please List Your Dietary Restrictions if Applicable *Submit
URL:https://hhyc.org/event/birthday-dinner-july-august/
END:VEVENT
BEGIN:VEVENT
DTSTART;TZID=America/Los_Angeles:20250810T103000
DTEND;TZID=America/Los_Angeles:20250810T130000
DTSTAMP:20260420T184731
CREATED:20240623T005036Z
LAST-MODIFIED:20241204T194827Z
UID:10003893-1754821800-1754830800@hhyc.org
SUMMARY:Sunday Breakfast by the bay 10:30am - 1pm
DESCRIPTION:Open to the Public!  \n\n\n\n \n\n\n\nEnjoy our breathtaking harborside views while sipping on a mimosa and indulging in our delicious breakfast offerings!
URL:https://hhyc.org/event/sunday-brunch-1030am-1pm-2/2025-08-10/
END:VEVENT
BEGIN:VEVENT
DTSTART;TZID=America/Los_Angeles:20250810T130000
DTEND;TZID=America/Los_Angeles:20250810T180000
DTSTAMP:20260420T184731
CREATED:20240530T065316Z
LAST-MODIFIED:20240715T165503Z
UID:10003736-1754830800-1754848800@hhyc.org
SUMMARY:Commodore's Lounge 1pm-6pm
DESCRIPTION:Bar only with popcorn and our famous Parson’s Pretzels!
URL:https://hhyc.org/event/commodores-lounge-1pm-6pm/2025-08-10/
END:VEVENT
BEGIN:VEVENT
DTSTART;TZID=America/Los_Angeles:20250811T113000
DTEND;TZID=America/Los_Angeles:20250811T150000
DTSTAMP:20260420T184731
CREATED:20240530T065656Z
LAST-MODIFIED:20241204T200224Z
UID:10003940-1754911800-1754924400@hhyc.org
SUMMARY:Bridge Night
DESCRIPTION:Please contact the office for more information – 562.592.2186 (10a-3p)
URL:https://hhyc.org/event/bridge-night/2025-08-11/
END:VEVENT
BEGIN:VEVENT
DTSTART;TZID=America/Los_Angeles:20250812T170000
DTEND;TZID=America/Los_Angeles:20250812T210000
DTSTAMP:20260420T184731
CREATED:20240712T172034Z
LAST-MODIFIED:20240712T172036Z
UID:10002414-1755018000-1755032400@hhyc.org
SUMMARY:Taco Tuesday 5pm
DESCRIPTION:Bar Hours: 4:30 PM to 9:00 PMFood Service: 5:00 PM – 8:00 PM(Last call for food orders – 7:45 PM)
URL:https://hhyc.org/event/taco-tuesday-5pm-3/2025-08-12/
END:VEVENT
BEGIN:VEVENT
DTSTART;TZID=America/Los_Angeles:20250813T180000
DTEND;TZID=America/Los_Angeles:20250813T210000
DTSTAMP:20260420T184731
CREATED:20240530T232016Z
LAST-MODIFIED:20240715T165211Z
UID:10003461-1755108000-1755118800@hhyc.org
SUMMARY:Board Meeting 6pm
DESCRIPTION:
URL:https://hhyc.org/event/board-meeting-6pm/2025-08-13/
END:VEVENT
BEGIN:VEVENT
DTSTART;TZID=America/Los_Angeles:20250815T000000
DTEND;TZID=America/Los_Angeles:20250817T235959
DTSTAMP:20260420T184731
CREATED:20250105T231121Z
LAST-MODIFIED:20250617T205445Z
UID:10004000-1755216000-1755475199@hhyc.org
SUMMARY:Cruise To King Harbor\, Redondo Beach
DESCRIPTION:Details Forthcoming from Fleet Captain Nicole Peoples
URL:https://hhyc.org/event/cruise-tbd/
END:VEVENT
BEGIN:VEVENT
DTSTART;TZID=America/Los_Angeles:20250815T163000
DTEND;TZID=America/Los_Angeles:20250815T210000
DTSTAMP:20260420T184731
CREATED:20240530T063534Z
LAST-MODIFIED:20240715T144602Z
UID:10002882-1755275400-1755291600@hhyc.org
SUMMARY:Friday Night Dinner 4:30pm - 9pm
DESCRIPTION:
URL:https://hhyc.org/event/friday-night-dinner-430pm-9pm/2025-08-15/
END:VEVENT
BEGIN:VEVENT
DTSTART;TZID=America/Los_Angeles:20250817T103000
DTEND;TZID=America/Los_Angeles:20250817T130000
DTSTAMP:20260420T184731
CREATED:20240623T005036Z
LAST-MODIFIED:20241204T194827Z
UID:10003894-1755426600-1755435600@hhyc.org
SUMMARY:Sunday Breakfast by the bay 10:30am - 1pm
DESCRIPTION:Open to the Public!  \n\n\n\n \n\n\n\nEnjoy our breathtaking harborside views while sipping on a mimosa and indulging in our delicious breakfast offerings!
URL:https://hhyc.org/event/sunday-brunch-1030am-1pm-2/2025-08-17/
END:VEVENT
BEGIN:VEVENT
DTSTART;TZID=America/Los_Angeles:20250817T130000
DTEND;TZID=America/Los_Angeles:20250817T180000
DTSTAMP:20260420T184731
CREATED:20240530T065316Z
LAST-MODIFIED:20240715T165503Z
UID:10003737-1755435600-1755453600@hhyc.org
SUMMARY:Commodore's Lounge 1pm-6pm
DESCRIPTION:Bar only with popcorn and our famous Parson’s Pretzels!
URL:https://hhyc.org/event/commodores-lounge-1pm-6pm/2025-08-17/
END:VEVENT
BEGIN:VEVENT
DTSTART;TZID=America/Los_Angeles:20250817T140000
DTEND;TZID=America/Los_Angeles:20250817T160000
DTSTAMP:20260420T184731
CREATED:20241204T201950Z
LAST-MODIFIED:20250528T162602Z
UID:10003977-1755439200-1755446400@hhyc.org
SUMMARY:Sea Belles Bingo
DESCRIPTION:
URL:https://hhyc.org/event/sea-belles-bingo-8/
END:VEVENT
END:VCALENDAR