BEGIN:VCALENDAR
VERSION:2.0
PRODID:-//Huntington Harbour Yacht Club - Huntington Beach, CA - ECPv6.15.20//NONSGML v1.0//EN
CALSCALE:GREGORIAN
METHOD:PUBLISH
X-WR-CALNAME:Huntington Harbour Yacht Club - Huntington Beach, CA
X-ORIGINAL-URL:https://hhyc.org
X-WR-CALDESC:Events for Huntington Harbour Yacht Club - Huntington Beach, CA
REFRESH-INTERVAL;VALUE=DURATION:PT1H
X-Robots-Tag:noindex
X-PUBLISHED-TTL:PT1H
BEGIN:VTIMEZONE
TZID:America/Los_Angeles
BEGIN:DAYLIGHT
TZOFFSETFROM:-0800
TZOFFSETTO:-0700
TZNAME:PDT
DTSTART:20240310T100000
END:DAYLIGHT
BEGIN:STANDARD
TZOFFSETFROM:-0700
TZOFFSETTO:-0800
TZNAME:PST
DTSTART:20241103T090000
END:STANDARD
BEGIN:DAYLIGHT
TZOFFSETFROM:-0800
TZOFFSETTO:-0700
TZNAME:PDT
DTSTART:20250309T100000
END:DAYLIGHT
BEGIN:STANDARD
TZOFFSETFROM:-0700
TZOFFSETTO:-0800
TZNAME:PST
DTSTART:20251102T090000
END:STANDARD
BEGIN:DAYLIGHT
TZOFFSETFROM:-0800
TZOFFSETTO:-0700
TZNAME:PDT
DTSTART:20260308T100000
END:DAYLIGHT
BEGIN:STANDARD
TZOFFSETFROM:-0700
TZOFFSETTO:-0800
TZNAME:PST
DTSTART:20261101T090000
END:STANDARD
END:VTIMEZONE
BEGIN:VEVENT
DTSTART;TZID=America/Los_Angeles:20250620T100000
DTEND;TZID=America/Los_Angeles:20250622T100000
DTSTAMP:20260420T224602
CREATED:20250105T230852Z
LAST-MODIFIED:20250617T205649Z
UID:10003998-1750413600-1750586400@hhyc.org
SUMMARY:Cruise to Dana Point
DESCRIPTION:$15 per person \n\n\n\nCome enjoy the weekend in Dana Point! Dana Point Yacht Club is our host club. Enjoy the Club’s beautiful location on the point of Dana Drive overlooking the ocean\, the harbor and the Ocean Institute. They offer food and beverage service from 11 AM to 8 PM. They also have music in the upstairs lounge. \n\n\n\nOur weekend itinerary – \n\n\n\nFriday Night Cocktail Party – 5 PM Look for HHYC on the dock at DPYC for a cocktail party hosted by Sandy Alsina. Please bring an appetizer to share. Also\, please keep the dock gate closed at all times. \n\n\n\nSaturday Day – Dana Point has lots of activities besides boating: kayak and paddleboard rentals\, whale watching\, the Ocean Institute\, Doheny State Beach\, a city walking tour and more. There is also a great little winery on the water – Frisby Cellars located on the Dana Wharf. We checked it out last week and the wines are worth tasting! There’s lots of great restaurants too! \n\n\n\nCheck out this link for more ideas! https://jen33travel.com/blog/15-fun-things-to-do-in-dana-point-california \n\n\n\nSaturday Night – 5:30 PM – Cocktails and Dinner at Dana Point Yacht Club. DPYC is hosting us in their downstairs dining room. Enjoy the club and afterwards\, head up the stairs to their other bar and enjoy the company of the DPYC members. The Club has a great menu selection with prices ranging from $10 to $30. \n\n\n\nSunday – if you’re still around\, enjoy the DPYC Sunday brunch with live music! 11 AM \n\n\n\nAnchoring on the West Side- Please contact the OC Sheriff Harbor Patrol at (949)248-2222 for details. If you still want a slip\, please contact the Marina at (949) 496-6137. \n\n\n\nArea hotels – Best Western Plus Marina Shores\, Hilton Garden Inn Dana Point\, Blue Lantern Inn \n\n\n\nDana Point Yacht Club \n\n\n\n24399 Dana Drive\, Dana Point\, CA 92629 (949) 496-2900 www.dpyc.org \n\n\n\nPlease RSVP for Saturday night by Tuesday June 17 so we can give DPYC a head count on Wednesday. \n\n\n\nRSVP to Nicole Peoples (562) 225-6656 or nlpeoples@gmail.com
URL:https://hhyc.org/event/cruise-to-isthmus-catalina/
END:VEVENT
BEGIN:VEVENT
DTSTART;TZID=America/Los_Angeles:20250622T103000
DTEND;TZID=America/Los_Angeles:20250622T130000
DTSTAMP:20260420T224602
CREATED:20240623T005036Z
LAST-MODIFIED:20241204T194827Z
UID:10003886-1750588200-1750597200@hhyc.org
SUMMARY:Sunday Breakfast by the bay 10:30am - 1pm
DESCRIPTION:Open to the Public!  \n\n\n\n \n\n\n\nEnjoy our breathtaking harborside views while sipping on a mimosa and indulging in our delicious breakfast offerings!
URL:https://hhyc.org/event/sunday-brunch-1030am-1pm-2/2025-06-22/
END:VEVENT
BEGIN:VEVENT
DTSTART;TZID=America/Los_Angeles:20250622T130000
DTEND;TZID=America/Los_Angeles:20250622T180000
DTSTAMP:20260420T224602
CREATED:20240530T065316Z
LAST-MODIFIED:20240715T165503Z
UID:10003729-1750597200-1750615200@hhyc.org
SUMMARY:Commodore's Lounge 1pm-6pm
DESCRIPTION:Bar only with popcorn and our famous Parson’s Pretzels!
URL:https://hhyc.org/event/commodores-lounge-1pm-6pm/2025-06-22/
END:VEVENT
BEGIN:VEVENT
DTSTART;TZID=America/Los_Angeles:20250623T113000
DTEND;TZID=America/Los_Angeles:20250623T150000
DTSTAMP:20260420T224602
CREATED:20240530T065656Z
LAST-MODIFIED:20241204T200224Z
UID:10003933-1750678200-1750690800@hhyc.org
SUMMARY:Bridge Night
DESCRIPTION:Please contact the office for more information – 562.592.2186 (10a-3p)
URL:https://hhyc.org/event/bridge-night/2025-06-23/
END:VEVENT
BEGIN:VEVENT
DTSTART;TZID=America/Los_Angeles:20250624T170000
DTEND;TZID=America/Los_Angeles:20250624T210000
DTSTAMP:20260420T224602
CREATED:20240712T172034Z
LAST-MODIFIED:20240712T172036Z
UID:10002407-1750784400-1750798800@hhyc.org
SUMMARY:Taco Tuesday 5pm
DESCRIPTION:Bar Hours: 4:30 PM to 9:00 PMFood Service: 5:00 PM – 8:00 PM(Last call for food orders – 7:45 PM)
URL:https://hhyc.org/event/taco-tuesday-5pm-3/2025-06-24/
END:VEVENT
BEGIN:VEVENT
DTSTART;TZID=America/Los_Angeles:20250625T190000
DTEND;TZID=America/Los_Angeles:20250625T210000
DTSTAMP:20260420T224602
CREATED:20240531T031414Z
LAST-MODIFIED:20240715T164751Z
UID:10003214-1750878000-1750885200@hhyc.org
SUMMARY:Coast Guard Auxiliary 7p
DESCRIPTION:
URL:https://hhyc.org/event/coast-guard-auxiliary-7p/2025-06-25/
END:VEVENT
BEGIN:VEVENT
DTSTART;TZID=America/Los_Angeles:20250626T170000
DTEND;TZID=America/Los_Angeles:20250626T210000
DTSTAMP:20260420T224602
CREATED:20240531T033717Z
LAST-MODIFIED:20240715T164548Z
UID:10003092-1750957200-1750971600@hhyc.org
SUMMARY:Club Cigar Night 5p
DESCRIPTION:Cigar Night is Back \n\n\n\nThe Huntington Harbour Yacht Club will be hosting our monthly Cigar Nights this Thursday evening\, January 26th. \n\n\n\n\nThe event will take place in our downstairs outdoor bayside patio area.\n\n\n\nHeaters will be provided\n\n\n\nCome enjoy a Cigar Night with\n\n\n\nStaff Commodore Rudy Lopez\, Jr.\n\n\n\nBring your favorite wraps along with your\n\n\n\ncutters and lighters\, and spend an evening amongst friends.\n\n\n\nYou are welcome to bring a bottle of wine of your choice for a corkage fee of $15.\n\n\n\n\nALSO: 2 for 1 Thursday Night Special  —  See Menu Below \n\n\n\nTWOFER menu items (2 for 1\, can be mixed\, lesser valve item discounted) with a purchase of a drink per each person \n\n\n\n If you have any questions\, please contact Rudy Lopez\, Jr. at 626-482-4246.
URL:https://hhyc.org/event/club-cigar-night-5p/2025-06-26/
END:VEVENT
BEGIN:VEVENT
DTSTART;TZID=America/Los_Angeles:20250627T163000
DTEND;TZID=America/Los_Angeles:20250627T210000
DTSTAMP:20260420T224602
CREATED:20240530T063534Z
LAST-MODIFIED:20240715T144602Z
UID:10002875-1751041800-1751058000@hhyc.org
SUMMARY:Friday Night Dinner 4:30pm - 9pm
DESCRIPTION:
URL:https://hhyc.org/event/friday-night-dinner-430pm-9pm/2025-06-27/
END:VEVENT
BEGIN:VEVENT
DTSTART;TZID=America/Los_Angeles:20250629T103000
DTEND;TZID=America/Los_Angeles:20250629T130000
DTSTAMP:20260420T224602
CREATED:20240623T005036Z
LAST-MODIFIED:20241204T194827Z
UID:10003887-1751193000-1751202000@hhyc.org
SUMMARY:Sunday Breakfast by the bay 10:30am - 1pm
DESCRIPTION:Open to the Public!  \n\n\n\n \n\n\n\nEnjoy our breathtaking harborside views while sipping on a mimosa and indulging in our delicious breakfast offerings!
URL:https://hhyc.org/event/sunday-brunch-1030am-1pm-2/2025-06-29/
END:VEVENT
BEGIN:VEVENT
DTSTART;TZID=America/Los_Angeles:20250629T130000
DTEND;TZID=America/Los_Angeles:20250629T180000
DTSTAMP:20260420T224602
CREATED:20240530T065316Z
LAST-MODIFIED:20240715T165503Z
UID:10003730-1751202000-1751220000@hhyc.org
SUMMARY:Commodore's Lounge 1pm-6pm
DESCRIPTION:Bar only with popcorn and our famous Parson’s Pretzels!
URL:https://hhyc.org/event/commodores-lounge-1pm-6pm/2025-06-29/
END:VEVENT
BEGIN:VEVENT
DTSTART;TZID=America/Los_Angeles:20250630T113000
DTEND;TZID=America/Los_Angeles:20250630T150000
DTSTAMP:20260420T224602
CREATED:20240530T065656Z
LAST-MODIFIED:20241204T200224Z
UID:10003934-1751283000-1751295600@hhyc.org
SUMMARY:Bridge Night
DESCRIPTION:Please contact the office for more information – 562.592.2186 (10a-3p)
URL:https://hhyc.org/event/bridge-night/2025-06-30/
END:VEVENT
BEGIN:VEVENT
DTSTART;TZID=America/Los_Angeles:20250701T170000
DTEND;TZID=America/Los_Angeles:20250701T210000
DTSTAMP:20260420T224602
CREATED:20240712T172034Z
LAST-MODIFIED:20240712T172036Z
UID:10002408-1751389200-1751403600@hhyc.org
SUMMARY:Taco Tuesday 5pm
DESCRIPTION:Bar Hours: 4:30 PM to 9:00 PMFood Service: 5:00 PM – 8:00 PM(Last call for food orders – 7:45 PM)
URL:https://hhyc.org/event/taco-tuesday-5pm-3/2025-07-01/
END:VEVENT
BEGIN:VEVENT
DTSTART;TZID=America/Los_Angeles:20250704T110000
DTEND;TZID=America/Los_Angeles:20250704T160000
DTSTAMP:20260420T224602
CREATED:20241204T201742Z
LAST-MODIFIED:20250630T230314Z
UID:10003974-1751626800-1751644800@hhyc.org
SUMMARY:4th of July Party
DESCRIPTION:Join us for our annual 4th of July Party! RSVP on the Form Below the Flyer \n\n\n\n10:30am- Duffy/Dinghy Parade Line up (Route Attached Below) \n\n\n\n11am- Parade Starts-decorate your boat patriotically for a chance to win! \n\n\n\n12:00- Check-in (buy your 50/50 tickets!) / Band Starts (Radio 80’s Band) \n\n\n\n12:30pm- Food is Served  \n\n\n\n2:00pm- Winners Announced (the winning boat and 50/50) \n\n\n\n\n\n\nPlease enable JavaScript in your browser to complete this form.Please enable JavaScript in your browser to complete this form.Name *FirstLastEmail *PhoneTotal # of Guests (please list their names) *(Including yourself)\nPlease list any children 6-12 or under 6 if applicable.		\n			(List names) Email\n			\n		\n		Entering Your Boat in the Parade? (List Boat Name)Please Decorate Your Boat Patriotically for the Contest!Submit
URL:https://hhyc.org/event/4th-of-july-party/
END:VEVENT
BEGIN:VEVENT
DTSTART;TZID=America/Los_Angeles:20250704T163000
DTEND;TZID=America/Los_Angeles:20250704T210000
DTSTAMP:20260420T224602
CREATED:20240530T063534Z
LAST-MODIFIED:20240715T144602Z
UID:10002876-1751646600-1751662800@hhyc.org
SUMMARY:Friday Night Dinner 4:30pm - 9pm
DESCRIPTION:
URL:https://hhyc.org/event/friday-night-dinner-430pm-9pm/2025-07-04/
END:VEVENT
BEGIN:VEVENT
DTSTART;TZID=America/Los_Angeles:20250706T103000
DTEND;TZID=America/Los_Angeles:20250706T130000
DTSTAMP:20260420T224602
CREATED:20240623T005036Z
LAST-MODIFIED:20241204T194827Z
UID:10003888-1751797800-1751806800@hhyc.org
SUMMARY:Sunday Breakfast by the bay 10:30am - 1pm
DESCRIPTION:Open to the Public!  \n\n\n\n \n\n\n\nEnjoy our breathtaking harborside views while sipping on a mimosa and indulging in our delicious breakfast offerings!
URL:https://hhyc.org/event/sunday-brunch-1030am-1pm-2/2025-07-06/
END:VEVENT
BEGIN:VEVENT
DTSTART;TZID=America/Los_Angeles:20250706T130000
DTEND;TZID=America/Los_Angeles:20250706T180000
DTSTAMP:20260420T224602
CREATED:20240530T065316Z
LAST-MODIFIED:20240715T165503Z
UID:10003731-1751806800-1751824800@hhyc.org
SUMMARY:Commodore's Lounge 1pm-6pm
DESCRIPTION:Bar only with popcorn and our famous Parson’s Pretzels!
URL:https://hhyc.org/event/commodores-lounge-1pm-6pm/2025-07-06/
END:VEVENT
BEGIN:VEVENT
DTSTART;TZID=America/Los_Angeles:20250707T113000
DTEND;TZID=America/Los_Angeles:20250707T150000
DTSTAMP:20260420T224602
CREATED:20240530T065656Z
LAST-MODIFIED:20241204T200224Z
UID:10003935-1751887800-1751900400@hhyc.org
SUMMARY:Bridge Night
DESCRIPTION:Please contact the office for more information – 562.592.2186 (10a-3p)
URL:https://hhyc.org/event/bridge-night/2025-07-07/
END:VEVENT
BEGIN:VEVENT
DTSTART;TZID=America/Los_Angeles:20250708T170000
DTEND;TZID=America/Los_Angeles:20250708T210000
DTSTAMP:20260420T224602
CREATED:20240712T172034Z
LAST-MODIFIED:20240712T172036Z
UID:10002409-1751994000-1752008400@hhyc.org
SUMMARY:Taco Tuesday 5pm
DESCRIPTION:Bar Hours: 4:30 PM to 9:00 PMFood Service: 5:00 PM – 8:00 PM(Last call for food orders – 7:45 PM)
URL:https://hhyc.org/event/taco-tuesday-5pm-3/2025-07-08/
END:VEVENT
BEGIN:VEVENT
DTSTART;TZID=America/Los_Angeles:20250709T180000
DTEND;TZID=America/Los_Angeles:20250709T210000
DTSTAMP:20260420T224602
CREATED:20240530T232016Z
LAST-MODIFIED:20240715T165211Z
UID:10003460-1752084000-1752094800@hhyc.org
SUMMARY:Board Meeting 6pm
DESCRIPTION:
URL:https://hhyc.org/event/board-meeting-6pm/2025-07-09/
END:VEVENT
BEGIN:VEVENT
DTSTART;TZID=America/Los_Angeles:20250711T163000
DTEND;TZID=America/Los_Angeles:20250711T210000
DTSTAMP:20260420T224602
CREATED:20240530T063534Z
LAST-MODIFIED:20240715T144602Z
UID:10002877-1752251400-1752267600@hhyc.org
SUMMARY:Friday Night Dinner 4:30pm - 9pm
DESCRIPTION:
URL:https://hhyc.org/event/friday-night-dinner-430pm-9pm/2025-07-11/
END:VEVENT
BEGIN:VEVENT
DTSTART;TZID=America/Los_Angeles:20250712T170000
DTEND;TZID=America/Los_Angeles:20250712T213000
DTSTAMP:20260420T224602
CREATED:20250413T204641Z
LAST-MODIFIED:20250611T221659Z
UID:10004052-1752339600-1752355800@hhyc.org
SUMMARY:History Sometimes Repeats Itself Party
DESCRIPTION:Fundraiser event sponsored by the Sea Belles Women’s Auxiliary-  \n\n\n\nLet’s Go Back in Time… Because History Sometimes Repeats Itself! Evening Highlights: \n\n\n\nGames & activities begin at 5:00 PM \n\n\n\nClassic Car Show-off \n\n\n\nCostume Contest: dress from any era or as any historical figure from history \n\n\n\nDinner served at 6:30 PM – Greek & Italian Buffet \n\n\n\nDancing & Live Music by Tricia Freeman Band | 7:00–10:00 PM \n\n\n\nValet Parking \n\n\n\nSilent Auction \n\n\n\nRaffles & 50/50 Drawing \n\n\n\n\n\n\nPlease enable JavaScript in your browser to complete this form.Please enable JavaScript in your browser to complete this form.Name *FirstLastPhoneEmail *		\n			Guests # their\n			\n		\n		Total # of Guests (please list their names)Submit
URL:https://hhyc.org/event/history-sometimes-repeats-itself-party/
END:VEVENT
BEGIN:VEVENT
DTSTART;TZID=America/Los_Angeles:20250713T103000
DTEND;TZID=America/Los_Angeles:20250713T130000
DTSTAMP:20260420T224602
CREATED:20240623T005036Z
LAST-MODIFIED:20241204T194827Z
UID:10003889-1752402600-1752411600@hhyc.org
SUMMARY:Sunday Breakfast by the bay 10:30am - 1pm
DESCRIPTION:Open to the Public!  \n\n\n\n \n\n\n\nEnjoy our breathtaking harborside views while sipping on a mimosa and indulging in our delicious breakfast offerings!
URL:https://hhyc.org/event/sunday-brunch-1030am-1pm-2/2025-07-13/
END:VEVENT
BEGIN:VEVENT
DTSTART;TZID=America/Los_Angeles:20250713T130000
DTEND;TZID=America/Los_Angeles:20250713T180000
DTSTAMP:20260420T224602
CREATED:20240530T065316Z
LAST-MODIFIED:20240715T165503Z
UID:10003732-1752411600-1752429600@hhyc.org
SUMMARY:Commodore's Lounge 1pm-6pm
DESCRIPTION:Bar only with popcorn and our famous Parson’s Pretzels!
URL:https://hhyc.org/event/commodores-lounge-1pm-6pm/2025-07-13/
END:VEVENT
BEGIN:VEVENT
DTSTART;TZID=America/Los_Angeles:20250714T113000
DTEND;TZID=America/Los_Angeles:20250714T150000
DTSTAMP:20260420T224602
CREATED:20240530T065656Z
LAST-MODIFIED:20241204T200224Z
UID:10003936-1752492600-1752505200@hhyc.org
SUMMARY:Bridge Night
DESCRIPTION:Please contact the office for more information – 562.592.2186 (10a-3p)
URL:https://hhyc.org/event/bridge-night/2025-07-14/
END:VEVENT
BEGIN:VEVENT
DTSTART;TZID=America/Los_Angeles:20250715T170000
DTEND;TZID=America/Los_Angeles:20250715T210000
DTSTAMP:20260420T224602
CREATED:20240712T172034Z
LAST-MODIFIED:20240712T172036Z
UID:10002410-1752598800-1752613200@hhyc.org
SUMMARY:Taco Tuesday 5pm
DESCRIPTION:Bar Hours: 4:30 PM to 9:00 PMFood Service: 5:00 PM – 8:00 PM(Last call for food orders – 7:45 PM)
URL:https://hhyc.org/event/taco-tuesday-5pm-3/2025-07-15/
END:VEVENT
BEGIN:VEVENT
DTSTART;TZID=America/Los_Angeles:20250717T183000
DTEND;TZID=America/Los_Angeles:20250717T203000
DTSTAMP:20260420T224602
CREATED:20240531T031059Z
LAST-MODIFIED:20240715T164946Z
UID:10003337-1752777000-1752784200@hhyc.org
SUMMARY:HRRC Seminar 6:30p
DESCRIPTION:
URL:https://hhyc.org/event/hrrc-seminar-630p/2025-07-17/
END:VEVENT
BEGIN:VEVENT
DTSTART;TZID=America/Los_Angeles:20250718T100000
DTEND;TZID=America/Los_Angeles:20250720T100000
DTSTAMP:20260420T224602
CREATED:20250105T231000Z
LAST-MODIFIED:20250617T205357Z
UID:10003999-1752832800-1753005600@hhyc.org
SUMMARY:Cruise to Marina Del Rey
DESCRIPTION:Details Forthcoming from Fleet Captain Nicole Peoples
URL:https://hhyc.org/event/cruise-to-san-pedro/
END:VEVENT
BEGIN:VEVENT
DTSTART;TZID=America/Los_Angeles:20250718T163000
DTEND;TZID=America/Los_Angeles:20250718T210000
DTSTAMP:20260420T224602
CREATED:20240530T063534Z
LAST-MODIFIED:20240715T144602Z
UID:10002878-1752856200-1752872400@hhyc.org
SUMMARY:Friday Night Dinner 4:30pm - 9pm
DESCRIPTION:
URL:https://hhyc.org/event/friday-night-dinner-430pm-9pm/2025-07-18/
END:VEVENT
BEGIN:VEVENT
DTSTART;TZID=America/Los_Angeles:20250720T103000
DTEND;TZID=America/Los_Angeles:20250720T130000
DTSTAMP:20260420T224602
CREATED:20240623T005036Z
LAST-MODIFIED:20241204T194827Z
UID:10003890-1753007400-1753016400@hhyc.org
SUMMARY:Sunday Breakfast by the bay 10:30am - 1pm
DESCRIPTION:Open to the Public!  \n\n\n\n \n\n\n\nEnjoy our breathtaking harborside views while sipping on a mimosa and indulging in our delicious breakfast offerings!
URL:https://hhyc.org/event/sunday-brunch-1030am-1pm-2/2025-07-20/
END:VEVENT
BEGIN:VEVENT
DTSTART;TZID=America/Los_Angeles:20250720T130000
DTEND;TZID=America/Los_Angeles:20250720T180000
DTSTAMP:20260420T224602
CREATED:20240530T065316Z
LAST-MODIFIED:20240715T165503Z
UID:10003733-1753016400-1753034400@hhyc.org
SUMMARY:Commodore's Lounge 1pm-6pm
DESCRIPTION:Bar only with popcorn and our famous Parson’s Pretzels!
URL:https://hhyc.org/event/commodores-lounge-1pm-6pm/2025-07-20/
END:VEVENT
END:VCALENDAR