BEGIN:VCALENDAR
VERSION:2.0
PRODID:-//Huntington Harbour Yacht Club - Huntington Beach, CA - ECPv6.15.20//NONSGML v1.0//EN
CALSCALE:GREGORIAN
METHOD:PUBLISH
X-WR-CALNAME:Huntington Harbour Yacht Club - Huntington Beach, CA
X-ORIGINAL-URL:https://hhyc.org
X-WR-CALDESC:Events for Huntington Harbour Yacht Club - Huntington Beach, CA
REFRESH-INTERVAL;VALUE=DURATION:PT1H
X-Robots-Tag:noindex
X-PUBLISHED-TTL:PT1H
BEGIN:VTIMEZONE
TZID:America/Los_Angeles
BEGIN:DAYLIGHT
TZOFFSETFROM:-0800
TZOFFSETTO:-0700
TZNAME:PDT
DTSTART:20240310T100000
END:DAYLIGHT
BEGIN:STANDARD
TZOFFSETFROM:-0700
TZOFFSETTO:-0800
TZNAME:PST
DTSTART:20241103T090000
END:STANDARD
BEGIN:DAYLIGHT
TZOFFSETFROM:-0800
TZOFFSETTO:-0700
TZNAME:PDT
DTSTART:20250309T100000
END:DAYLIGHT
BEGIN:STANDARD
TZOFFSETFROM:-0700
TZOFFSETTO:-0800
TZNAME:PST
DTSTART:20251102T090000
END:STANDARD
BEGIN:DAYLIGHT
TZOFFSETFROM:-0800
TZOFFSETTO:-0700
TZNAME:PDT
DTSTART:20260308T100000
END:DAYLIGHT
BEGIN:STANDARD
TZOFFSETFROM:-0700
TZOFFSETTO:-0800
TZNAME:PST
DTSTART:20261101T090000
END:STANDARD
END:VTIMEZONE
BEGIN:VEVENT
DTSTART;TZID=America/Los_Angeles:20250531T160000
DTEND;TZID=America/Los_Angeles:20250531T210000
DTSTAMP:20260420T183229
CREATED:20241204T201306Z
LAST-MODIFIED:20241204T201309Z
UID:10003968-1748707200-1748725200@hhyc.org
SUMMARY:Rental
DESCRIPTION:
URL:https://hhyc.org/event/rental-8/
END:VEVENT
BEGIN:VEVENT
DTSTART;TZID=America/Los_Angeles:20250601T103000
DTEND;TZID=America/Los_Angeles:20250601T130000
DTSTAMP:20260420T183229
CREATED:20240623T005036Z
LAST-MODIFIED:20241204T194827Z
UID:10003884-1748773800-1748782800@hhyc.org
SUMMARY:Sunday Breakfast by the bay 10:30am - 1pm
DESCRIPTION:Open to the Public!  \n\n\n\n \n\n\n\nEnjoy our breathtaking harborside views while sipping on a mimosa and indulging in our delicious breakfast offerings!
URL:https://hhyc.org/event/sunday-brunch-1030am-1pm-2/2025-06-01/
END:VEVENT
BEGIN:VEVENT
DTSTART;TZID=America/Los_Angeles:20250601T120000
DTEND;TZID=America/Los_Angeles:20250601T160000
DTSTAMP:20260420T183229
CREATED:20250509T202713Z
LAST-MODIFIED:20250509T202714Z
UID:10004055-1748779200-1748793600@hhyc.org
SUMMARY:Open House
DESCRIPTION:Join us for our 60th Anniversary Open House! Open to the public for tours. We will have BBQ burgers\, chili\, live music\, presentations\, a car show\, and more! You don’t want to miss this.
URL:https://hhyc.org/event/open-house-5/
END:VEVENT
BEGIN:VEVENT
DTSTART;TZID=America/Los_Angeles:20250601T130000
DTEND;TZID=America/Los_Angeles:20250601T180000
DTSTAMP:20260420T183229
CREATED:20240530T065316Z
LAST-MODIFIED:20240715T165503Z
UID:10003726-1748782800-1748800800@hhyc.org
SUMMARY:Commodore's Lounge 1pm-6pm
DESCRIPTION:Bar only with popcorn and our famous Parson’s Pretzels!
URL:https://hhyc.org/event/commodores-lounge-1pm-6pm/2025-06-01/
END:VEVENT
BEGIN:VEVENT
DTSTART;TZID=America/Los_Angeles:20250602T113000
DTEND;TZID=America/Los_Angeles:20250602T150000
DTSTAMP:20260420T183229
CREATED:20240530T065656Z
LAST-MODIFIED:20241204T200224Z
UID:10003930-1748863800-1748876400@hhyc.org
SUMMARY:Bridge Night
DESCRIPTION:Please contact the office for more information – 562.592.2186 (10a-3p)
URL:https://hhyc.org/event/bridge-night/2025-06-02/
END:VEVENT
BEGIN:VEVENT
DTSTART;TZID=America/Los_Angeles:20250603T170000
DTEND;TZID=America/Los_Angeles:20250603T210000
DTSTAMP:20260420T183229
CREATED:20240712T172034Z
LAST-MODIFIED:20240712T172036Z
UID:10002404-1748970000-1748984400@hhyc.org
SUMMARY:Taco Tuesday 5pm
DESCRIPTION:Bar Hours: 4:30 PM to 9:00 PMFood Service: 5:00 PM – 8:00 PM(Last call for food orders – 7:45 PM)
URL:https://hhyc.org/event/taco-tuesday-5pm-3/2025-06-03/
END:VEVENT
BEGIN:VEVENT
DTSTART;TZID=America/Los_Angeles:20250606T163000
DTEND;TZID=America/Los_Angeles:20250606T210000
DTSTAMP:20260420T183229
CREATED:20240530T063534Z
LAST-MODIFIED:20240715T144602Z
UID:10002872-1749227400-1749243600@hhyc.org
SUMMARY:Friday Night Dinner 4:30pm - 9pm
DESCRIPTION:
URL:https://hhyc.org/event/friday-night-dinner-430pm-9pm/2025-06-06/
END:VEVENT
BEGIN:VEVENT
DTSTART;TZID=America/Los_Angeles:20250607T170000
DTEND;TZID=America/Los_Angeles:20250607T220000
DTSTAMP:20260420T183229
CREATED:20241204T201349Z
LAST-MODIFIED:20241204T201351Z
UID:10003969-1749315600-1749333600@hhyc.org
SUMMARY:Rental
DESCRIPTION:
URL:https://hhyc.org/event/rental-9/
END:VEVENT
BEGIN:VEVENT
DTSTART;TZID=America/Los_Angeles:20250608T103000
DTEND;TZID=America/Los_Angeles:20250608T130000
DTSTAMP:20260420T183229
CREATED:20240623T005036Z
LAST-MODIFIED:20241204T194827Z
UID:10003885-1749378600-1749387600@hhyc.org
SUMMARY:Sunday Breakfast by the bay 10:30am - 1pm
DESCRIPTION:Open to the Public!  \n\n\n\n \n\n\n\nEnjoy our breathtaking harborside views while sipping on a mimosa and indulging in our delicious breakfast offerings!
URL:https://hhyc.org/event/sunday-brunch-1030am-1pm-2/2025-06-08/
END:VEVENT
BEGIN:VEVENT
DTSTART;TZID=America/Los_Angeles:20250608T103000
DTEND;TZID=America/Los_Angeles:20250608T130000
DTSTAMP:20260420T183229
CREATED:20250513T164336Z
LAST-MODIFIED:20250513T165858Z
UID:10004056-1749378600-1749387600@hhyc.org
SUMMARY:Pet Parade and Brunch
DESCRIPTION:Join us for a fun summer brunch inside and an outdoor pet parade!  \n\n\n\nBrunch is $25 for members and $30 for non-members. It is $20 to enter your pet in the pet parade.
URL:https://hhyc.org/event/pet-parade-brunch/
END:VEVENT
BEGIN:VEVENT
DTSTART;TZID=America/Los_Angeles:20250608T130000
DTEND;TZID=America/Los_Angeles:20250608T180000
DTSTAMP:20260420T183229
CREATED:20240530T065316Z
LAST-MODIFIED:20240715T165503Z
UID:10003727-1749387600-1749405600@hhyc.org
SUMMARY:Commodore's Lounge 1pm-6pm
DESCRIPTION:Bar only with popcorn and our famous Parson’s Pretzels!
URL:https://hhyc.org/event/commodores-lounge-1pm-6pm/2025-06-08/
END:VEVENT
BEGIN:VEVENT
DTSTART;TZID=America/Los_Angeles:20250609T113000
DTEND;TZID=America/Los_Angeles:20250609T150000
DTSTAMP:20260420T183229
CREATED:20240530T065656Z
LAST-MODIFIED:20241204T200224Z
UID:10003931-1749468600-1749481200@hhyc.org
SUMMARY:Bridge Night
DESCRIPTION:Please contact the office for more information – 562.592.2186 (10a-3p)
URL:https://hhyc.org/event/bridge-night/2025-06-09/
END:VEVENT
BEGIN:VEVENT
DTSTART;TZID=America/Los_Angeles:20250610T170000
DTEND;TZID=America/Los_Angeles:20250610T210000
DTSTAMP:20260420T183229
CREATED:20240712T172034Z
LAST-MODIFIED:20240712T172036Z
UID:10002405-1749574800-1749589200@hhyc.org
SUMMARY:Taco Tuesday 5pm
DESCRIPTION:Bar Hours: 4:30 PM to 9:00 PMFood Service: 5:00 PM – 8:00 PM(Last call for food orders – 7:45 PM)
URL:https://hhyc.org/event/taco-tuesday-5pm-3/2025-06-10/
END:VEVENT
BEGIN:VEVENT
DTSTART;TZID=America/Los_Angeles:20250611T180000
DTEND;TZID=America/Los_Angeles:20250611T210000
DTSTAMP:20260420T183229
CREATED:20240530T232016Z
LAST-MODIFIED:20240715T165211Z
UID:10003459-1749664800-1749675600@hhyc.org
SUMMARY:Board Meeting 6pm
DESCRIPTION:
URL:https://hhyc.org/event/board-meeting-6pm/2025-06-11/
END:VEVENT
BEGIN:VEVENT
DTSTART;TZID=America/Los_Angeles:20250613T163000
DTEND;TZID=America/Los_Angeles:20250613T210000
DTSTAMP:20260420T183229
CREATED:20240530T063534Z
LAST-MODIFIED:20240715T144602Z
UID:10002873-1749832200-1749848400@hhyc.org
SUMMARY:Friday Night Dinner 4:30pm - 9pm
DESCRIPTION:
URL:https://hhyc.org/event/friday-night-dinner-430pm-9pm/2025-06-13/
END:VEVENT
BEGIN:VEVENT
DTSTART;TZID=America/Los_Angeles:20250613T173000
DTEND;TZID=America/Los_Angeles:20250613T220000
DTSTAMP:20260420T183229
CREATED:20250521T171306Z
LAST-MODIFIED:20250521T171309Z
UID:10004057-1749835800-1749852000@hhyc.org
SUMMARY:Birthday Dinner May/June
DESCRIPTION:Join us in celebrating our May and June birthdays on June 13th.  \n\n\n\nThe High Tide Band is back together again to entertain us! Featuring our members S/C Rudy Lopez Jr. on Bass and Lead Vocals\, Tim Marshall on Guitar and Harmonica\, and Lou Carlow on Drums! We cannot forget our Tambourine ladies Donna Carlow and Beverly Maguire. We also may have a special guest come up to sing a song…  \n\n\n\nIt will be such a fun night with delicious food and dancing! You don’t want to miss this one. Members only event- Non-Member guests permitted with an active member sponsor.  \n\n\n\nRSVP on the form below!  \n\n\n\n\n\n\nPlease enable JavaScript in your browser to complete this form.Please enable JavaScript in your browser to complete this form.Name *FirstLastEmail *Total # of Guests (please list their names) in Your PartyName(s) of Birthday Celebrant (if applicable)		\n			Email applicable) of\n			\n		\n		Chicken Marsala or Sea Bass (or list your dietary restriction if applicable) *Example: Steve Parsons- Chicken Marsala\nJennifer- Sea BassSubmit
URL:https://hhyc.org/event/birthday-dinner-may-june/
END:VEVENT
BEGIN:VEVENT
DTSTART;TZID=America/Los_Angeles:20250615T120000
DTEND;TZID=America/Los_Angeles:20250615T150000
DTSTAMP:20260420T183229
CREATED:20241204T201524Z
LAST-MODIFIED:20250530T181708Z
UID:10003971-1749988800-1749999600@hhyc.org
SUMMARY:Father's Day Lunch
DESCRIPTION:You’re Invited!Join us at Huntington Harbour Yacht Club for a special Father’s Day Lunch celebration! Treat Dad to a delicious food spread\, beer specials just for him\, and let the little ones play outside on our little putting green! It’s the perfect way to celebrate all the amazing dads in our lives. \n\n\n\nRSVP on the Form Below \n\n\nPlease enable JavaScript in your browser to complete this form.Please enable JavaScript in your browser to complete this form.		\n			have 0-12 if\n			\n		\n		Name *FirstLastPhoneEmail *Total # of Guests (please list their names) (Please also list if you have children 0-12 y/o attending and their ages)If you need a highchair for an infant\, please let us know\, and we can provide one for you. Submit
URL:https://hhyc.org/event/fathers-day-brunch/
END:VEVENT
BEGIN:VEVENT
DTSTART;TZID=America/Los_Angeles:20250615T130000
DTEND;TZID=America/Los_Angeles:20250615T180000
DTSTAMP:20260420T183229
CREATED:20240530T065316Z
LAST-MODIFIED:20240715T165503Z
UID:10003728-1749992400-1750010400@hhyc.org
SUMMARY:Commodore's Lounge 1pm-6pm
DESCRIPTION:Bar only with popcorn and our famous Parson’s Pretzels!
URL:https://hhyc.org/event/commodores-lounge-1pm-6pm/2025-06-15/
END:VEVENT
BEGIN:VEVENT
DTSTART;TZID=America/Los_Angeles:20250616T113000
DTEND;TZID=America/Los_Angeles:20250616T150000
DTSTAMP:20260420T183229
CREATED:20240530T065656Z
LAST-MODIFIED:20241204T200224Z
UID:10003932-1750073400-1750086000@hhyc.org
SUMMARY:Bridge Night
DESCRIPTION:Please contact the office for more information – 562.592.2186 (10a-3p)
URL:https://hhyc.org/event/bridge-night/2025-06-16/
END:VEVENT
BEGIN:VEVENT
DTSTART;TZID=America/Los_Angeles:20250617T170000
DTEND;TZID=America/Los_Angeles:20250617T210000
DTSTAMP:20260420T183229
CREATED:20240712T172034Z
LAST-MODIFIED:20240712T172036Z
UID:10002406-1750179600-1750194000@hhyc.org
SUMMARY:Taco Tuesday 5pm
DESCRIPTION:Bar Hours: 4:30 PM to 9:00 PMFood Service: 5:00 PM – 8:00 PM(Last call for food orders – 7:45 PM)
URL:https://hhyc.org/event/taco-tuesday-5pm-3/2025-06-17/
END:VEVENT
BEGIN:VEVENT
DTSTART;TZID=America/Los_Angeles:20250619T183000
DTEND;TZID=America/Los_Angeles:20250619T203000
DTSTAMP:20260420T183229
CREATED:20240531T031059Z
LAST-MODIFIED:20240715T164946Z
UID:10003336-1750357800-1750365000@hhyc.org
SUMMARY:HRRC Seminar 6:30p
DESCRIPTION:
URL:https://hhyc.org/event/hrrc-seminar-630p/2025-06-19/
END:VEVENT
BEGIN:VEVENT
DTSTART;TZID=America/Los_Angeles:20250620T100000
DTEND;TZID=America/Los_Angeles:20250622T100000
DTSTAMP:20260420T183229
CREATED:20250105T230852Z
LAST-MODIFIED:20250617T205649Z
UID:10003998-1750413600-1750586400@hhyc.org
SUMMARY:Cruise to Dana Point
DESCRIPTION:$15 per person \n\n\n\nCome enjoy the weekend in Dana Point! Dana Point Yacht Club is our host club. Enjoy the Club’s beautiful location on the point of Dana Drive overlooking the ocean\, the harbor and the Ocean Institute. They offer food and beverage service from 11 AM to 8 PM. They also have music in the upstairs lounge. \n\n\n\nOur weekend itinerary – \n\n\n\nFriday Night Cocktail Party – 5 PM Look for HHYC on the dock at DPYC for a cocktail party hosted by Sandy Alsina. Please bring an appetizer to share. Also\, please keep the dock gate closed at all times. \n\n\n\nSaturday Day – Dana Point has lots of activities besides boating: kayak and paddleboard rentals\, whale watching\, the Ocean Institute\, Doheny State Beach\, a city walking tour and more. There is also a great little winery on the water – Frisby Cellars located on the Dana Wharf. We checked it out last week and the wines are worth tasting! There’s lots of great restaurants too! \n\n\n\nCheck out this link for more ideas! https://jen33travel.com/blog/15-fun-things-to-do-in-dana-point-california \n\n\n\nSaturday Night – 5:30 PM – Cocktails and Dinner at Dana Point Yacht Club. DPYC is hosting us in their downstairs dining room. Enjoy the club and afterwards\, head up the stairs to their other bar and enjoy the company of the DPYC members. The Club has a great menu selection with prices ranging from $10 to $30. \n\n\n\nSunday – if you’re still around\, enjoy the DPYC Sunday brunch with live music! 11 AM \n\n\n\nAnchoring on the West Side- Please contact the OC Sheriff Harbor Patrol at (949)248-2222 for details. If you still want a slip\, please contact the Marina at (949) 496-6137. \n\n\n\nArea hotels – Best Western Plus Marina Shores\, Hilton Garden Inn Dana Point\, Blue Lantern Inn \n\n\n\nDana Point Yacht Club \n\n\n\n24399 Dana Drive\, Dana Point\, CA 92629 (949) 496-2900 www.dpyc.org \n\n\n\nPlease RSVP for Saturday night by Tuesday June 17 so we can give DPYC a head count on Wednesday. \n\n\n\nRSVP to Nicole Peoples (562) 225-6656 or nlpeoples@gmail.com
URL:https://hhyc.org/event/cruise-to-isthmus-catalina/
END:VEVENT
BEGIN:VEVENT
DTSTART;TZID=America/Los_Angeles:20250620T163000
DTEND;TZID=America/Los_Angeles:20250620T210000
DTSTAMP:20260420T183229
CREATED:20240530T063534Z
LAST-MODIFIED:20240715T144602Z
UID:10002874-1750437000-1750453200@hhyc.org
SUMMARY:Friday Night Dinner 4:30pm - 9pm
DESCRIPTION:
URL:https://hhyc.org/event/friday-night-dinner-430pm-9pm/2025-06-20/
END:VEVENT
BEGIN:VEVENT
DTSTART;TZID=America/Los_Angeles:20250621T170000
DTEND;TZID=America/Los_Angeles:20250621T220000
DTSTAMP:20260420T183229
CREATED:20241204T201604Z
LAST-MODIFIED:20241204T201608Z
UID:10003972-1750525200-1750543200@hhyc.org
SUMMARY:Rental
DESCRIPTION:
URL:https://hhyc.org/event/rental-10/
END:VEVENT
BEGIN:VEVENT
DTSTART;TZID=America/Los_Angeles:20250622T103000
DTEND;TZID=America/Los_Angeles:20250622T130000
DTSTAMP:20260420T183229
CREATED:20240623T005036Z
LAST-MODIFIED:20241204T194827Z
UID:10003886-1750588200-1750597200@hhyc.org
SUMMARY:Sunday Breakfast by the bay 10:30am - 1pm
DESCRIPTION:Open to the Public!  \n\n\n\n \n\n\n\nEnjoy our breathtaking harborside views while sipping on a mimosa and indulging in our delicious breakfast offerings!
URL:https://hhyc.org/event/sunday-brunch-1030am-1pm-2/2025-06-22/
END:VEVENT
BEGIN:VEVENT
DTSTART;TZID=America/Los_Angeles:20250622T130000
DTEND;TZID=America/Los_Angeles:20250622T180000
DTSTAMP:20260420T183229
CREATED:20240530T065316Z
LAST-MODIFIED:20240715T165503Z
UID:10003729-1750597200-1750615200@hhyc.org
SUMMARY:Commodore's Lounge 1pm-6pm
DESCRIPTION:Bar only with popcorn and our famous Parson’s Pretzels!
URL:https://hhyc.org/event/commodores-lounge-1pm-6pm/2025-06-22/
END:VEVENT
BEGIN:VEVENT
DTSTART;TZID=America/Los_Angeles:20250623T113000
DTEND;TZID=America/Los_Angeles:20250623T150000
DTSTAMP:20260420T183229
CREATED:20240530T065656Z
LAST-MODIFIED:20241204T200224Z
UID:10003933-1750678200-1750690800@hhyc.org
SUMMARY:Bridge Night
DESCRIPTION:Please contact the office for more information – 562.592.2186 (10a-3p)
URL:https://hhyc.org/event/bridge-night/2025-06-23/
END:VEVENT
BEGIN:VEVENT
DTSTART;TZID=America/Los_Angeles:20250624T170000
DTEND;TZID=America/Los_Angeles:20250624T210000
DTSTAMP:20260420T183229
CREATED:20240712T172034Z
LAST-MODIFIED:20240712T172036Z
UID:10002407-1750784400-1750798800@hhyc.org
SUMMARY:Taco Tuesday 5pm
DESCRIPTION:Bar Hours: 4:30 PM to 9:00 PMFood Service: 5:00 PM – 8:00 PM(Last call for food orders – 7:45 PM)
URL:https://hhyc.org/event/taco-tuesday-5pm-3/2025-06-24/
END:VEVENT
BEGIN:VEVENT
DTSTART;TZID=America/Los_Angeles:20250625T190000
DTEND;TZID=America/Los_Angeles:20250625T210000
DTSTAMP:20260420T183229
CREATED:20240531T031414Z
LAST-MODIFIED:20240715T164751Z
UID:10003214-1750878000-1750885200@hhyc.org
SUMMARY:Coast Guard Auxiliary 7p
DESCRIPTION:
URL:https://hhyc.org/event/coast-guard-auxiliary-7p/2025-06-25/
END:VEVENT
BEGIN:VEVENT
DTSTART;TZID=America/Los_Angeles:20250626T170000
DTEND;TZID=America/Los_Angeles:20250626T210000
DTSTAMP:20260420T183229
CREATED:20240531T033717Z
LAST-MODIFIED:20240715T164548Z
UID:10003092-1750957200-1750971600@hhyc.org
SUMMARY:Club Cigar Night 5p
DESCRIPTION:Cigar Night is Back \n\n\n\nThe Huntington Harbour Yacht Club will be hosting our monthly Cigar Nights this Thursday evening\, January 26th. \n\n\n\n\nThe event will take place in our downstairs outdoor bayside patio area.\n\n\n\nHeaters will be provided\n\n\n\nCome enjoy a Cigar Night with\n\n\n\nStaff Commodore Rudy Lopez\, Jr.\n\n\n\nBring your favorite wraps along with your\n\n\n\ncutters and lighters\, and spend an evening amongst friends.\n\n\n\nYou are welcome to bring a bottle of wine of your choice for a corkage fee of $15.\n\n\n\n\nALSO: 2 for 1 Thursday Night Special  —  See Menu Below \n\n\n\nTWOFER menu items (2 for 1\, can be mixed\, lesser valve item discounted) with a purchase of a drink per each person \n\n\n\n If you have any questions\, please contact Rudy Lopez\, Jr. at 626-482-4246.
URL:https://hhyc.org/event/club-cigar-night-5p/2025-06-26/
END:VEVENT
END:VCALENDAR