BEGIN:VCALENDAR
VERSION:2.0
PRODID:-//Huntington Harbour Yacht Club - Huntington Beach, CA - ECPv6.15.20//NONSGML v1.0//EN
CALSCALE:GREGORIAN
METHOD:PUBLISH
X-WR-CALNAME:Huntington Harbour Yacht Club - Huntington Beach, CA
X-ORIGINAL-URL:https://hhyc.org
X-WR-CALDESC:Events for Huntington Harbour Yacht Club - Huntington Beach, CA
REFRESH-INTERVAL;VALUE=DURATION:PT1H
X-Robots-Tag:noindex
X-PUBLISHED-TTL:PT1H
BEGIN:VTIMEZONE
TZID:America/Los_Angeles
BEGIN:DAYLIGHT
TZOFFSETFROM:-0800
TZOFFSETTO:-0700
TZNAME:PDT
DTSTART:20240310T100000
END:DAYLIGHT
BEGIN:STANDARD
TZOFFSETFROM:-0700
TZOFFSETTO:-0800
TZNAME:PST
DTSTART:20241103T090000
END:STANDARD
BEGIN:DAYLIGHT
TZOFFSETFROM:-0800
TZOFFSETTO:-0700
TZNAME:PDT
DTSTART:20250309T100000
END:DAYLIGHT
BEGIN:STANDARD
TZOFFSETFROM:-0700
TZOFFSETTO:-0800
TZNAME:PST
DTSTART:20251102T090000
END:STANDARD
BEGIN:DAYLIGHT
TZOFFSETFROM:-0800
TZOFFSETTO:-0700
TZNAME:PDT
DTSTART:20260308T100000
END:DAYLIGHT
BEGIN:STANDARD
TZOFFSETFROM:-0700
TZOFFSETTO:-0800
TZNAME:PST
DTSTART:20261101T090000
END:STANDARD
END:VTIMEZONE
BEGIN:VEVENT
DTSTART;TZID=America/Los_Angeles:20250418T163000
DTEND;TZID=America/Los_Angeles:20250418T210000
DTSTAMP:20260420T211633
CREATED:20240530T063534Z
LAST-MODIFIED:20240715T144602Z
UID:10002865-1744993800-1745010000@hhyc.org
SUMMARY:Friday Night Dinner 4:30pm - 9pm
DESCRIPTION:
URL:https://hhyc.org/event/friday-night-dinner-430pm-9pm/2025-04-18/
END:VEVENT
BEGIN:VEVENT
DTSTART;TZID=America/Los_Angeles:20250420T110000
DTEND;TZID=America/Los_Angeles:20250420T140000
DTSTAMP:20260420T211633
CREATED:20250325T172619Z
LAST-MODIFIED:20250325T172624Z
UID:10004049-1745146800-1745157600@hhyc.org
SUMMARY:Easter Brunch
DESCRIPTION:Join us at the Huntington Harbour Yacht Club for our Easter Brunch on Sunday April 20th 11am-2pm. 1 Seating Only (Space Limited\, RSVP ASAP) \n\n\n\n We will have a delicious brunch buffet open at 11am (menu on the flyer)\, an egg hunt for the kiddos at 12pm\, followed by a Photo-Op with the Easter Bunny! We hope you and your family can join us this year.
URL:https://hhyc.org/event/easter-brunch/
END:VEVENT
BEGIN:VEVENT
DTSTART;TZID=America/Los_Angeles:20250421T113000
DTEND;TZID=America/Los_Angeles:20250421T150000
DTSTAMP:20260420T211633
CREATED:20240530T065656Z
LAST-MODIFIED:20241204T200224Z
UID:10003924-1745235000-1745247600@hhyc.org
SUMMARY:Bridge Night
DESCRIPTION:Please contact the office for more information – 562.592.2186 (10a-3p)
URL:https://hhyc.org/event/bridge-night/2025-04-21/
END:VEVENT
BEGIN:VEVENT
DTSTART;TZID=America/Los_Angeles:20250422T170000
DTEND;TZID=America/Los_Angeles:20250422T210000
DTSTAMP:20260420T211633
CREATED:20240712T172034Z
LAST-MODIFIED:20240712T172036Z
UID:10002398-1745341200-1745355600@hhyc.org
SUMMARY:Taco Tuesday 5pm
DESCRIPTION:Bar Hours: 4:30 PM to 9:00 PMFood Service: 5:00 PM – 8:00 PM(Last call for food orders – 7:45 PM)
URL:https://hhyc.org/event/taco-tuesday-5pm-3/2025-04-22/
END:VEVENT
BEGIN:VEVENT
DTSTART;TZID=America/Los_Angeles:20250423T190000
DTEND;TZID=America/Los_Angeles:20250423T210000
DTSTAMP:20260420T211633
CREATED:20240531T031414Z
LAST-MODIFIED:20240715T164751Z
UID:10003212-1745434800-1745442000@hhyc.org
SUMMARY:Coast Guard Auxiliary 7p
DESCRIPTION:
URL:https://hhyc.org/event/coast-guard-auxiliary-7p/2025-04-23/
END:VEVENT
BEGIN:VEVENT
DTSTART;TZID=America/Los_Angeles:20250424T170000
DTEND;TZID=America/Los_Angeles:20250424T210000
DTSTAMP:20260420T211633
CREATED:20240531T033717Z
LAST-MODIFIED:20240715T164548Z
UID:10003090-1745514000-1745528400@hhyc.org
SUMMARY:Club Cigar Night 5p
DESCRIPTION:Cigar Night is Back \n\n\n\nThe Huntington Harbour Yacht Club will be hosting our monthly Cigar Nights this Thursday evening\, January 26th. \n\n\n\n\nThe event will take place in our downstairs outdoor bayside patio area.\n\n\n\nHeaters will be provided\n\n\n\nCome enjoy a Cigar Night with\n\n\n\nStaff Commodore Rudy Lopez\, Jr.\n\n\n\nBring your favorite wraps along with your\n\n\n\ncutters and lighters\, and spend an evening amongst friends.\n\n\n\nYou are welcome to bring a bottle of wine of your choice for a corkage fee of $15.\n\n\n\n\nALSO: 2 for 1 Thursday Night Special  —  See Menu Below \n\n\n\nTWOFER menu items (2 for 1\, can be mixed\, lesser valve item discounted) with a purchase of a drink per each person \n\n\n\n If you have any questions\, please contact Rudy Lopez\, Jr. at 626-482-4246.
URL:https://hhyc.org/event/club-cigar-night-5p/2025-04-24/
END:VEVENT
BEGIN:VEVENT
DTSTART;TZID=America/Los_Angeles:20250425T163000
DTEND;TZID=America/Los_Angeles:20250425T210000
DTSTAMP:20260420T211633
CREATED:20240530T063534Z
LAST-MODIFIED:20240715T144602Z
UID:10002866-1745598600-1745614800@hhyc.org
SUMMARY:Friday Night Dinner 4:30pm - 9pm
DESCRIPTION:
URL:https://hhyc.org/event/friday-night-dinner-430pm-9pm/2025-04-25/
END:VEVENT
BEGIN:VEVENT
DTSTART;TZID=America/Los_Angeles:20250426T090000
DTEND;TZID=America/Los_Angeles:20250426T120000
DTSTAMP:20260420T211633
CREATED:20250325T212024Z
LAST-MODIFIED:20250325T212028Z
UID:10004050-1745658000-1745668800@hhyc.org
SUMMARY:California Boater Card Class
DESCRIPTION:Huntington Harbour Yacht Club…. Schoolis in session!  \n\n\n\nCome have fun\, learn a thing or two and guarantee to pass exam! Session One was great fun forall!  \n\n\n\nEveryone is required to hold this cardwhile boating in California starting 2025 \n\n\n\n \n\n\n\n\n\n\n\n\nPlease enable JavaScript in your browser to complete this form.Please enable JavaScript in your browser to complete this form.Name *FirstLastPhoneEmail *		\n			Email the Authorization\n			\n		\n		Authorization of the $40 Charge to AccountYesSubmit
URL:https://hhyc.org/event/california-boater-card-class/
ATTACH;FMTTYPE=image/png:https://hhyc.org/wp-content/uploads/2025/03/Boater-Card.png
END:VEVENT
BEGIN:VEVENT
DTSTART;TZID=America/Los_Angeles:20250427T103000
DTEND;TZID=America/Los_Angeles:20250427T130000
DTSTAMP:20260420T211633
CREATED:20240623T005036Z
LAST-MODIFIED:20241204T194827Z
UID:10003880-1745749800-1745758800@hhyc.org
SUMMARY:Sunday Breakfast by the bay 10:30am - 1pm
DESCRIPTION:Open to the Public!  \n\n\n\n \n\n\n\nEnjoy our breathtaking harborside views while sipping on a mimosa and indulging in our delicious breakfast offerings!
URL:https://hhyc.org/event/sunday-brunch-1030am-1pm-2/2025-04-27/
END:VEVENT
BEGIN:VEVENT
DTSTART;TZID=America/Los_Angeles:20250427T130000
DTEND;TZID=America/Los_Angeles:20250427T180000
DTSTAMP:20260420T211633
CREATED:20240530T065316Z
LAST-MODIFIED:20240715T165503Z
UID:10003721-1745758800-1745776800@hhyc.org
SUMMARY:Commodore's Lounge 1pm-6pm
DESCRIPTION:Bar only with popcorn and our famous Parson’s Pretzels!
URL:https://hhyc.org/event/commodores-lounge-1pm-6pm/2025-04-27/
END:VEVENT
BEGIN:VEVENT
DTSTART;TZID=America/Los_Angeles:20250427T140000
DTEND;TZID=America/Los_Angeles:20250427T190000
DTSTAMP:20260420T211633
CREATED:20250325T220556Z
LAST-MODIFIED:20250325T220558Z
UID:10004051-1745762400-1745780400@hhyc.org
SUMMARY:Earth Day Party BBQ
DESCRIPTION:Earth Day Party BBQ- Details Forthcoming…
URL:https://hhyc.org/event/earth-day-party-bbq/
END:VEVENT
BEGIN:VEVENT
DTSTART;TZID=America/Los_Angeles:20250428T113000
DTEND;TZID=America/Los_Angeles:20250428T150000
DTSTAMP:20260420T211633
CREATED:20240530T065656Z
LAST-MODIFIED:20241204T200224Z
UID:10003925-1745839800-1745852400@hhyc.org
SUMMARY:Bridge Night
DESCRIPTION:Please contact the office for more information – 562.592.2186 (10a-3p)
URL:https://hhyc.org/event/bridge-night/2025-04-28/
END:VEVENT
BEGIN:VEVENT
DTSTART;TZID=America/Los_Angeles:20250429T170000
DTEND;TZID=America/Los_Angeles:20250429T210000
DTSTAMP:20260420T211633
CREATED:20240712T172034Z
LAST-MODIFIED:20240712T172036Z
UID:10002399-1745946000-1745960400@hhyc.org
SUMMARY:Taco Tuesday 5pm
DESCRIPTION:Bar Hours: 4:30 PM to 9:00 PMFood Service: 5:00 PM – 8:00 PM(Last call for food orders – 7:45 PM)
URL:https://hhyc.org/event/taco-tuesday-5pm-3/2025-04-29/
END:VEVENT
BEGIN:VEVENT
DTSTART;TZID=America/Los_Angeles:20250502T163000
DTEND;TZID=America/Los_Angeles:20250502T210000
DTSTAMP:20260420T211633
CREATED:20240530T063534Z
LAST-MODIFIED:20240715T144602Z
UID:10002867-1746203400-1746219600@hhyc.org
SUMMARY:Friday Night Dinner 4:30pm - 9pm
DESCRIPTION:
URL:https://hhyc.org/event/friday-night-dinner-430pm-9pm/2025-05-02/
END:VEVENT
BEGIN:VEVENT
DTSTART;TZID=America/Los_Angeles:20250503T113000
DTEND;TZID=America/Los_Angeles:20250503T160000
DTSTAMP:20260420T211633
CREATED:20241204T200918Z
LAST-MODIFIED:20250409T191808Z
UID:10003965-1746271800-1746288000@hhyc.org
SUMMARY:Opening Day
DESCRIPTION:
URL:https://hhyc.org/event/opening-day/
END:VEVENT
BEGIN:VEVENT
DTSTART;TZID=America/Los_Angeles:20250504T103000
DTEND;TZID=America/Los_Angeles:20250504T130000
DTSTAMP:20260420T211633
CREATED:20240623T005036Z
LAST-MODIFIED:20241204T194827Z
UID:10003881-1746354600-1746363600@hhyc.org
SUMMARY:Sunday Breakfast by the bay 10:30am - 1pm
DESCRIPTION:Open to the Public!  \n\n\n\n \n\n\n\nEnjoy our breathtaking harborside views while sipping on a mimosa and indulging in our delicious breakfast offerings!
URL:https://hhyc.org/event/sunday-brunch-1030am-1pm-2/2025-05-04/
END:VEVENT
BEGIN:VEVENT
DTSTART;TZID=America/Los_Angeles:20250504T130000
DTEND;TZID=America/Los_Angeles:20250504T180000
DTSTAMP:20260420T211633
CREATED:20240530T065316Z
LAST-MODIFIED:20240715T165503Z
UID:10003722-1746363600-1746381600@hhyc.org
SUMMARY:Commodore's Lounge 1pm-6pm
DESCRIPTION:Bar only with popcorn and our famous Parson’s Pretzels!
URL:https://hhyc.org/event/commodores-lounge-1pm-6pm/2025-05-04/
END:VEVENT
BEGIN:VEVENT
DTSTART;TZID=America/Los_Angeles:20250505T113000
DTEND;TZID=America/Los_Angeles:20250505T150000
DTSTAMP:20260420T211633
CREATED:20240530T065656Z
LAST-MODIFIED:20241204T200224Z
UID:10003926-1746444600-1746457200@hhyc.org
SUMMARY:Bridge Night
DESCRIPTION:Please contact the office for more information – 562.592.2186 (10a-3p)
URL:https://hhyc.org/event/bridge-night/2025-05-05/
END:VEVENT
BEGIN:VEVENT
DTSTART;TZID=America/Los_Angeles:20250505T170000
DTEND;TZID=America/Los_Angeles:20250505T220000
DTSTAMP:20260420T211633
CREATED:20250424T205249Z
LAST-MODIFIED:20250424T205251Z
UID:10004053-1746464400-1746482400@hhyc.org
SUMMARY:Cinco De Mayo
DESCRIPTION:Join us in celebrating Cinco de Mayo and our Rear Commodore Jennafer Kaplan and Billy’s Birthday in the Commodore’s Lounge! Members Only- Guests permitted with an active member sponsor-  \n\n\n\n\n\n\n\nSign Up Below \n\n\nPlease enable JavaScript in your browser to complete this form.Please enable JavaScript in your browser to complete this form.Name *FirstLast		\n			Total of list\n			\n		\n		Email *Total # of Guests (please list their names)Submit
URL:https://hhyc.org/event/cinco-de-mayo/
END:VEVENT
BEGIN:VEVENT
DTSTART;TZID=America/Los_Angeles:20250506T170000
DTEND;TZID=America/Los_Angeles:20250506T210000
DTSTAMP:20260420T211633
CREATED:20240712T172034Z
LAST-MODIFIED:20240712T172036Z
UID:10002400-1746550800-1746565200@hhyc.org
SUMMARY:Taco Tuesday 5pm
DESCRIPTION:Bar Hours: 4:30 PM to 9:00 PMFood Service: 5:00 PM – 8:00 PM(Last call for food orders – 7:45 PM)
URL:https://hhyc.org/event/taco-tuesday-5pm-3/2025-05-06/
END:VEVENT
BEGIN:VEVENT
DTSTART;TZID=America/Los_Angeles:20250507T100000
DTEND;TZID=America/Los_Angeles:20250507T140000
DTSTAMP:20260420T211633
CREATED:20241204T204438Z
LAST-MODIFIED:20241204T204446Z
UID:10003990-1746612000-1746626400@hhyc.org
SUMMARY:Sea Belles Luncheon
DESCRIPTION:
URL:https://hhyc.org/event/sea-belles-luncheon-3/2025-05-07/
END:VEVENT
BEGIN:VEVENT
DTSTART;TZID=America/Los_Angeles:20250509T163000
DTEND;TZID=America/Los_Angeles:20250509T210000
DTSTAMP:20260420T211633
CREATED:20240530T063534Z
LAST-MODIFIED:20240715T144602Z
UID:10002868-1746808200-1746824400@hhyc.org
SUMMARY:Friday Night Dinner 4:30pm - 9pm
DESCRIPTION:
URL:https://hhyc.org/event/friday-night-dinner-430pm-9pm/2025-05-09/
END:VEVENT
BEGIN:VEVENT
DTSTART;TZID=America/Los_Angeles:20250511T110000
DTEND;TZID=America/Los_Angeles:20250511T140000
DTSTAMP:20260420T211633
CREATED:20241204T201138Z
LAST-MODIFIED:20250425T183718Z
UID:10003967-1746961200-1746972000@hhyc.org
SUMMARY:Mother's Day Brunch
DESCRIPTION:Join us for our Mother’s Day Brunch at HHYC! Make you reservation below. \n\n\nPlease enable JavaScript in your browser to complete this form.Please enable JavaScript in your browser to complete this form.Name *FirstLastPhone		\n			Email Total names)\n			\n		\n		Email *Total # of Guests (please list their names) (Please also list if you have children 0-12 y/o attending and their ages)If you need a highchair for an infant\, please let us know\, and we can provide one for you. Submit
URL:https://hhyc.org/event/mothers-day-brunch/
END:VEVENT
BEGIN:VEVENT
DTSTART;TZID=America/Los_Angeles:20250511T130000
DTEND;TZID=America/Los_Angeles:20250511T180000
DTSTAMP:20260420T211633
CREATED:20240530T065316Z
LAST-MODIFIED:20240715T165503Z
UID:10003723-1746968400-1746986400@hhyc.org
SUMMARY:Commodore's Lounge 1pm-6pm
DESCRIPTION:Bar only with popcorn and our famous Parson’s Pretzels!
URL:https://hhyc.org/event/commodores-lounge-1pm-6pm/2025-05-11/
END:VEVENT
BEGIN:VEVENT
DTSTART;TZID=America/Los_Angeles:20250512T113000
DTEND;TZID=America/Los_Angeles:20250512T150000
DTSTAMP:20260420T211633
CREATED:20240530T065656Z
LAST-MODIFIED:20241204T200224Z
UID:10003927-1747049400-1747062000@hhyc.org
SUMMARY:Bridge Night
DESCRIPTION:Please contact the office for more information – 562.592.2186 (10a-3p)
URL:https://hhyc.org/event/bridge-night/2025-05-12/
END:VEVENT
BEGIN:VEVENT
DTSTART;TZID=America/Los_Angeles:20250513T170000
DTEND;TZID=America/Los_Angeles:20250513T210000
DTSTAMP:20260420T211633
CREATED:20240712T172034Z
LAST-MODIFIED:20240712T172036Z
UID:10002401-1747155600-1747170000@hhyc.org
SUMMARY:Taco Tuesday 5pm
DESCRIPTION:Bar Hours: 4:30 PM to 9:00 PMFood Service: 5:00 PM – 8:00 PM(Last call for food orders – 7:45 PM)
URL:https://hhyc.org/event/taco-tuesday-5pm-3/2025-05-13/
END:VEVENT
BEGIN:VEVENT
DTSTART;TZID=America/Los_Angeles:20250514T180000
DTEND;TZID=America/Los_Angeles:20250514T210000
DTSTAMP:20260420T211633
CREATED:20240530T232016Z
LAST-MODIFIED:20240715T165211Z
UID:10003458-1747245600-1747256400@hhyc.org
SUMMARY:Board Meeting 6pm
DESCRIPTION:
URL:https://hhyc.org/event/board-meeting-6pm/2025-05-14/
END:VEVENT
BEGIN:VEVENT
DTSTART;TZID=America/Los_Angeles:20250515T183000
DTEND;TZID=America/Los_Angeles:20250515T203000
DTSTAMP:20260420T211633
CREATED:20240531T031059Z
LAST-MODIFIED:20240715T164946Z
UID:10003335-1747333800-1747341000@hhyc.org
SUMMARY:HRRC Seminar 6:30p
DESCRIPTION:
URL:https://hhyc.org/event/hrrc-seminar-630p/2025-05-15/
END:VEVENT
BEGIN:VEVENT
DTSTART;TZID=America/Los_Angeles:20250516T120000
DTEND;TZID=America/Los_Angeles:20250518T100000
DTSTAMP:20260420T211633
CREATED:20250105T230732Z
LAST-MODIFIED:20250424T193247Z
UID:10003997-1747396800-1747562400@hhyc.org
SUMMARY:Cruise to Avalon
DESCRIPTION:Come cruise with us to Avalon Catalina! We have a lot of fun activities planned for this trip\, check out our itinerary and SIGN UP below! \n\n\n\nAvalonCruise2025Download\n\n\n\n\n\nPlease enable JavaScript in your browser to complete this form.Please enable JavaScript in your browser to complete this form.Name *FirstLastEmail *Phone		\n			Authorization $25 person\n			\n		\n		Additional Guest's Name(s)Authorization of the $25 Charge per person to AccountYesSubmit
URL:https://hhyc.org/event/cruise-to-avalon/
END:VEVENT
BEGIN:VEVENT
DTSTART;TZID=America/Los_Angeles:20250516T163000
DTEND;TZID=America/Los_Angeles:20250516T210000
DTSTAMP:20260420T211633
CREATED:20240530T063534Z
LAST-MODIFIED:20240715T144602Z
UID:10002869-1747413000-1747429200@hhyc.org
SUMMARY:Friday Night Dinner 4:30pm - 9pm
DESCRIPTION:
URL:https://hhyc.org/event/friday-night-dinner-430pm-9pm/2025-05-16/
END:VEVENT
END:VCALENDAR