BEGIN:VCALENDAR
VERSION:2.0
PRODID:-//Huntington Harbour Yacht Club - Huntington Beach, CA - ECPv6.15.20//NONSGML v1.0//EN
CALSCALE:GREGORIAN
METHOD:PUBLISH
X-WR-CALNAME:Huntington Harbour Yacht Club - Huntington Beach, CA
X-ORIGINAL-URL:https://hhyc.org
X-WR-CALDESC:Events for Huntington Harbour Yacht Club - Huntington Beach, CA
REFRESH-INTERVAL;VALUE=DURATION:PT1H
X-Robots-Tag:noindex
X-PUBLISHED-TTL:PT1H
BEGIN:VTIMEZONE
TZID:America/Los_Angeles
BEGIN:DAYLIGHT
TZOFFSETFROM:-0800
TZOFFSETTO:-0700
TZNAME:PDT
DTSTART:20230312T100000
END:DAYLIGHT
BEGIN:STANDARD
TZOFFSETFROM:-0700
TZOFFSETTO:-0800
TZNAME:PST
DTSTART:20231105T090000
END:STANDARD
BEGIN:DAYLIGHT
TZOFFSETFROM:-0800
TZOFFSETTO:-0700
TZNAME:PDT
DTSTART:20240310T100000
END:DAYLIGHT
BEGIN:STANDARD
TZOFFSETFROM:-0700
TZOFFSETTO:-0800
TZNAME:PST
DTSTART:20241103T090000
END:STANDARD
BEGIN:DAYLIGHT
TZOFFSETFROM:-0800
TZOFFSETTO:-0700
TZNAME:PDT
DTSTART:20250309T100000
END:DAYLIGHT
BEGIN:STANDARD
TZOFFSETFROM:-0700
TZOFFSETTO:-0800
TZNAME:PST
DTSTART:20251102T090000
END:STANDARD
BEGIN:DAYLIGHT
TZOFFSETFROM:-0800
TZOFFSETTO:-0700
TZNAME:PDT
DTSTART:20260308T100000
END:DAYLIGHT
BEGIN:STANDARD
TZOFFSETFROM:-0700
TZOFFSETTO:-0800
TZNAME:PST
DTSTART:20261101T090000
END:STANDARD
END:VTIMEZONE
BEGIN:VEVENT
DTSTART;TZID=America/Los_Angeles:20250107T170000
DTEND;TZID=America/Los_Angeles:20250107T210000
DTSTAMP:20260420T143453
CREATED:20240712T172034Z
LAST-MODIFIED:20240712T172036Z
UID:10002383-1736269200-1736283600@hhyc.org
SUMMARY:Taco Tuesday 5pm
DESCRIPTION:Bar Hours: 4:30 PM to 9:00 PMFood Service: 5:00 PM – 8:00 PM(Last call for food orders – 7:45 PM)
URL:https://hhyc.org/event/taco-tuesday-5pm-3/2025-01-07/
END:VEVENT
BEGIN:VEVENT
DTSTART;TZID=America/Los_Angeles:20250106T103000
DTEND;TZID=America/Los_Angeles:20250106T140000
DTSTAMP:20260420T143453
CREATED:20240530T065656Z
LAST-MODIFIED:20241204T200224Z
UID:10000508-1736159400-1736172000@hhyc.org
SUMMARY:Bridge Night
DESCRIPTION:Please contact the office for more information – 562.592.2186 (10a-3p)
URL:https://hhyc.org/event/bridge-night/2025-01-06/
END:VEVENT
BEGIN:VEVENT
DTSTART;TZID=America/Los_Angeles:20250106T000000
DTEND;TZID=America/Los_Angeles:20250106T090000
DTSTAMP:20260420T143453
CREATED:20240530T061239Z
LAST-MODIFIED:20240530T061241Z
UID:10000073-1736121600-1736154000@hhyc.org
SUMMARY:Club Closed
DESCRIPTION:
URL:https://hhyc.org/event/club-closed-2/2025-01-06/
END:VEVENT
BEGIN:VEVENT
DTSTART;TZID=America/Los_Angeles:20250105T130000
DTEND;TZID=America/Los_Angeles:20250105T180000
DTSTAMP:20260420T143453
CREATED:20240530T065316Z
LAST-MODIFIED:20240715T165503Z
UID:10003705-1736082000-1736100000@hhyc.org
SUMMARY:Commodore's Lounge 1pm-6pm
DESCRIPTION:Bar only with popcorn and our famous Parson’s Pretzels!
URL:https://hhyc.org/event/commodores-lounge-1pm-6pm/2025-01-05/
END:VEVENT
BEGIN:VEVENT
DTSTART;TZID=America/Los_Angeles:20250105T103000
DTEND;TZID=America/Los_Angeles:20250105T130000
DTSTAMP:20260420T143453
CREATED:20240623T005036Z
LAST-MODIFIED:20241204T194827Z
UID:10003838-1736073000-1736082000@hhyc.org
SUMMARY:Sunday Breakfast by the bay 10:30am - 1pm
DESCRIPTION:Open to the Public!  \n\n\n\n \n\n\n\nEnjoy our breathtaking harborside views while sipping on a mimosa and indulging in our delicious breakfast offerings!
URL:https://hhyc.org/event/sunday-brunch-1030am-1pm-2/2025-01-05/
END:VEVENT
BEGIN:VEVENT
DTSTART;TZID=America/Los_Angeles:20250103T163000
DTEND;TZID=America/Los_Angeles:20250103T210000
DTSTAMP:20260420T143453
CREATED:20240530T063534Z
LAST-MODIFIED:20240715T144602Z
UID:10002850-1735921800-1735938000@hhyc.org
SUMMARY:Friday Night Dinner 4:30pm - 9pm
DESCRIPTION:
URL:https://hhyc.org/event/friday-night-dinner-430pm-9pm/2025-01-03/
END:VEVENT
BEGIN:VEVENT
DTSTART;TZID=America/Los_Angeles:20250102T180000
DTEND;TZID=America/Los_Angeles:20250102T210000
DTSTAMP:20260420T143453
CREATED:20240808T212831Z
LAST-MODIFIED:20240808T213501Z
UID:10003572-1735840800-1735851600@hhyc.org
SUMMARY:Lounge Open 4:30pm-9pm
DESCRIPTION:
URL:https://hhyc.org/event/trivia-night-6pm-3/2025-01-02/
END:VEVENT
BEGIN:VEVENT
DTSTART;TZID=America/Los_Angeles:20250101T000000
DTEND;TZID=America/Los_Angeles:20250101T090000
DTSTAMP:20260420T143453
CREATED:20240530T033300Z
LAST-MODIFIED:20240711T223344Z
UID:10001553-1735689600-1735722000@hhyc.org
SUMMARY:Club Closed
DESCRIPTION:
URL:https://hhyc.org/event/club-closed/2025-01-01/
END:VEVENT
BEGIN:VEVENT
DTSTART;TZID=America/Los_Angeles:20241231T180000
DTEND;TZID=America/Los_Angeles:20250101T000000
DTSTAMP:20260420T143453
CREATED:20241205T213713Z
LAST-MODIFIED:20241205T213744Z
UID:10003994-1735668000-1735689600@hhyc.org
SUMMARY:New Years Party
DESCRIPTION:You are Cordially Invited to our NYE Winter Wonderland Extravaganza! RSVP Below!
URL:https://hhyc.org/event/new-years-party/
END:VEVENT
BEGIN:VEVENT
DTSTART;TZID=America/Los_Angeles:20241231T170000
DTEND;TZID=America/Los_Angeles:20241231T210000
DTSTAMP:20260420T143453
CREATED:20240712T172034Z
LAST-MODIFIED:20240712T172036Z
UID:10002382-1735664400-1735678800@hhyc.org
SUMMARY:Taco Tuesday 5pm
DESCRIPTION:Bar Hours: 4:30 PM to 9:00 PMFood Service: 5:00 PM – 8:00 PM(Last call for food orders – 7:45 PM)
URL:https://hhyc.org/event/taco-tuesday-5pm-3/2024-12-31/
END:VEVENT
BEGIN:VEVENT
DTSTART;TZID=America/Los_Angeles:20241230T103000
DTEND;TZID=America/Los_Angeles:20241230T140000
DTSTAMP:20260420T143453
CREATED:20240530T065656Z
LAST-MODIFIED:20241204T200224Z
UID:10000507-1735554600-1735567200@hhyc.org
SUMMARY:Bridge Night
DESCRIPTION:Please contact the office for more information – 562.592.2186 (10a-3p)
URL:https://hhyc.org/event/bridge-night/2024-12-30/
END:VEVENT
BEGIN:VEVENT
DTSTART;TZID=America/Los_Angeles:20241230T000000
DTEND;TZID=America/Los_Angeles:20241230T090000
DTSTAMP:20260420T143453
CREATED:20240530T061239Z
LAST-MODIFIED:20240530T061241Z
UID:10000072-1735516800-1735549200@hhyc.org
SUMMARY:Club Closed
DESCRIPTION:
URL:https://hhyc.org/event/club-closed-2/2024-12-30/
END:VEVENT
BEGIN:VEVENT
DTSTART;TZID=America/Los_Angeles:20241229T130000
DTEND;TZID=America/Los_Angeles:20241229T180000
DTSTAMP:20260420T143453
CREATED:20240530T065316Z
LAST-MODIFIED:20240715T165503Z
UID:10003704-1735477200-1735495200@hhyc.org
SUMMARY:Commodore's Lounge 1pm-6pm
DESCRIPTION:Bar only with popcorn and our famous Parson’s Pretzels!
URL:https://hhyc.org/event/commodores-lounge-1pm-6pm/2024-12-29/
END:VEVENT
BEGIN:VEVENT
DTSTART;TZID=America/Los_Angeles:20241229T103000
DTEND;TZID=America/Los_Angeles:20241229T130000
DTSTAMP:20260420T143453
CREATED:20240623T005036Z
LAST-MODIFIED:20241204T194827Z
UID:10003837-1735468200-1735477200@hhyc.org
SUMMARY:Sunday Breakfast by the bay 10:30am - 1pm
DESCRIPTION:Open to the Public!  \n\n\n\n \n\n\n\nEnjoy our breathtaking harborside views while sipping on a mimosa and indulging in our delicious breakfast offerings!
URL:https://hhyc.org/event/sunday-brunch-1030am-1pm-2/2024-12-29/
END:VEVENT
BEGIN:VEVENT
DTSTART;TZID=America/Los_Angeles:20241227T163000
DTEND;TZID=America/Los_Angeles:20241227T210000
DTSTAMP:20260420T143453
CREATED:20240530T063534Z
LAST-MODIFIED:20240715T144602Z
UID:10002849-1735317000-1735333200@hhyc.org
SUMMARY:Friday Night Dinner 4:30pm - 9pm
DESCRIPTION:
URL:https://hhyc.org/event/friday-night-dinner-430pm-9pm/2024-12-27/
END:VEVENT
BEGIN:VEVENT
DTSTART;TZID=America/Los_Angeles:20241226T180000
DTEND;TZID=America/Los_Angeles:20241226T210000
DTSTAMP:20260420T143453
CREATED:20240808T212831Z
LAST-MODIFIED:20240808T213501Z
UID:10003571-1735236000-1735246800@hhyc.org
SUMMARY:Lounge Open 4:30pm-9pm
DESCRIPTION:
URL:https://hhyc.org/event/trivia-night-6pm-3/2024-12-26/
END:VEVENT
BEGIN:VEVENT
DTSTART;TZID=America/Los_Angeles:20241226T170000
DTEND;TZID=America/Los_Angeles:20241226T210000
DTSTAMP:20260420T143453
CREATED:20240531T033717Z
LAST-MODIFIED:20240715T164548Z
UID:10003086-1735232400-1735246800@hhyc.org
SUMMARY:Club Cigar Night 5p
DESCRIPTION:Cigar Night is Back \n\n\n\nThe Huntington Harbour Yacht Club will be hosting our monthly Cigar Nights this Thursday evening\, January 26th. \n\n\n\n\nThe event will take place in our downstairs outdoor bayside patio area.\n\n\n\nHeaters will be provided\n\n\n\nCome enjoy a Cigar Night with\n\n\n\nStaff Commodore Rudy Lopez\, Jr.\n\n\n\nBring your favorite wraps along with your\n\n\n\ncutters and lighters\, and spend an evening amongst friends.\n\n\n\nYou are welcome to bring a bottle of wine of your choice for a corkage fee of $15.\n\n\n\n\nALSO: 2 for 1 Thursday Night Special  —  See Menu Below \n\n\n\nTWOFER menu items (2 for 1\, can be mixed\, lesser valve item discounted) with a purchase of a drink per each person \n\n\n\n If you have any questions\, please contact Rudy Lopez\, Jr. at 626-482-4246.
URL:https://hhyc.org/event/club-cigar-night-5p/2024-12-26/
END:VEVENT
BEGIN:VEVENT
DTSTART;TZID=America/Los_Angeles:20241225T190000
DTEND;TZID=America/Los_Angeles:20241225T210000
DTSTAMP:20260420T143453
CREATED:20240531T031414Z
LAST-MODIFIED:20240715T164751Z
UID:10003208-1735153200-1735160400@hhyc.org
SUMMARY:Coast Guard Auxiliary 7p
DESCRIPTION:
URL:https://hhyc.org/event/coast-guard-auxiliary-7p/2024-12-25/
END:VEVENT
BEGIN:VEVENT
DTSTART;TZID=America/Los_Angeles:20241225T000000
DTEND;TZID=America/Los_Angeles:20241225T090000
DTSTAMP:20260420T143453
CREATED:20240530T033300Z
LAST-MODIFIED:20240711T223344Z
UID:10001552-1735084800-1735117200@hhyc.org
SUMMARY:Club Closed
DESCRIPTION:
URL:https://hhyc.org/event/club-closed/2024-12-25/
END:VEVENT
BEGIN:VEVENT
DTSTART;TZID=America/Los_Angeles:20241224T170000
DTEND;TZID=America/Los_Angeles:20241224T210000
DTSTAMP:20260420T143453
CREATED:20240712T172034Z
LAST-MODIFIED:20240712T172036Z
UID:10002381-1735059600-1735074000@hhyc.org
SUMMARY:Taco Tuesday 5pm
DESCRIPTION:Bar Hours: 4:30 PM to 9:00 PMFood Service: 5:00 PM – 8:00 PM(Last call for food orders – 7:45 PM)
URL:https://hhyc.org/event/taco-tuesday-5pm-3/2024-12-24/
END:VEVENT
BEGIN:VEVENT
DTSTART;TZID=America/Los_Angeles:20241223T103000
DTEND;TZID=America/Los_Angeles:20241223T140000
DTSTAMP:20260420T143453
CREATED:20240530T065656Z
LAST-MODIFIED:20241204T200224Z
UID:10000506-1734949800-1734962400@hhyc.org
SUMMARY:Bridge Night
DESCRIPTION:Please contact the office for more information – 562.592.2186 (10a-3p)
URL:https://hhyc.org/event/bridge-night/2024-12-23/
END:VEVENT
BEGIN:VEVENT
DTSTART;TZID=America/Los_Angeles:20241223T000000
DTEND;TZID=America/Los_Angeles:20241223T090000
DTSTAMP:20260420T143453
CREATED:20240530T061239Z
LAST-MODIFIED:20240530T061241Z
UID:10000071-1734912000-1734944400@hhyc.org
SUMMARY:Club Closed
DESCRIPTION:
URL:https://hhyc.org/event/club-closed-2/2024-12-23/
END:VEVENT
BEGIN:VEVENT
DTSTART;TZID=America/Los_Angeles:20241222T130000
DTEND;TZID=America/Los_Angeles:20241222T180000
DTSTAMP:20260420T143453
CREATED:20240530T065316Z
LAST-MODIFIED:20240715T165503Z
UID:10003703-1734872400-1734890400@hhyc.org
SUMMARY:Commodore's Lounge 1pm-6pm
DESCRIPTION:Bar only with popcorn and our famous Parson’s Pretzels!
URL:https://hhyc.org/event/commodores-lounge-1pm-6pm/2024-12-22/
END:VEVENT
BEGIN:VEVENT
DTSTART;TZID=America/Los_Angeles:20241222T103000
DTEND;TZID=America/Los_Angeles:20241222T130000
DTSTAMP:20260420T143453
CREATED:20240623T005036Z
LAST-MODIFIED:20241204T194827Z
UID:10003836-1734863400-1734872400@hhyc.org
SUMMARY:Sunday Breakfast by the bay 10:30am - 1pm
DESCRIPTION:Open to the Public!  \n\n\n\n \n\n\n\nEnjoy our breathtaking harborside views while sipping on a mimosa and indulging in our delicious breakfast offerings!
URL:https://hhyc.org/event/sunday-brunch-1030am-1pm-2/2024-12-22/
END:VEVENT
BEGIN:VEVENT
DTSTART;TZID=America/Los_Angeles:20241220T163000
DTEND;TZID=America/Los_Angeles:20241220T210000
DTSTAMP:20260420T143453
CREATED:20240530T063534Z
LAST-MODIFIED:20240715T144602Z
UID:10002848-1734712200-1734728400@hhyc.org
SUMMARY:Friday Night Dinner 4:30pm - 9pm
DESCRIPTION:
URL:https://hhyc.org/event/friday-night-dinner-430pm-9pm/2024-12-20/
END:VEVENT
BEGIN:VEVENT
DTSTART;TZID=America/Los_Angeles:20241219T183000
DTEND;TZID=America/Los_Angeles:20241219T203000
DTSTAMP:20260420T143453
CREATED:20240531T031059Z
LAST-MODIFIED:20240715T164946Z
UID:10003330-1734633000-1734640200@hhyc.org
SUMMARY:HRRC Seminar 6:30p
DESCRIPTION:
URL:https://hhyc.org/event/hrrc-seminar-630p/2024-12-19/
END:VEVENT
BEGIN:VEVENT
DTSTART;TZID=America/Los_Angeles:20241219T180000
DTEND;TZID=America/Los_Angeles:20241219T210000
DTSTAMP:20260420T143453
CREATED:20240808T212831Z
LAST-MODIFIED:20240808T213501Z
UID:10003570-1734631200-1734642000@hhyc.org
SUMMARY:Lounge Open 4:30pm-9pm
DESCRIPTION:
URL:https://hhyc.org/event/trivia-night-6pm-3/2024-12-19/
END:VEVENT
BEGIN:VEVENT
DTSTART;TZID=America/Los_Angeles:20241218T000000
DTEND;TZID=America/Los_Angeles:20241218T090000
DTSTAMP:20260420T143453
CREATED:20240530T033300Z
LAST-MODIFIED:20240711T223344Z
UID:10001551-1734480000-1734512400@hhyc.org
SUMMARY:Club Closed
DESCRIPTION:
URL:https://hhyc.org/event/club-closed/2024-12-18/
END:VEVENT
BEGIN:VEVENT
DTSTART;TZID=America/Los_Angeles:20241217T170000
DTEND;TZID=America/Los_Angeles:20241217T210000
DTSTAMP:20260420T143453
CREATED:20240712T172034Z
LAST-MODIFIED:20240712T172036Z
UID:10002380-1734454800-1734469200@hhyc.org
SUMMARY:Taco Tuesday 5pm
DESCRIPTION:Bar Hours: 4:30 PM to 9:00 PMFood Service: 5:00 PM – 8:00 PM(Last call for food orders – 7:45 PM)
URL:https://hhyc.org/event/taco-tuesday-5pm-3/2024-12-17/
END:VEVENT
BEGIN:VEVENT
DTSTART;TZID=America/Los_Angeles:20241216T103000
DTEND;TZID=America/Los_Angeles:20241216T140000
DTSTAMP:20260420T143453
CREATED:20240530T065656Z
LAST-MODIFIED:20241204T200224Z
UID:10000505-1734345000-1734357600@hhyc.org
SUMMARY:Bridge Night
DESCRIPTION:Please contact the office for more information – 562.592.2186 (10a-3p)
URL:https://hhyc.org/event/bridge-night/2024-12-16/
END:VEVENT
END:VCALENDAR