BEGIN:VCALENDAR
VERSION:2.0
PRODID:-//Huntington Harbour Yacht Club - Huntington Beach, CA - ECPv6.15.20//NONSGML v1.0//EN
CALSCALE:GREGORIAN
METHOD:PUBLISH
X-WR-CALNAME:Huntington Harbour Yacht Club - Huntington Beach, CA
X-ORIGINAL-URL:https://hhyc.org
X-WR-CALDESC:Events for Huntington Harbour Yacht Club - Huntington Beach, CA
REFRESH-INTERVAL;VALUE=DURATION:PT1H
X-Robots-Tag:noindex
X-PUBLISHED-TTL:PT1H
BEGIN:VTIMEZONE
TZID:America/Los_Angeles
BEGIN:DAYLIGHT
TZOFFSETFROM:-0800
TZOFFSETTO:-0700
TZNAME:PDT
DTSTART:20250309T100000
END:DAYLIGHT
BEGIN:STANDARD
TZOFFSETFROM:-0700
TZOFFSETTO:-0800
TZNAME:PST
DTSTART:20251102T090000
END:STANDARD
BEGIN:DAYLIGHT
TZOFFSETFROM:-0800
TZOFFSETTO:-0700
TZNAME:PDT
DTSTART:20260308T100000
END:DAYLIGHT
BEGIN:STANDARD
TZOFFSETFROM:-0700
TZOFFSETTO:-0800
TZNAME:PST
DTSTART:20261101T090000
END:STANDARD
BEGIN:DAYLIGHT
TZOFFSETFROM:-0800
TZOFFSETTO:-0700
TZNAME:PDT
DTSTART:20270314T100000
END:DAYLIGHT
BEGIN:STANDARD
TZOFFSETFROM:-0700
TZOFFSETTO:-0800
TZNAME:PST
DTSTART:20271107T090000
END:STANDARD
END:VTIMEZONE
BEGIN:VEVENT
DTSTART;TZID=America/Los_Angeles:20260424T163000
DTEND;TZID=America/Los_Angeles:20260424T210000
DTSTAMP:20260424T054921
CREATED:20240530T063534Z
LAST-MODIFIED:20240715T144602Z
UID:10002918-1777048200-1777064400@hhyc.org
SUMMARY:Friday Night Dinner 4:30pm - 9pm
DESCRIPTION:
URL:https://hhyc.org/event/friday-night-dinner-430pm-9pm/2026-04-24/
END:VEVENT
BEGIN:VEVENT
DTSTART;TZID=America/Los_Angeles:20260425T120000
DTEND;TZID=America/Los_Angeles:20260425T150000
DTSTAMP:20260424T054921
CREATED:20260311T200121Z
LAST-MODIFIED:20260311T200122Z
UID:10004155-1777118400-1777129200@hhyc.org
SUMMARY:BBQ Bash on the Bay
DESCRIPTION:BBQ Bash by the Bay is a fun-filled waterfront party at HHYC! Join us on Saturday\, April 25\, 2026 at 12 PM for an afternoon of burgers\, hot dogs\, live music\, and dancing set against our beautiful harbor backdrop. Enjoy live entertainment from Lou Carlow’s Riptide! Band\, great food\, and good company by the bay. \n\n\n\n\n\n\n\nFree entry for all guests\, with $15 food tickets available for burgers and hot dogs with all the fixings.Please RSVP online or sign up in the lobby by April 21 to reserve your spot. Come hungry and ready to enjoy a lively day at the club! 🍔🎶🌅 \n\n\n\nRSVP on the Form Below!\n\n\nPlease enable JavaScript in your browser to complete this form.Please enable JavaScript in your browser to complete this form.Name *FirstLastPhone		\n			names) (Please of\n			\n		\n		Email *Total # of Guests (Please list their names) *Submit
URL:https://hhyc.org/event/bbq-bash-on-the-bay/
END:VEVENT
BEGIN:VEVENT
DTSTART;TZID=America/Los_Angeles:20260426T100000
DTEND;TZID=America/Los_Angeles:20260426T140000
DTSTAMP:20260424T054921
CREATED:20260423T203237Z
LAST-MODIFIED:20260423T203238Z
UID:10004174-1777197600-1777212000@hhyc.org
SUMMARY:Earth Day Open House
DESCRIPTION:HHYC will have an extensive brunch buffet between 10am-2pm during Bolsa Chica’s EARTH DAY FAIR
URL:https://hhyc.org/event/earth-day-open-house/
END:VEVENT
BEGIN:VEVENT
DTSTART;TZID=America/Los_Angeles:20260428T170000
DTEND;TZID=America/Los_Angeles:20260428T210000
DTSTAMP:20260424T054921
CREATED:20240712T172034Z
LAST-MODIFIED:20240712T172036Z
UID:10002451-1777395600-1777410000@hhyc.org
SUMMARY:Taco Tuesday 5pm
DESCRIPTION:Bar Hours: 4:30 PM to 9:00 PMFood Service: 5:00 PM – 8:00 PM(Last call for food orders – 7:45 PM)
URL:https://hhyc.org/event/taco-tuesday-5pm-3/2026-04-28/
END:VEVENT
END:VCALENDAR