BEGIN:VCALENDAR
VERSION:2.0
PRODID:-//Huntington Harbour Yacht Club - Huntington Beach, CA - ECPv6.15.20//NONSGML v1.0//EN
CALSCALE:GREGORIAN
METHOD:PUBLISH
X-WR-CALNAME:Huntington Harbour Yacht Club - Huntington Beach, CA
X-ORIGINAL-URL:https://hhyc.org
X-WR-CALDESC:Events for Huntington Harbour Yacht Club - Huntington Beach, CA
REFRESH-INTERVAL;VALUE=DURATION:PT1H
X-Robots-Tag:noindex
X-PUBLISHED-TTL:PT1H
BEGIN:VTIMEZONE
TZID:America/Los_Angeles
BEGIN:DAYLIGHT
TZOFFSETFROM:-0800
TZOFFSETTO:-0700
TZNAME:PDT
DTSTART:20250309T100000
END:DAYLIGHT
BEGIN:STANDARD
TZOFFSETFROM:-0700
TZOFFSETTO:-0800
TZNAME:PST
DTSTART:20251102T090000
END:STANDARD
BEGIN:DAYLIGHT
TZOFFSETFROM:-0800
TZOFFSETTO:-0700
TZNAME:PDT
DTSTART:20260308T100000
END:DAYLIGHT
BEGIN:STANDARD
TZOFFSETFROM:-0700
TZOFFSETTO:-0800
TZNAME:PST
DTSTART:20261101T090000
END:STANDARD
BEGIN:DAYLIGHT
TZOFFSETFROM:-0800
TZOFFSETTO:-0700
TZNAME:PDT
DTSTART:20270314T100000
END:DAYLIGHT
BEGIN:STANDARD
TZOFFSETFROM:-0700
TZOFFSETTO:-0800
TZNAME:PST
DTSTART:20271107T090000
END:STANDARD
END:VTIMEZONE
BEGIN:VEVENT
DTSTART;TZID=America/Los_Angeles:20260405T100000
DTEND;TZID=America/Los_Angeles:20260405T140000
DTSTAMP:20260420T074328
CREATED:20260306T211503Z
LAST-MODIFIED:20260313T184900Z
UID:10004153-1775383200-1775397600@hhyc.org
SUMMARY:Easter Brunch
DESCRIPTION:Celebrate Easter with us at our Annual Easter Brunch & Egg Hunt at Huntington Harbour Yacht Club! Bring the whole family for a festive morning filled with delicious food\, holiday cheer\, and fun activities for the kids. \n\n\n\nEnjoy a lavish brunch buffet featuring carving stations\, breakfast favorites\, and more.  \n\n\n\n(Whole menu listed below the RSVP form) \n\n\n\nAt 12 PM the Easter Bunny arrives\, followed by our annual egg hunt and photos—a highlight for children and families every year. \n\n\n\nSpots fill quickly for this popular annual event—RSVP by March 31st to reserve your table! \n\n\n\n\n\n\n\nRSVP on the form below!\n\n\nPlease enable JavaScript in your browser to complete this form.Please enable JavaScript in your browser to complete this form.Name *FirstLast		\n			you and of\n			\n		\n		PhoneEmail *Total # of Guests and Names (Please list children in attendance with their ages/if you need a highchair) *Submit  \n\n\nMenuCarving station with Easter ham\, ribs\, mac n cheese\, pancakes\, bacon\, sausage\, Quiche Lorraine\, scrambled eggs\, breakfast potatoes\, bagels with lox & cream cheese\, shrimp cocktail\, salad\, fruit\, creme brulee French toast casserole\, assorted pastries\, and 1 complimentary glass of champagne for guests 21+
URL:https://hhyc.org/event/easter-brunch-2/
END:VEVENT
BEGIN:VEVENT
DTSTART;TZID=America/Los_Angeles:20260405T130000
DTEND;TZID=America/Los_Angeles:20260405T180000
DTSTAMP:20260420T074328
CREATED:20240530T065316Z
LAST-MODIFIED:20240715T165503Z
UID:10003770-1775394000-1775412000@hhyc.org
SUMMARY:Commodore's Lounge 1pm-6pm
DESCRIPTION:Bar only with popcorn and our famous Parson’s Pretzels!
URL:https://hhyc.org/event/commodores-lounge-1pm-6pm/2026-04-05/
END:VEVENT
END:VCALENDAR