BEGIN:VCALENDAR
VERSION:2.0
PRODID:-//Huntington Harbour Yacht Club - Huntington Beach, CA - ECPv6.15.20//NONSGML v1.0//EN
CALSCALE:GREGORIAN
METHOD:PUBLISH
X-ORIGINAL-URL:https://hhyc.org
X-WR-CALDESC:Events for Huntington Harbour Yacht Club - Huntington Beach, CA
REFRESH-INTERVAL;VALUE=DURATION:PT1H
X-Robots-Tag:noindex
X-PUBLISHED-TTL:PT1H
BEGIN:VTIMEZONE
TZID:America/Los_Angeles
BEGIN:DAYLIGHT
TZOFFSETFROM:-0800
TZOFFSETTO:-0700
TZNAME:PDT
DTSTART:20250309T100000
END:DAYLIGHT
BEGIN:STANDARD
TZOFFSETFROM:-0700
TZOFFSETTO:-0800
TZNAME:PST
DTSTART:20251102T090000
END:STANDARD
BEGIN:DAYLIGHT
TZOFFSETFROM:-0800
TZOFFSETTO:-0700
TZNAME:PDT
DTSTART:20260308T100000
END:DAYLIGHT
BEGIN:STANDARD
TZOFFSETFROM:-0700
TZOFFSETTO:-0800
TZNAME:PST
DTSTART:20261101T090000
END:STANDARD
BEGIN:DAYLIGHT
TZOFFSETFROM:-0800
TZOFFSETTO:-0700
TZNAME:PDT
DTSTART:20270314T100000
END:DAYLIGHT
BEGIN:STANDARD
TZOFFSETFROM:-0700
TZOFFSETTO:-0800
TZNAME:PST
DTSTART:20271107T090000
END:STANDARD
END:VTIMEZONE
BEGIN:VEVENT
DTSTART;TZID=America/Los_Angeles:20260322T110000
DTEND;TZID=America/Los_Angeles:20260322T130000
DTSTAMP:20260424T154104
CREATED:20260214T170716Z
LAST-MODIFIED:20260214T170717Z
UID:10004146-1774177200-1774184400@hhyc.org
SUMMARY:Shell String Distribution Day
DESCRIPTION:
URL:https://hhyc.org/event/shell-string-distribution-day/
END:VEVENT
BEGIN:VEVENT
DTSTART;TZID=America/Los_Angeles:20260322T130000
DTEND;TZID=America/Los_Angeles:20260322T180000
DTSTAMP:20260424T154104
CREATED:20240530T065316Z
LAST-MODIFIED:20240715T165503Z
UID:10003768-1774184400-1774202400@hhyc.org
SUMMARY:Commodore's Lounge 1pm-6pm
DESCRIPTION:Bar only with popcorn and our famous Parson’s Pretzels!
URL:https://hhyc.org/event/commodores-lounge-1pm-6pm/2026-03-22/
END:VEVENT
END:VCALENDAR