BEGIN:VCALENDAR
VERSION:2.0
PRODID:-//Huntington Harbour Yacht Club - Huntington Beach, CA - ECPv6.15.20//NONSGML v1.0//EN
CALSCALE:GREGORIAN
METHOD:PUBLISH
X-WR-CALNAME:Huntington Harbour Yacht Club - Huntington Beach, CA
X-ORIGINAL-URL:https://hhyc.org
X-WR-CALDESC:Events for Huntington Harbour Yacht Club - Huntington Beach, CA
REFRESH-INTERVAL;VALUE=DURATION:PT1H
X-Robots-Tag:noindex
X-PUBLISHED-TTL:PT1H
BEGIN:VTIMEZONE
TZID:America/Los_Angeles
BEGIN:DAYLIGHT
TZOFFSETFROM:-0800
TZOFFSETTO:-0700
TZNAME:PDT
DTSTART:20240310T100000
END:DAYLIGHT
BEGIN:STANDARD
TZOFFSETFROM:-0700
TZOFFSETTO:-0800
TZNAME:PST
DTSTART:20241103T090000
END:STANDARD
BEGIN:DAYLIGHT
TZOFFSETFROM:-0800
TZOFFSETTO:-0700
TZNAME:PDT
DTSTART:20250309T100000
END:DAYLIGHT
BEGIN:STANDARD
TZOFFSETFROM:-0700
TZOFFSETTO:-0800
TZNAME:PST
DTSTART:20251102T090000
END:STANDARD
BEGIN:DAYLIGHT
TZOFFSETFROM:-0800
TZOFFSETTO:-0700
TZNAME:PDT
DTSTART:20260308T100000
END:DAYLIGHT
BEGIN:STANDARD
TZOFFSETFROM:-0700
TZOFFSETTO:-0800
TZNAME:PST
DTSTART:20261101T090000
END:STANDARD
END:VTIMEZONE
BEGIN:VEVENT
DTSTART;TZID=America/Los_Angeles:20250815T000000
DTEND;TZID=America/Los_Angeles:20250817T235959
DTSTAMP:20260422T012316
CREATED:20250105T231121Z
LAST-MODIFIED:20250617T205445Z
UID:10004000-1755216000-1755475199@hhyc.org
SUMMARY:Cruise To King Harbor\, Redondo Beach
DESCRIPTION:Details Forthcoming from Fleet Captain Nicole Peoples
URL:https://hhyc.org/event/cruise-tbd/
END:VEVENT
BEGIN:VEVENT
DTSTART;TZID=America/Los_Angeles:20250817T103000
DTEND;TZID=America/Los_Angeles:20250817T130000
DTSTAMP:20260422T012316
CREATED:20240623T005036Z
LAST-MODIFIED:20241204T194827Z
UID:10003894-1755426600-1755435600@hhyc.org
SUMMARY:Sunday Breakfast by the bay 10:30am - 1pm
DESCRIPTION:Open to the Public!  \n\n\n\n \n\n\n\nEnjoy our breathtaking harborside views while sipping on a mimosa and indulging in our delicious breakfast offerings!
URL:https://hhyc.org/event/sunday-brunch-1030am-1pm-2/2025-08-17/
END:VEVENT
BEGIN:VEVENT
DTSTART;TZID=America/Los_Angeles:20250817T130000
DTEND;TZID=America/Los_Angeles:20250817T180000
DTSTAMP:20260422T012316
CREATED:20240530T065316Z
LAST-MODIFIED:20240715T165503Z
UID:10003737-1755435600-1755453600@hhyc.org
SUMMARY:Commodore's Lounge 1pm-6pm
DESCRIPTION:Bar only with popcorn and our famous Parson’s Pretzels!
URL:https://hhyc.org/event/commodores-lounge-1pm-6pm/2025-08-17/
END:VEVENT
BEGIN:VEVENT
DTSTART;TZID=America/Los_Angeles:20250817T140000
DTEND;TZID=America/Los_Angeles:20250817T160000
DTSTAMP:20260422T012316
CREATED:20241204T201950Z
LAST-MODIFIED:20250528T162602Z
UID:10003977-1755439200-1755446400@hhyc.org
SUMMARY:Sea Belles Bingo
DESCRIPTION:
URL:https://hhyc.org/event/sea-belles-bingo-8/
END:VEVENT
END:VCALENDAR