BEGIN:VCALENDAR
VERSION:2.0
PRODID:-//Huntington Harbour Yacht Club - Huntington Beach, CA - ECPv6.15.20//NONSGML v1.0//EN
CALSCALE:GREGORIAN
METHOD:PUBLISH
X-ORIGINAL-URL:https://hhyc.org
X-WR-CALDESC:Events for Huntington Harbour Yacht Club - Huntington Beach, CA
REFRESH-INTERVAL;VALUE=DURATION:PT1H
X-Robots-Tag:noindex
X-PUBLISHED-TTL:PT1H
BEGIN:VTIMEZONE
TZID:America/Los_Angeles
BEGIN:DAYLIGHT
TZOFFSETFROM:-0800
TZOFFSETTO:-0700
TZNAME:PDT
DTSTART:20230312T100000
END:DAYLIGHT
BEGIN:STANDARD
TZOFFSETFROM:-0700
TZOFFSETTO:-0800
TZNAME:PST
DTSTART:20231105T090000
END:STANDARD
BEGIN:DAYLIGHT
TZOFFSETFROM:-0800
TZOFFSETTO:-0700
TZNAME:PDT
DTSTART:20240310T100000
END:DAYLIGHT
BEGIN:STANDARD
TZOFFSETFROM:-0700
TZOFFSETTO:-0800
TZNAME:PST
DTSTART:20241103T090000
END:STANDARD
BEGIN:DAYLIGHT
TZOFFSETFROM:-0800
TZOFFSETTO:-0700
TZNAME:PDT
DTSTART:20250309T100000
END:DAYLIGHT
BEGIN:STANDARD
TZOFFSETFROM:-0700
TZOFFSETTO:-0800
TZNAME:PST
DTSTART:20251102T090000
END:STANDARD
END:VTIMEZONE
BEGIN:VEVENT
DTSTART;TZID=America/Los_Angeles:20240919T120000
DTEND;TZID=America/Los_Angeles:20240919T140000
DTSTAMP:20260424T085408
CREATED:20240917T151030Z
LAST-MODIFIED:20240919T023110Z
UID:10003847-1726747200-1726754400@hhyc.org
SUMMARY:thirsty Thursday Lunch
DESCRIPTION:
URL:https://hhyc.org/event/thirsty-thursday-lunch/
END:VEVENT
BEGIN:VEVENT
DTSTART;TZID=America/Los_Angeles:20240919T163000
DTEND;TZID=America/Los_Angeles:20240919T210000
DTSTAMP:20260424T085408
CREATED:20240912T200252Z
LAST-MODIFIED:20240912T200254Z
UID:10003846-1726763400-1726779600@hhyc.org
SUMMARY:Roster Pasta Night!
DESCRIPTION:Come join us in the Commodore’s Lounge to pick up your 2024 Roster and enjoy some delicious $10 Pasta Specials!
URL:https://hhyc.org/event/roster-pasta-night-2/
END:VEVENT
BEGIN:VEVENT
DTSTART;TZID=America/Los_Angeles:20240919T180000
DTEND;TZID=America/Los_Angeles:20240919T210000
DTSTAMP:20260424T085408
CREATED:20240808T212831Z
LAST-MODIFIED:20240808T213501Z
UID:10003557-1726768800-1726779600@hhyc.org
SUMMARY:Lounge Open 4:30pm-9pm
DESCRIPTION:
URL:https://hhyc.org/event/trivia-night-6pm-3/2024-09-19/
END:VEVENT
BEGIN:VEVENT
DTSTART;TZID=America/Los_Angeles:20240919T183000
DTEND;TZID=America/Los_Angeles:20240919T203000
DTSTAMP:20260424T085408
CREATED:20240531T031059Z
LAST-MODIFIED:20240715T164946Z
UID:10003327-1726770600-1726777800@hhyc.org
SUMMARY:HRRC Seminar 6:30p
DESCRIPTION:
URL:https://hhyc.org/event/hrrc-seminar-630p/2024-09-19/
END:VEVENT
END:VCALENDAR